BEGIN:VCALENDAR
VERSION:2.0
PRODID:-//EZFacility.com, Inc.//EZL 2.5.5.28621
BEGIN:VEVENT
UID:10955362@ezleagues.ezfacility.com
DTSTAMP:20260425T000856Z
CREATED:20260425T000856Z
DTSTART:20171202T200000Z
DTEND:20171202T204800Z
LOCATION:Jessup Premier Field #1
CONTACT:
SUMMARY:ASA Greenbelt Stampede VS. Catonsville Cobras Grey
DESCRIPTION:League Name: Youth (WINTER 1) SD1 Sat/Sun 2005 U13 Boys SILVER\
 nGame Type: Regular\nGame Status: Complete\nHome Team: ASA Greenbelt Stamp
 ede\nAway Team: Catonsville Cobras Grey\nHome Score: 4\nAway Score: 3
END:VEVENT
BEGIN:VEVENT
UID:10955389@ezleagues.ezfacility.com
DTSTAMP:20260425T000856Z
CREATED:20260425T000856Z
DTSTART:20171209T200000Z
DTEND:20171209T204800Z
LOCATION:Jessup Premier Field #1
CONTACT:
SUMMARY:SAC Champs VS. Catonsville Cobras Grey
DESCRIPTION:League Name: Youth (WINTER 1) SD1 Sat/Sun 2005 U13 Boys SILVER\
 nGame Type: Regular\nGame Status: Complete\nHome Team: SAC Champs\nAway Te
 am: Catonsville Cobras Grey\nHome Score: 3\nAway Score: 4
END:VEVENT
BEGIN:VEVENT
UID:10955415@ezleagues.ezfacility.com
DTSTAMP:20260425T000856Z
CREATED:20260425T000856Z
DTSTART:20171216T210000Z
DTEND:20171216T214800Z
LOCATION:Jessup Premier Field #1
CONTACT:
SUMMARY:Catonsville Cobras Grey VS. PSC Chaos
DESCRIPTION:League Name: Youth (WINTER 1) SD1 Sat/Sun 2005 U13 Boys SILVER\
 nGame Type: Regular\nGame Status: Complete\nHome Team: Catonsville Cobras 
 Grey\nAway Team: PSC Chaos\nHome Score: 6\nAway Score: 2
END:VEVENT
BEGIN:VEVENT
UID:10955492@ezleagues.ezfacility.com
DTSTAMP:20260425T000856Z
CREATED:20260425T000856Z
DTSTART:20180106T150000Z
DTEND:20180106T154800Z
LOCATION:Jessup Premier Field #2
CONTACT:
SUMMARY:Catonsville Cobras Grey VS. ASA Greenbelt Stampede
DESCRIPTION:League Name: Youth (WINTER 1) SD1 Sat/Sun 2005 U13 Boys SILVER\
 nGame Type: Regular\nGame Status: Complete\nHome Team: Catonsville Cobras 
 Grey\nAway Team: ASA Greenbelt Stampede\nHome Score: 2\nAway Score: 5
END:VEVENT
BEGIN:VEVENT
UID:10955519@ezleagues.ezfacility.com
DTSTAMP:20260425T000856Z
CREATED:20260425T000856Z
DTSTART:20180113T170000Z
DTEND:20180113T174800Z
LOCATION:Jessup Premier Field #1
CONTACT:
SUMMARY:Catonsville Cobras Grey VS. SAC Champs
DESCRIPTION:League Name: Youth (WINTER 1) SD1 Sat/Sun 2005 U13 Boys SILVER\
 nGame Type: Regular\nGame Status: Complete\nHome Team: Catonsville Cobras 
 Grey\nAway Team: SAC Champs\nHome Score: 4\nAway Score: 2
END:VEVENT
BEGIN:VEVENT
UID:10955545@ezleagues.ezfacility.com
DTSTAMP:20260425T000856Z
CREATED:20260425T000856Z
DTSTART:20180120T170000Z
DTEND:20180120T174800Z
LOCATION:Jessup Premier Field #2
CONTACT:
SUMMARY:PSC Chaos VS. Catonsville Cobras Grey
DESCRIPTION:League Name: Youth (WINTER 1) SD1 Sat/Sun 2005 U13 Boys SILVER\
 nGame Type: Regular\nGame Status: Complete\nHome Team: PSC Chaos\nAway Tea
 m: Catonsville Cobras Grey\nHome Score: 0\nAway Score: 2
END:VEVENT
BEGIN:VEVENT
UID:10955440@ezleagues.ezfacility.com
DTSTAMP:20260425T000856Z
CREATED:20260425T000856Z
DTSTART:20180127T150000Z
DTEND:20180127T154800Z
LOCATION:Jessup Premier Field #2
CONTACT:
SUMMARY:Laurel United VS. Catonsville Cobras Grey
DESCRIPTION:League Name: Youth (WINTER 1) SD1 Sat/Sun 2005 U13 Boys SILVER\
 nGame Type: Regular\nGame Status: Complete\nHome Team: Laurel United\nAway
  Team: Catonsville Cobras Grey\nHome Score: 4\nAway Score: 4
END:VEVENT
BEGIN:VEVENT
UID:10955465@ezleagues.ezfacility.com
DTSTAMP:20260425T000856Z
CREATED:20260425T000856Z
DTSTART:20180203T150000Z
DTEND:20180203T154800Z
LOCATION:Jessup Premier Field #1
CONTACT:
SUMMARY:Catonsville Cobras Grey VS. Catonsville Cobras Blue
DESCRIPTION:League Name: Youth (WINTER 1) SD1 Sat/Sun 2005 U13 Boys SILVER\
 nGame Type: Regular\nGame Status: Complete\nHome Team: Catonsville Cobras 
 Grey\nAway Team: Catonsville Cobras Blue\nHome Score: 4\nAway Score: 1
END:VEVENT
END:VCALENDAR
