BEGIN:VCALENDAR
VERSION:2.0
PRODID:-//EZFacility.com, Inc.//EZL 2.5.5.28621
BEGIN:VEVENT
UID:15224669@ezleagues.ezfacility.com
DTSTAMP:20260425T000826Z
CREATED:20260425T000826Z
DTSTART:20230914T010000Z
DTEND:20230914T020000Z
LOCATION:Sand Court 4
CONTACT:
SUMMARY:Steph/Jer VS. To Kill a Blocking Nerd
DESCRIPTION:League Name: Wednesday Men's 2's A/BB FALL 23\nGame Type: Regul
 ar\nGame Status: Complete\nHome Team: Steph/Jer\nAway Team: To Kill a Bloc
 king Nerd\nHome Score: 0\nAway Score: 3
END:VEVENT
BEGIN:VEVENT
UID:15224673@ezleagues.ezfacility.com
DTSTAMP:20260425T000826Z
CREATED:20260425T000826Z
DTSTART:20230921T010000Z
DTEND:20230921T020000Z
LOCATION:Sand Court 4
CONTACT:
SUMMARY:Hitters are Quitters VS. To Kill a Blocking Nerd
DESCRIPTION:League Name: Wednesday Men's 2's A/BB FALL 23\nGame Type: Regul
 ar\nGame Status: Complete\nHome Team: Hitters are Quitters\nAway Team: To 
 Kill a Blocking Nerd\nHome Score: 0\nAway Score: 3
END:VEVENT
BEGIN:VEVENT
UID:15224677@ezleagues.ezfacility.com
DTSTAMP:20260425T000826Z
CREATED:20260425T000826Z
DTSTART:20230927T230000Z
DTEND:20230928T000000Z
LOCATION:Sand Court 4
CONTACT:
SUMMARY:Setting Ducks VS. To Kill a Blocking Nerd
DESCRIPTION:League Name: Wednesday Men's 2's A/BB FALL 23\nGame Type: Regul
 ar\nGame Status: Complete\nHome Team: Setting Ducks\nAway Team: To Kill a 
 Blocking Nerd\nHome Score: 1\nAway Score: 2
END:VEVENT
BEGIN:VEVENT
UID:15224681@ezleagues.ezfacility.com
DTSTAMP:20260425T000826Z
CREATED:20260425T000826Z
DTSTART:20231005T010000Z
DTEND:20231005T020000Z
LOCATION:Sand Court 4
CONTACT:
SUMMARY:To Kill a Blocking Nerd VS. Hirst/Hirst
DESCRIPTION:League Name: Wednesday Men's 2's A/BB FALL 23\nGame Type: Regul
 ar\nGame Status: Complete\nHome Team: To Kill a Blocking Nerd\nAway Team: 
 Hirst/Hirst\nHome Score: 3\nAway Score: 0
END:VEVENT
BEGIN:VEVENT
UID:15224687@ezleagues.ezfacility.com
DTSTAMP:20260425T000826Z
CREATED:20260425T000826Z
DTSTART:20231012T000000Z
DTEND:20231012T010000Z
LOCATION:Sand Court 4
CONTACT:
SUMMARY:To Kill a Blocking Nerd VS. Tim/Tom
DESCRIPTION:League Name: Wednesday Men's 2's A/BB FALL 23\nGame Type: Regul
 ar\nGame Status: Complete\nHome Team: To Kill a Blocking Nerd\nAway Team: 
 Tim/Tom\nHome Score: 3\nAway Score: 0
END:VEVENT
BEGIN:VEVENT
UID:15224693@ezleagues.ezfacility.com
DTSTAMP:20260425T000826Z
CREATED:20260425T000826Z
DTSTART:20231019T010000Z
DTEND:20231019T020000Z
LOCATION:Sand Court 4
CONTACT:
SUMMARY:To Kill a Blocking Nerd VS. Rapini / Rapini
DESCRIPTION:League Name: Wednesday Men's 2's A/BB FALL 23\nGame Type: Regul
 ar\nGame Status: Complete\nHome Team: To Kill a Blocking Nerd\nAway Team: 
 Rapini / Rapini\nHome Score: 3\nAway Score: 0
END:VEVENT
BEGIN:VEVENT
UID:15224699@ezleagues.ezfacility.com
DTSTAMP:20260425T000826Z
CREATED:20260425T000826Z
DTSTART:20231026T010000Z
DTEND:20231026T020000Z
LOCATION:Sand Court 4
CONTACT:
SUMMARY:To Kill a Blocking Nerd VS. Justin and seth
DESCRIPTION:League Name: Wednesday Men's 2's A/BB FALL 23\nGame Type: Regul
 ar\nGame Status: Complete\nHome Team: To Kill a Blocking Nerd\nAway Team: 
 Justin and seth\nHome Score: 3\nAway Score: 0
END:VEVENT
BEGIN:VEVENT
UID:15224705@ezleagues.ezfacility.com
DTSTAMP:20260425T000826Z
CREATED:20260425T000826Z
DTSTART:20231102T020000Z
DTEND:20231102T030000Z
LOCATION:Sand Court 4
CONTACT:
SUMMARY:To Kill a Blocking Nerd VS. The Anesthetic Aces
DESCRIPTION:League Name: Wednesday Men's 2's A/BB FALL 23\nGame Type: Regul
 ar\nGame Status: Complete\nHome Team: To Kill a Blocking Nerd\nAway Team: 
 The Anesthetic Aces\nHome Score: 3\nAway Score: 0
END:VEVENT
BEGIN:VEVENT
UID:15224710@ezleagues.ezfacility.com
DTSTAMP:20260425T000826Z
CREATED:20260425T000826Z
DTSTART:20231109T030000Z
DTEND:20231109T040000Z
LOCATION:Sand Court 4
CONTACT:
SUMMARY:Tuga 2 VS. To Kill a Blocking Nerd
DESCRIPTION:League Name: Wednesday Men's 2's A/BB FALL 23\nGame Type: Regul
 ar\nGame Status: Complete\nHome Team: Tuga 2\nAway Team: To Kill a Blockin
 g Nerd\nHome Score: 0\nAway Score: 3
END:VEVENT
BEGIN:VEVENT
UID:15390283@ezleagues.ezfacility.com
DTSTAMP:20260425T000826Z
CREATED:20260425T000826Z
DTSTART:20231115T234500Z
DTEND:20231116T003000Z
LOCATION:Sand Court 4
CONTACT:
SUMMARY:To Kill a Blocking Nerd VS. Hitters are Quitters
DESCRIPTION:League Name: Wednesday Men's 2's A/BB FALL 23\nGame Type: Posts
 eason\nGame Status: Complete\nHome Team: To Kill a Blocking Nerd\nAway Tea
 m: Hitters are Quitters\nHome Score: 2\nAway Score: 0
END:VEVENT
BEGIN:VEVENT
UID:15390296@ezleagues.ezfacility.com
DTSTAMP:20260425T000826Z
CREATED:20260425T000826Z
DTSTART:20231130T000000Z
DTEND:20231130T004500Z
LOCATION:Sand Court 4
CONTACT:
SUMMARY:To Kill a Blocking Nerd VS. The Anesthetic Aces
DESCRIPTION:League Name: Wednesday Men's 2's A/BB FALL 23\nGame Type: Posts
 eason\nGame Status: Cancelled\nHome Team: To Kill a Blocking Nerd\nAway Te
 am: The Anesthetic Aces\n
END:VEVENT
END:VCALENDAR
