BEGIN:VCALENDAR
VERSION:2.0
PRODID:-//EZFacility.com, Inc.//EZL 2.5.5.28621
BEGIN:VEVENT
UID:15298013@ezleagues.ezfacility.com
DTSTAMP:20260425T000926Z
CREATED:20260425T000926Z
DTSTART:20231014T000000Z
DTEND:20231014T010000Z
LOCATION:VA Army National Guard Field 2
CONTACT:Martinez
SUMMARY:Edwin's Team VS. Goncho FC
DESCRIPTION:League Name: Friday, October 13, 2023 Men's Over - 40\nGame Typ
 e: Regular\nGame Status: Complete\nHome Team: Edwin's Team\nAway Team: Gon
 cho FC\nHome Score: 8\nAway Score: 11
END:VEVENT
BEGIN:VEVENT
UID:15298016@ezleagues.ezfacility.com
DTSTAMP:20260425T000926Z
CREATED:20260425T000926Z
DTSTART:20231021T010000Z
DTEND:20231021T020000Z
LOCATION:Field 1
CONTACT:Wise
SUMMARY:JNK United VS. Goncho FC
DESCRIPTION:League Name: Friday, October 13, 2023 Men's Over - 40\nGame Typ
 e: Regular\nGame Status: Complete\nHome Team: JNK United\nAway Team: Gonch
 o FC\nHome Score: 9\nAway Score: 10
END:VEVENT
BEGIN:VEVENT
UID:15298018@ezleagues.ezfacility.com
DTSTAMP:20260425T000926Z
CREATED:20260425T000926Z
DTSTART:20231028T010000Z
DTEND:20231028T020000Z
LOCATION:Field 1
CONTACT:Wise
SUMMARY:Pushing for a goal VS. Goncho FC
DESCRIPTION:League Name: Friday, October 13, 2023 Men's Over - 40\nGame Typ
 e: Regular\nGame Status: Complete\nHome Team: Pushing for a goal\nAway Tea
 m: Goncho FC\nHome Score: 3\nAway Score: 8
END:VEVENT
BEGIN:VEVENT
UID:15298019@ezleagues.ezfacility.com
DTSTAMP:20260425T000926Z
CREATED:20260425T000926Z
DTSTART:20231104T010000Z
DTEND:20231104T020000Z
LOCATION:Field 1
CONTACT:Zelaya
SUMMARY:Goncho FC VS. Edwin's Team
DESCRIPTION:League Name: Friday, October 13, 2023 Men's Over - 40\nGame Typ
 e: Regular\nGame Status: Complete\nHome Team: Goncho FC\nAway Team: Edwin'
 s Team\nHome Score: 4\nAway Score: 7
END:VEVENT
BEGIN:VEVENT
UID:15298022@ezleagues.ezfacility.com
DTSTAMP:20260425T000926Z
CREATED:20260425T000926Z
DTSTART:20231111T010000Z
DTEND:20231111T020000Z
LOCATION:VA Army National Guard Field 2
CONTACT:Esquerre
SUMMARY:Goncho FC VS. JNK United
DESCRIPTION:League Name: Friday, October 13, 2023 Men's Over - 40\nGame Typ
 e: Regular\nGame Status: Complete\nHome Team: Goncho FC\nAway Team: JNK Un
 ited\nHome Score: 5\nAway Score: 12
END:VEVENT
BEGIN:VEVENT
UID:15298060@ezleagues.ezfacility.com
DTSTAMP:20260425T000926Z
CREATED:20260425T000926Z
DTSTART:20231118T020000Z
DTEND:20231118T030000Z
LOCATION:VA Army National Guard Field 2
CONTACT:Esquerre
SUMMARY:Goncho FC VS. Edwin's Team
DESCRIPTION:League Name: Friday, October 13, 2023 Men's Over - 40\nGame Typ
 e: Postseason\nGame Status: Complete\nHome Team: Goncho FC\nAway Team: Edw
 in's Team\nHome Score: 7\nAway Score: 4
END:VEVENT
BEGIN:VEVENT
UID:15298061@ezleagues.ezfacility.com
DTSTAMP:20260425T000926Z
CREATED:20260425T000926Z
DTSTART:20231202T010000Z
DTEND:20231202T020000Z
LOCATION: Field 3
CONTACT:Esquerre
SUMMARY:JNK United VS. Goncho FC
DESCRIPTION:League Name: Friday, October 13, 2023 Men's Over - 40\nGame Typ
 e: Postseason\nGame Status: Complete\nHome Team: JNK United\nAway Team: Go
 ncho FC\nHome Score: 6\nAway Score: 4
END:VEVENT
END:VCALENDAR
