BEGIN:VCALENDAR
VERSION:2.0
PRODID:-//EZFacility.com, Inc.//EZL 2.5.5.28621
BEGIN:VEVENT
UID:4946681@ezleagues.ezfacility.com
DTSTAMP:20260420T032818Z
CREATED:20260420T032818Z
DTSTART:20120516T223000Z
DTEND:20120517T000000Z
LOCATION:Field_12
CONTACT:
SUMMARY:Loco Zestas VS. Superclasico FC
DESCRIPTION:League Name: Spring Outdoor 2012 Men's 30+ West\nGame Type: Reg
 ular\nGame Status: Complete\nHome Team: Loco Zestas\nAway Team: Superclasi
 co FC\nHome Score: 2\nAway Score: 6
END:VEVENT
BEGIN:VEVENT
UID:4946685@ezleagues.ezfacility.com
DTSTAMP:20260420T032818Z
CREATED:20260420T032818Z
DTSTART:20120523T223000Z
DTEND:20120524T000000Z
LOCATION:Field 02
CONTACT:
SUMMARY:Superclasico FC VS. Diversity FC
DESCRIPTION:League Name: Spring Outdoor 2012 Men's 30+ West\nGame Type: Reg
 ular\nGame Status: Complete\nHome Team: Superclasico FC\nAway Team: Divers
 ity FC\nHome Score: 8\nAway Score: 3
END:VEVENT
BEGIN:VEVENT
UID:4946688@ezleagues.ezfacility.com
DTSTAMP:20260420T032818Z
CREATED:20260420T032818Z
DTSTART:20120530T223000Z
DTEND:20120531T000000Z
LOCATION:Field 10
CONTACT:
SUMMARY:Superclasico FC VS. FC Red Card
DESCRIPTION:League Name: Spring Outdoor 2012 Men's 30+ West\nGame Type: Reg
 ular\nGame Status: Complete\nHome Team: Superclasico FC\nAway Team: FC Red
  Card\nHome Score: 7\nAway Score: 1
END:VEVENT
BEGIN:VEVENT
UID:4946690@ezleagues.ezfacility.com
DTSTAMP:20260420T032818Z
CREATED:20260420T032818Z
DTSTART:20120606T223000Z
DTEND:20120607T000000Z
LOCATION:Field 08
CONTACT:
SUMMARY:Warfighters FC VS. Superclasico FC
DESCRIPTION:League Name: Spring Outdoor 2012 Men's 30+ West\nGame Type: Reg
 ular\nGame Status: Complete\nHome Team: Warfighters FC\nAway Team: Supercl
 asico FC\nHome Score: 2\nAway Score: 4
END:VEVENT
BEGIN:VEVENT
UID:4946692@ezleagues.ezfacility.com
DTSTAMP:20260420T032818Z
CREATED:20260420T032818Z
DTSTART:20120613T223000Z
DTEND:20120614T000000Z
LOCATION:Field 07
CONTACT:
SUMMARY:Riff Raff VS. Superclasico FC
DESCRIPTION:League Name: Spring Outdoor 2012 Men's 30+ West\nGame Type: Reg
 ular\nGame Status: Complete\nHome Team: Riff Raff\nAway Team: Superclasico
  FC\nHome Score: 3\nAway Score: 6
END:VEVENT
BEGIN:VEVENT
UID:4946698@ezleagues.ezfacility.com
DTSTAMP:20260420T032818Z
CREATED:20260420T032818Z
DTSTART:20120627T223000Z
DTEND:20120628T000000Z
LOCATION:Field 05
CONTACT:
SUMMARY:Superclasico FC VS. Don't Panic
DESCRIPTION:League Name: Spring Outdoor 2012 Men's 30+ West\nGame Type: Reg
 ular\nGame Status: Complete\nHome Team: Superclasico FC\nAway Team: Don't 
 Panic\nHome Score: 5\nAway Score: 0
END:VEVENT
BEGIN:VEVENT
UID:4946701@ezleagues.ezfacility.com
DTSTAMP:20260420T032818Z
CREATED:20260420T032818Z
DTSTART:20120711T223000Z
DTEND:20120712T000000Z
LOCATION:Field 07
CONTACT:
SUMMARY:Superclasico FC VS. Loco Zestas
DESCRIPTION:League Name: Spring Outdoor 2012 Men's 30+ West\nGame Type: Reg
 ular\nGame Status: Complete\nHome Team: Superclasico FC\nAway Team: Loco Z
 estas\nHome Score: 1\nAway Score: 1
END:VEVENT
BEGIN:VEVENT
UID:4946704@ezleagues.ezfacility.com
DTSTAMP:20260420T032818Z
CREATED:20260420T032818Z
DTSTART:20120725T223000Z
DTEND:20120726T000000Z
LOCATION:Field 10
CONTACT:
SUMMARY:Superclasico FC VS. Riff Raff
DESCRIPTION:League Name: Spring Outdoor 2012 Men's 30+ West\nGame Type: Reg
 ular\nGame Status: Complete\nHome Team: Superclasico FC\nAway Team: Riff R
 aff\nHome Score: 2\nAway Score: 4
END:VEVENT
BEGIN:VEVENT
UID:5098625@ezleagues.ezfacility.com
DTSTAMP:20260420T032818Z
CREATED:20260420T032818Z
DTSTART:20120801T223000Z
DTEND:20120802T000000Z
LOCATION:Field 09
CONTACT:
SUMMARY:Riff Raff VS. Superclasico FC
DESCRIPTION:League Name: Spring Outdoor 2012 Men's 30+ West\nGame Type: Pos
 tseason\nGame Status: Complete\nHome Team: Riff Raff\nAway Team: Superclas
 ico FC\nHome Score: 1\nAway Score: 0
END:VEVENT
END:VCALENDAR
