BEGIN:VCALENDAR
VERSION:2.0
PRODID:-//EZFacility.com, Inc.//EZL 2.5.5.28621
BEGIN:VEVENT
UID:4946585@ezleagues.ezfacility.com
DTSTAMP:20260425T195022Z
CREATED:20260425T195022Z
DTSTART:20120509T223000Z
DTEND:20120510T000000Z
LOCATION:Field 01
CONTACT:
SUMMARY:Gitches VS. Loc Ness Monsters
DESCRIPTION:League Name: Spring Outdoor 2012 Men's 30+  South\nGame Type: R
 egular\nGame Status: Complete\nHome Team: Gitches\nAway Team: Loc Ness Mon
 sters\nHome Score: 3\nAway Score: 0
END:VEVENT
BEGIN:VEVENT
UID:4946603@ezleagues.ezfacility.com
DTSTAMP:20260425T195022Z
CREATED:20260425T195022Z
DTSTART:20120516T223000Z
DTEND:20120517T000000Z
LOCATION:Field 03
CONTACT:
SUMMARY:Loc Ness Monsters VS. Janis
DESCRIPTION:League Name: Spring Outdoor 2012 Men's 30+  South\nGame Type: R
 egular\nGame Status: Complete\nHome Team: Loc Ness Monsters\nAway Team: Ja
 nis\nHome Score: 0\nAway Score: 3
END:VEVENT
BEGIN:VEVENT
UID:4946607@ezleagues.ezfacility.com
DTSTAMP:20260425T195022Z
CREATED:20260425T195022Z
DTSTART:20120523T223000Z
DTEND:20120524T000000Z
LOCATION:Field 06
CONTACT:
SUMMARY:Super Team VS. Loc Ness Monsters
DESCRIPTION:League Name: Spring Outdoor 2012 Men's 30+  South\nGame Type: R
 egular\nGame Status: Complete\nHome Team: Super Team\nAway Team: Loc Ness 
 Monsters\nHome Score: 3\nAway Score: 0
END:VEVENT
BEGIN:VEVENT
UID:4946611@ezleagues.ezfacility.com
DTSTAMP:20260425T195022Z
CREATED:20260425T195022Z
DTSTART:20120530T223000Z
DTEND:20120531T000000Z
LOCATION:Field 07
CONTACT:
SUMMARY:Loc Ness Monsters VS. MFC
DESCRIPTION:League Name: Spring Outdoor 2012 Men's 30+  South\nGame Type: R
 egular\nGame Status: Complete\nHome Team: Loc Ness Monsters\nAway Team: MF
 C\nHome Score: 0\nAway Score: 3
END:VEVENT
BEGIN:VEVENT
UID:4946614@ezleagues.ezfacility.com
DTSTAMP:20260425T195022Z
CREATED:20260425T195022Z
DTSTART:20120606T223000Z
DTEND:20120607T000000Z
LOCATION:Field 02
CONTACT:
SUMMARY:Green Monsters FC VS. Loc Ness Monsters
DESCRIPTION:League Name: Spring Outdoor 2012 Men's 30+  South\nGame Type: R
 egular\nGame Status: Complete\nHome Team: Green Monsters FC\nAway Team: Lo
 c Ness Monsters\nHome Score: 3\nAway Score: 0
END:VEVENT
END:VCALENDAR
