BEGIN:VCALENDAR
VERSION:2.0
PRODID:-//EZFacility.com, Inc.//EZL 2.5.5.28621
BEGIN:VEVENT
UID:5128773@ezleagues.ezfacility.com
DTSTAMP:20260426T034957Z
CREATED:20260426T034957Z
DTSTART:20120806T223000Z
DTEND:20120807T000000Z
LOCATION:Field C
CONTACT:
SUMMARY:Crazy 8's VS. Fighting Crabs
DESCRIPTION:League Name: Fall Outdoor 2012 Women's 25+ 7v7\nGame Type: Regu
 lar\nGame Status: Complete\nHome Team: Crazy 8's\nAway Team: Fighting Crab
 s\nHome Score: 3\nAway Score: 6
END:VEVENT
BEGIN:VEVENT
UID:5139831@ezleagues.ezfacility.com
DTSTAMP:20260426T034957Z
CREATED:20260426T034957Z
DTSTART:20120813T223000Z
DTEND:20120814T000000Z
LOCATION:Field E
CONTACT:
SUMMARY:Columbus United VS. Fighting Crabs
DESCRIPTION:League Name: Fall Outdoor 2012 Women's 25+ 7v7\nGame Type: Regu
 lar\nGame Status: Complete\nHome Team: Columbus United\nAway Team: Fightin
 g Crabs\nHome Score: 1\nAway Score: 2
END:VEVENT
BEGIN:VEVENT
UID:5139833@ezleagues.ezfacility.com
DTSTAMP:20260426T034957Z
CREATED:20260426T034957Z
DTSTART:20120820T223000Z
DTEND:20120821T000000Z
LOCATION:Field H
CONTACT:
SUMMARY:Fighting Crabs VS. Dirty Divas
DESCRIPTION:League Name: Fall Outdoor 2012 Women's 25+ 7v7\nGame Type: Regu
 lar\nGame Status: Complete\nHome Team: Fighting Crabs\nAway Team: Dirty Di
 vas\nHome Score: 6\nAway Score: 1
END:VEVENT
BEGIN:VEVENT
UID:5139839@ezleagues.ezfacility.com
DTSTAMP:20260426T034957Z
CREATED:20260426T034957Z
DTSTART:20120827T223000Z
DTEND:20120828T000000Z
LOCATION:Field F
CONTACT:
SUMMARY:Fighting Crabs VS. Cluster FC
DESCRIPTION:League Name: Fall Outdoor 2012 Women's 25+ 7v7\nGame Type: Regu
 lar\nGame Status: Complete\nHome Team: Fighting Crabs\nAway Team: Cluster 
 FC\nHome Score: 3\nAway Score: 2
END:VEVENT
BEGIN:VEVENT
UID:5139841@ezleagues.ezfacility.com
DTSTAMP:20260426T034957Z
CREATED:20260426T034957Z
DTSTART:20120910T223000Z
DTEND:20120911T000000Z
LOCATION:Field D
CONTACT:
SUMMARY:Galaxy VS. Fighting Crabs
DESCRIPTION:League Name: Fall Outdoor 2012 Women's 25+ 7v7\nGame Type: Regu
 lar\nGame Status: Complete\nHome Team: Galaxy\nAway Team: Fighting Crabs\n
 Home Score: 3\nAway Score: 6
END:VEVENT
BEGIN:VEVENT
UID:5139849@ezleagues.ezfacility.com
DTSTAMP:20260426T034957Z
CREATED:20260426T034957Z
DTSTART:20120917T223000Z
DTEND:20120918T000000Z
LOCATION:Field B
CONTACT:
SUMMARY:Fighting Crabs VS. Latinas
DESCRIPTION:League Name: Fall Outdoor 2012 Women's 25+ 7v7\nGame Type: Regu
 lar\nGame Status: Complete\nHome Team: Fighting Crabs\nAway Team: Latinas\
 nHome Score: 9\nAway Score: 1
END:VEVENT
BEGIN:VEVENT
UID:5139853@ezleagues.ezfacility.com
DTSTAMP:20260426T034957Z
CREATED:20260426T034957Z
DTSTART:20120924T223000Z
DTEND:20120925T000000Z
LOCATION:Field C
CONTACT:
SUMMARY:Dirty Divas VS. Fighting Crabs
DESCRIPTION:League Name: Fall Outdoor 2012 Women's 25+ 7v7\nGame Type: Regu
 lar\nGame Status: Complete\nHome Team: Dirty Divas\nAway Team: Fighting Cr
 abs\nHome Score: 1\nAway Score: 7
END:VEVENT
BEGIN:VEVENT
UID:5139858@ezleagues.ezfacility.com
DTSTAMP:20260426T034957Z
CREATED:20260426T034957Z
DTSTART:20121001T220000Z
DTEND:20121001T233000Z
LOCATION:Field D
CONTACT:
SUMMARY:Kick This VS. Fighting Crabs
DESCRIPTION:League Name: Fall Outdoor 2012 Women's 25+ 7v7\nGame Type: Regu
 lar\nGame Status: Complete\nHome Team: Kick This\nAway Team: Fighting Crab
 s\nHome Score: 1\nAway Score: 7
END:VEVENT
BEGIN:VEVENT
UID:5274881@ezleagues.ezfacility.com
DTSTAMP:20260426T034957Z
CREATED:20260426T034957Z
DTSTART:20121008T220000Z
DTEND:20121008T233000Z
LOCATION:Field G
CONTACT:
SUMMARY:Fighting Crabs VS. Columbus United
DESCRIPTION:League Name: Fall Outdoor 2012 Women's 25+ 7v7\nGame Type: Post
 season\nGame Status: Complete\nHome Team: Fighting Crabs\nAway Team: Colum
 bus United\nHome Score: 2\nAway Score: 0
END:VEVENT
END:VCALENDAR
