BEGIN:VCALENDAR
VERSION:2.0
PRODID:-//EZFacility.com, Inc.//EZL 2.5.5.28621
BEGIN:VEVENT
UID:5130486@ezleagues.ezfacility.com
DTSTAMP:20260426T033631Z
CREATED:20260426T033631Z
DTSTART:20120805T183000Z
DTEND:20120805T200000Z
LOCATION:Field C
CONTACT:
SUMMARY:War Tees VS. Giggle Monsters
DESCRIPTION:League Name: Fall Outdoor 2012 Coed 0pen 7v7 Sundays South\nGam
 e Type: Regular\nGame Status: Complete\nHome Team: War Tees\nAway Team: Gi
 ggle Monsters\nHome Score: 4\nAway Score: 9
END:VEVENT
BEGIN:VEVENT
UID:5139080@ezleagues.ezfacility.com
DTSTAMP:20260426T033631Z
CREATED:20260426T033631Z
DTSTART:20120812T170000Z
DTEND:20120812T183000Z
LOCATION:Field E
CONTACT:
SUMMARY:War Tees VS. 7 Nation Army
DESCRIPTION:League Name: Fall Outdoor 2012 Coed 0pen 7v7 Sundays South\nGam
 e Type: Regular\nGame Status: Complete\nHome Team: War Tees\nAway Team: 7 
 Nation Army\nHome Score: 3\nAway Score: 7
END:VEVENT
BEGIN:VEVENT
UID:5139088@ezleagues.ezfacility.com
DTSTAMP:20260426T033631Z
CREATED:20260426T033631Z
DTSTART:20120819T183000Z
DTEND:20120819T200000Z
LOCATION:Field D
CONTACT:
SUMMARY:War Tees VS. Court Street Elite
DESCRIPTION:League Name: Fall Outdoor 2012 Coed 0pen 7v7 Sundays South\nGam
 e Type: Regular\nGame Status: Complete\nHome Team: War Tees\nAway Team: Co
 urt Street Elite\nHome Score: 0\nAway Score: 2
END:VEVENT
BEGIN:VEVENT
UID:5139091@ezleagues.ezfacility.com
DTSTAMP:20260426T033631Z
CREATED:20260426T033631Z
DTSTART:20120826T170000Z
DTEND:20120826T183000Z
LOCATION:Field   ID 1
CONTACT:
SUMMARY:Barely Breathing VS. War Tees
DESCRIPTION:League Name: Fall Outdoor 2012 Coed 0pen 7v7 Sundays South\nGam
 e Type: Regular\nGame Status: Complete\nHome Team: Barely Breathing\nAway 
 Team: War Tees\nHome Score: 6\nAway Score: 2
END:VEVENT
BEGIN:VEVENT
UID:5139096@ezleagues.ezfacility.com
DTSTAMP:20260426T033631Z
CREATED:20260426T033631Z
DTSTART:20120909T170000Z
DTEND:20120909T183000Z
LOCATION:Field F
CONTACT:
SUMMARY:FC Patron VS. War Tees
DESCRIPTION:League Name: Fall Outdoor 2012 Coed 0pen 7v7 Sundays South\nGam
 e Type: Regular\nGame Status: Complete\nHome Team: FC Patron\nAway Team: W
 ar Tees\nHome Score: 4\nAway Score: 3
END:VEVENT
BEGIN:VEVENT
UID:5139103@ezleagues.ezfacility.com
DTSTAMP:20260426T033631Z
CREATED:20260426T033631Z
DTSTART:20120916T170000Z
DTEND:20120916T183000Z
LOCATION:Field E
CONTACT:
SUMMARY:War Tees VS. Shake N Bake
DESCRIPTION:League Name: Fall Outdoor 2012 Coed 0pen 7v7 Sundays South\nGam
 e Type: Regular\nGame Status: Complete\nHome Team: War Tees\nAway Team: Sh
 ake N Bake\nHome Score: 1\nAway Score: 6
END:VEVENT
BEGIN:VEVENT
UID:5139106@ezleagues.ezfacility.com
DTSTAMP:20260426T033631Z
CREATED:20260426T033631Z
DTSTART:20120923T170000Z
DTEND:20120923T183000Z
LOCATION:Field F
CONTACT:
SUMMARY:First Timers VS. War Tees
DESCRIPTION:League Name: Fall Outdoor 2012 Coed 0pen 7v7 Sundays South\nGam
 e Type: Regular\nGame Status: Complete\nHome Team: First Timers\nAway Team
 : War Tees\nHome Score: 5\nAway Score: 4
END:VEVENT
BEGIN:VEVENT
UID:5139115@ezleagues.ezfacility.com
DTSTAMP:20260426T033631Z
CREATED:20260426T033631Z
DTSTART:20120930T183000Z
DTEND:20120930T200000Z
LOCATION:Field J
CONTACT:
SUMMARY:War Tees VS. CSA Utd
DESCRIPTION:League Name: Fall Outdoor 2012 Coed 0pen 7v7 Sundays South\nGam
 e Type: Regular\nGame Status: Complete\nHome Team: War Tees\nAway Team: CS
 A Utd\nHome Score: 4\nAway Score: 0
END:VEVENT
END:VCALENDAR
