BEGIN:VCALENDAR
VERSION:2.0
PRODID:-//EZFacility.com, Inc.//EZL 2.5.5.28621
BEGIN:VEVENT
UID:5321880@ezleagues.ezfacility.com
DTSTAMP:20260424T043157Z
CREATED:20260424T043157Z
DTSTART:20121021T122100Z
DTEND:20121021T131200Z
LOCATION:Field   ID 1
CONTACT:
SUMMARY:United VS. Graywolves
DESCRIPTION:League Name: Fall Indoor 2012  Men's 40+\nGame Type: Regular\nG
 ame Status: Complete\nHome Team: United\nAway Team: Graywolves\nHome Score
 : 7\nAway Score: 7
END:VEVENT
BEGIN:VEVENT
UID:5349198@ezleagues.ezfacility.com
DTSTAMP:20260424T043157Z
CREATED:20260424T043157Z
DTSTART:20121028T122100Z
DTEND:20121028T131200Z
LOCATION:Field   ID 1
CONTACT:
SUMMARY:Graywolves VS. Pounders
DESCRIPTION:League Name: Fall Indoor 2012  Men's 40+\nGame Type: Regular\nG
 ame Status: Complete\nHome Team: Graywolves\nAway Team: Pounders\nHome Sco
 re: 2\nAway Score: 4
END:VEVENT
BEGIN:VEVENT
UID:5382352@ezleagues.ezfacility.com
DTSTAMP:20260424T043157Z
CREATED:20260424T043157Z
DTSTART:20121104T141200Z
DTEND:20121104T150300Z
LOCATION:Field   ID 1
CONTACT:
SUMMARY:Radioactive VS. Graywolves
DESCRIPTION:League Name: Fall Indoor 2012  Men's 40+\nGame Type: Regular\nG
 ame Status: Complete\nHome Team: Radioactive\nAway Team: Graywolves\nHome 
 Score: 4\nAway Score: 8
END:VEVENT
BEGIN:VEVENT
UID:5382358@ezleagues.ezfacility.com
DTSTAMP:20260424T043157Z
CREATED:20260424T043157Z
DTSTART:20121111T141200Z
DTEND:20121111T150300Z
LOCATION:Field   ID 1
CONTACT:
SUMMARY:Man You VS. Graywolves
DESCRIPTION:League Name: Fall Indoor 2012  Men's 40+\nGame Type: Regular\nG
 ame Status: Complete\nHome Team: Man You\nAway Team: Graywolves\nHome Scor
 e: 12\nAway Score: 4
END:VEVENT
BEGIN:VEVENT
UID:5382364@ezleagues.ezfacility.com
DTSTAMP:20260424T043157Z
CREATED:20260424T043157Z
DTSTART:20121118T141200Z
DTEND:20121118T150300Z
LOCATION:Field   ID 1
CONTACT:
SUMMARY:Graywolves VS. Chaos
DESCRIPTION:League Name: Fall Indoor 2012  Men's 40+\nGame Type: Regular\nG
 ame Status: Complete\nHome Team: Graywolves\nAway Team: Chaos\nHome Score:
  0\nAway Score: 5
END:VEVENT
BEGIN:VEVENT
UID:5382369@ezleagues.ezfacility.com
DTSTAMP:20260424T043157Z
CREATED:20260424T043157Z
DTSTART:20121125T141200Z
DTEND:20121125T150300Z
LOCATION:Field   ID 1
CONTACT:
SUMMARY:Shamrock Rovers VS. Graywolves
DESCRIPTION:League Name: Fall Indoor 2012  Men's 40+\nGame Type: Regular\nG
 ame Status: Complete\nHome Team: Shamrock Rovers\nAway Team: Graywolves\nH
 ome Score: 14\nAway Score: 8
END:VEVENT
BEGIN:VEVENT
UID:5382375@ezleagues.ezfacility.com
DTSTAMP:20260424T043157Z
CREATED:20260424T043157Z
DTSTART:20121202T141200Z
DTEND:20121202T150300Z
LOCATION:Field   ID 1
CONTACT:
SUMMARY:Graywolves VS. Golden Monkeys
DESCRIPTION:League Name: Fall Indoor 2012  Men's 40+\nGame Type: Regular\nG
 ame Status: Complete\nHome Team: Graywolves\nAway Team: Golden Monkeys\nHo
 me Score: 3\nAway Score: 9
END:VEVENT
BEGIN:VEVENT
UID:5382382@ezleagues.ezfacility.com
DTSTAMP:20260424T043157Z
CREATED:20260424T043157Z
DTSTART:20121209T141200Z
DTEND:20121209T150300Z
LOCATION:Field   ID 1
CONTACT:
SUMMARY:Graywolves VS. Pounders
DESCRIPTION:League Name: Fall Indoor 2012  Men's 40+\nGame Type: Regular\nG
 ame Status: Complete\nHome Team: Graywolves\nAway Team: Pounders\nHome Sco
 re: 5\nAway Score: 8
END:VEVENT
BEGIN:VEVENT
UID:5382385@ezleagues.ezfacility.com
DTSTAMP:20260424T043157Z
CREATED:20260424T043157Z
DTSTART:20121216T132100Z
DTEND:20121216T141200Z
LOCATION:Field   ID 1
CONTACT:
SUMMARY:Radioactive VS. Graywolves
DESCRIPTION:League Name: Fall Indoor 2012  Men's 40+\nGame Type: Regular\nG
 ame Status: Complete\nHome Team: Radioactive\nAway Team: Graywolves\nHome 
 Score: 4\nAway Score: 7
END:VEVENT
END:VCALENDAR
