BEGIN:VCALENDAR
VERSION:2.0
PRODID:-//EZFacility.com, Inc.//EZL 2.5.5.28621
BEGIN:VEVENT
UID:5328049@ezleagues.ezfacility.com
DTSTAMP:20260426T035056Z
CREATED:20260426T035056Z
DTSTART:20121019T222000Z
DTEND:20121019T231200Z
LOCATION:Field   ID 1
CONTACT:
SUMMARY:Tasmanian Devils VS. Motley Crew FC
DESCRIPTION:League Name: Fall Indoor 2012  Coed 30+\nGame Type: Regular\nGa
 me Status: Complete\nHome Team: Tasmanian Devils\nAway Team: Motley Crew F
 C\nHome Score: 8\nAway Score: 3
END:VEVENT
BEGIN:VEVENT
UID:5346355@ezleagues.ezfacility.com
DTSTAMP:20260426T035056Z
CREATED:20260426T035056Z
DTSTART:20121027T024000Z
DTEND:20121027T033200Z
LOCATION:Field   ID 1
CONTACT:
SUMMARY:Medium Pace VS. Tasmanian Devils
DESCRIPTION:League Name: Fall Indoor 2012  Coed 30+\nGame Type: Regular\nGa
 me Status: Complete\nHome Team: Medium Pace\nAway Team: Tasmanian Devils\n
 Home Score: 12\nAway Score: 1
END:VEVENT
BEGIN:VEVENT
UID:5377765@ezleagues.ezfacility.com
DTSTAMP:20260426T035056Z
CREATED:20260426T035056Z
DTSTART:20121103T024000Z
DTEND:20121103T033200Z
LOCATION:Field   ID 1
CONTACT:
SUMMARY:The Flying Squirrels VS. Tasmanian Devils
DESCRIPTION:League Name: Fall Indoor 2012  Coed 30+\nGame Type: Regular\nGa
 me Status: Complete\nHome Team: The Flying Squirrels\nAway Team: Tasmanian
  Devils\nHome Score: 11\nAway Score: 5
END:VEVENT
BEGIN:VEVENT
UID:5377774@ezleagues.ezfacility.com
DTSTAMP:20260426T035056Z
CREATED:20260426T035056Z
DTSTART:20121110T024800Z
DTEND:20121110T034000Z
LOCATION:Field   ID 3
CONTACT:
SUMMARY:Tasmanian Devils VS. Honey Badgers
DESCRIPTION:League Name: Fall Indoor 2012  Coed 30+\nGame Type: Regular\nGa
 me Status: Complete\nHome Team: Tasmanian Devils\nAway Team: Honey Badgers
 \nHome Score: 2\nAway Score: 8
END:VEVENT
BEGIN:VEVENT
UID:5377781@ezleagues.ezfacility.com
DTSTAMP:20260426T035056Z
CREATED:20260426T035056Z
DTSTART:20121117T010400Z
DTEND:20121117T015600Z
LOCATION:Field   ID 2
CONTACT:
SUMMARY:Toe Pokes VS. Tasmanian Devils
DESCRIPTION:League Name: Fall Indoor 2012  Coed 30+\nGame Type: Regular\nGa
 me Status: Complete\nHome Team: Toe Pokes\nAway Team: Tasmanian Devils\nHo
 me Score: 11\nAway Score: 4
END:VEVENT
BEGIN:VEVENT
UID:5377794@ezleagues.ezfacility.com
DTSTAMP:20260426T035056Z
CREATED:20260426T035056Z
DTSTART:20121201T015600Z
DTEND:20121201T024800Z
LOCATION:Field   ID 3
CONTACT:
SUMMARY:Tasmanian Devils VS. Balls To The Walls
DESCRIPTION:League Name: Fall Indoor 2012  Coed 30+\nGame Type: Regular\nGa
 me Status: Complete\nHome Team: Tasmanian Devils\nAway Team: Balls To The 
 Walls\nHome Score: 2\nAway Score: 7
END:VEVENT
BEGIN:VEVENT
UID:5377801@ezleagues.ezfacility.com
DTSTAMP:20260426T035056Z
CREATED:20260426T035056Z
DTSTART:20121208T010400Z
DTEND:20121208T015600Z
LOCATION:Field   ID 2
CONTACT:
SUMMARY:Columbus United FC VS. Tasmanian Devils
DESCRIPTION:League Name: Fall Indoor 2012  Coed 30+\nGame Type: Regular\nGa
 me Status: Complete\nHome Team: Columbus United FC\nAway Team: Tasmanian D
 evils\nHome Score: 7\nAway Score: 10
END:VEVENT
BEGIN:VEVENT
UID:5377813@ezleagues.ezfacility.com
DTSTAMP:20260426T035056Z
CREATED:20260426T035056Z
DTSTART:20121215T001200Z
DTEND:20121215T010400Z
LOCATION:Field   ID 1
CONTACT:
SUMMARY:Tasmanian Devils VS. Six Pack
DESCRIPTION:League Name: Fall Indoor 2012  Coed 30+\nGame Type: Regular\nGa
 me Status: Complete\nHome Team: Tasmanian Devils\nAway Team: Six Pack\nHom
 e Score: 1\nAway Score: 7
END:VEVENT
BEGIN:VEVENT
UID:5377887@ezleagues.ezfacility.com
DTSTAMP:20260426T035056Z
CREATED:20260426T035056Z
DTSTART:20121229T001200Z
DTEND:20121229T010400Z
LOCATION:Field   ID 1
CONTACT:
SUMMARY:Tasmanian Devils VS. The Soccer Team
DESCRIPTION:League Name: Fall Indoor 2012  Coed 30+\nGame Type: Regular\nGa
 me Status: Complete\nHome Team: Tasmanian Devils\nAway Team: The Soccer Te
 am\nHome Score: 11\nAway Score: 0
END:VEVENT
END:VCALENDAR
