BEGIN:VCALENDAR
VERSION:2.0
PRODID:-//EZFacility.com, Inc.//EZL 2.5.5.28621
BEGIN:VEVENT
UID:5351507@ezleagues.ezfacility.com
DTSTAMP:20260424T041506Z
CREATED:20260424T041506Z
DTSTART:20121029T212500Z
DTEND:20121029T222000Z
LOCATION:Field   ID 1
CONTACT:
SUMMARY:Runnin Royals VS. Crew Jrs Worthington Black
DESCRIPTION:League Name: Fall Indoor 2012 Girl's U-11\nGame Type: Regular\n
 Game Status: Complete\nHome Team: Runnin Royals\nAway Team: Crew Jrs Worth
 ington Black\nHome Score: 11\nAway Score: 1
END:VEVENT
BEGIN:VEVENT
UID:5392511@ezleagues.ezfacility.com
DTSTAMP:20260424T041506Z
CREATED:20260424T041506Z
DTSTART:20121106T001200Z
DTEND:20121106T010400Z
LOCATION:Field   ID 1
CONTACT:
SUMMARY:Runnin Royals VS. Olentangy Gold
DESCRIPTION:League Name: Fall Indoor 2012 Girl's U-11\nGame Type: Regular\n
 Game Status: Complete\nHome Team: Runnin Royals\nAway Team: Olentangy Gold
 \nHome Score: 11\nAway Score: 2
END:VEVENT
BEGIN:VEVENT
UID:5392527@ezleagues.ezfacility.com
DTSTAMP:20260424T041506Z
CREATED:20260424T041506Z
DTSTART:20121112T232000Z
DTEND:20121113T001200Z
LOCATION:Field   ID 1
CONTACT:
SUMMARY:Runnin Royals VS. Grove City Storm
DESCRIPTION:League Name: Fall Indoor 2012 Girl's U-11\nGame Type: Regular\n
 Game Status: Complete\nHome Team: Runnin Royals\nAway Team: Grove City Sto
 rm\nHome Score: 8\nAway Score: 1
END:VEVENT
BEGIN:VEVENT
UID:5392530@ezleagues.ezfacility.com
DTSTAMP:20260424T041506Z
CREATED:20260424T041506Z
DTSTART:20121119T222500Z
DTEND:20121119T232000Z
LOCATION:Field   ID 2
CONTACT:
SUMMARY:Hilliard Dragons VS. Runnin Royals
DESCRIPTION:League Name: Fall Indoor 2012 Girl's U-11\nGame Type: Regular\n
 Game Status: Complete\nHome Team: Hilliard Dragons\nAway Team: Runnin Roya
 ls\nHome Score: 1\nAway Score: 13
END:VEVENT
BEGIN:VEVENT
UID:5392543@ezleagues.ezfacility.com
DTSTAMP:20260424T041506Z
CREATED:20260424T041506Z
DTSTART:20121126T222500Z
DTEND:20121126T232000Z
LOCATION:Field   ID 1
CONTACT:
SUMMARY:Club Ohio Rovers VS. Runnin Royals
DESCRIPTION:League Name: Fall Indoor 2012 Girl's U-11\nGame Type: Regular\n
 Game Status: Complete\nHome Team: Club Ohio Rovers\nAway Team: Runnin Roya
 ls\nHome Score: 3\nAway Score: 11
END:VEVENT
BEGIN:VEVENT
UID:5392558@ezleagues.ezfacility.com
DTSTAMP:20260424T041506Z
CREATED:20260424T041506Z
DTSTART:20121204T001200Z
DTEND:20121204T010400Z
LOCATION:Field   ID 1
CONTACT:
SUMMARY:Olentangy Gold VS. Runnin Royals
DESCRIPTION:League Name: Fall Indoor 2012 Girl's U-11\nGame Type: Regular\n
 Game Status: Complete\nHome Team: Olentangy Gold\nAway Team: Runnin Royals
 \nHome Score: 0\nAway Score: 16
END:VEVENT
BEGIN:VEVENT
UID:5392561@ezleagues.ezfacility.com
DTSTAMP:20260424T041506Z
CREATED:20260424T041506Z
DTSTART:20121210T222500Z
DTEND:20121210T231700Z
LOCATION:Field   ID 1
CONTACT:
SUMMARY:Runnin Royals VS. Crew Jrs Worthington Black
DESCRIPTION:League Name: Fall Indoor 2012 Girl's U-11\nGame Type: Regular\n
 Game Status: Complete\nHome Team: Runnin Royals\nAway Team: Crew Jrs Worth
 ington Black\nHome Score: 13\nAway Score: 8
END:VEVENT
BEGIN:VEVENT
UID:5392597@ezleagues.ezfacility.com
DTSTAMP:20260424T041506Z
CREATED:20260424T041506Z
DTSTART:20121218T001200Z
DTEND:20121218T010400Z
LOCATION:Field   ID 1
CONTACT:
SUMMARY:Grove City Surge VS. Runnin Royals
DESCRIPTION:League Name: Fall Indoor 2012 Girl's U-11\nGame Type: Regular\n
 Game Status: Complete\nHome Team: Grove City Surge\nAway Team: Runnin Roya
 ls\nHome Score: 3\nAway Score: 3
END:VEVENT
BEGIN:VEVENT
UID:5392606@ezleagues.ezfacility.com
DTSTAMP:20260424T041506Z
CREATED:20260424T041506Z
DTSTART:20130103T222500Z
DTEND:20130103T231700Z
LOCATION:Field   ID 1
CONTACT:
SUMMARY:Runnin Royals VS. Classic Eagles Red
DESCRIPTION:League Name: Fall Indoor 2012 Girl's U-11\nGame Type: Regular\n
 Game Status: Complete\nHome Team: Runnin Royals\nAway Team: Classic Eagles
  Red\nHome Score: 2\nAway Score: 10
END:VEVENT
END:VCALENDAR
