BEGIN:VCALENDAR
VERSION:2.0
PRODID:-//EZFacility.com, Inc.//EZL 2.5.5.28621
BEGIN:VEVENT
UID:5360491@ezleagues.ezfacility.com
DTSTAMP:20260424T041403Z
CREATED:20260424T041403Z
DTSTART:20121030T212500Z
DTEND:20121030T222000Z
LOCATION:Field   ID 1
CONTACT:
SUMMARY:Blue Dynamite VS. Hilliard Jaguars
DESCRIPTION:League Name: Fall Indoor 2012 Girl's U-13/14\nGame Type: Regula
 r\nGame Status: Complete\nHome Team: Blue Dynamite\nAway Team: Hilliard Ja
 guars\nHome Score: 15\nAway Score: 2
END:VEVENT
BEGIN:VEVENT
UID:5397830@ezleagues.ezfacility.com
DTSTAMP:20260424T041403Z
CREATED:20260424T041403Z
DTSTART:20121106T232000Z
DTEND:20121107T001200Z
LOCATION:Field   ID 1
CONTACT:
SUMMARY:Delaware Select VS. Blue Dynamite
DESCRIPTION:League Name: Fall Indoor 2012 Girl's U-13/14\nGame Type: Regula
 r\nGame Status: Complete\nHome Team: Delaware Select\nAway Team: Blue Dyna
 mite\nHome Score: 6\nAway Score: 3
END:VEVENT
BEGIN:VEVENT
UID:5397842@ezleagues.ezfacility.com
DTSTAMP:20260424T041403Z
CREATED:20260424T041403Z
DTSTART:20121114T222500Z
DTEND:20121114T232000Z
LOCATION:Field   ID 2
CONTACT:
SUMMARY:Blue Dynamite VS. Club Ohio Green
DESCRIPTION:League Name: Fall Indoor 2012 Girl's U-13/14\nGame Type: Regula
 r\nGame Status: Complete\nHome Team: Blue Dynamite\nAway Team: Club Ohio G
 reen\nHome Score: 10\nAway Score: 3
END:VEVENT
BEGIN:VEVENT
UID:5397843@ezleagues.ezfacility.com
DTSTAMP:20260424T041403Z
CREATED:20260424T041403Z
DTSTART:20121120T222500Z
DTEND:20121120T232000Z
LOCATION:Field   ID 1
CONTACT:
SUMMARY:Barca 10 VS. Blue Dynamite
DESCRIPTION:League Name: Fall Indoor 2012 Girl's U-13/14\nGame Type: Regula
 r\nGame Status: Complete\nHome Team: Barca 10\nAway Team: Blue Dynamite\nH
 ome Score: 11\nAway Score: 2
END:VEVENT
BEGIN:VEVENT
UID:5397855@ezleagues.ezfacility.com
DTSTAMP:20260424T041403Z
CREATED:20260424T041403Z
DTSTART:20121127T222500Z
DTEND:20121127T232000Z
LOCATION:Field   ID 3
CONTACT:
SUMMARY:Blue Dynamite VS. FCU
DESCRIPTION:League Name: Fall Indoor 2012 Girl's U-13/14\nGame Type: Regula
 r\nGame Status: Complete\nHome Team: Blue Dynamite\nAway Team: FCU\nHome S
 core: 8\nAway Score: 3
END:VEVENT
BEGIN:VEVENT
UID:5397874@ezleagues.ezfacility.com
DTSTAMP:20260424T041403Z
CREATED:20260424T041403Z
DTSTART:20121204T222500Z
DTEND:20121204T232000Z
LOCATION:Field   ID 2
CONTACT:
SUMMARY:Lady Knights VS. Blue Dynamite
DESCRIPTION:League Name: Fall Indoor 2012 Girl's U-13/14\nGame Type: Regula
 r\nGame Status: Complete\nHome Team: Lady Knights\nAway Team: Blue Dynamit
 e\nHome Score: 1\nAway Score: 15
END:VEVENT
BEGIN:VEVENT
UID:5397887@ezleagues.ezfacility.com
DTSTAMP:20260424T041403Z
CREATED:20260424T041403Z
DTSTART:20121212T232000Z
DTEND:20121213T001200Z
LOCATION:Field   ID 2
CONTACT:
SUMMARY:Club Ohio Green VS. Blue Dynamite
DESCRIPTION:League Name: Fall Indoor 2012 Girl's U-13/14\nGame Type: Regula
 r\nGame Status: Complete\nHome Team: Club Ohio Green\nAway Team: Blue Dyna
 mite\nHome Score: 6\nAway Score: 9
END:VEVENT
BEGIN:VEVENT
UID:5397889@ezleagues.ezfacility.com
DTSTAMP:20260424T041403Z
CREATED:20260424T041403Z
DTSTART:20121218T222500Z
DTEND:20121218T232000Z
LOCATION:Field   ID 1
CONTACT:
SUMMARY:Hilliard Jaguars VS. Blue Dynamite
DESCRIPTION:League Name: Fall Indoor 2012 Girl's U-13/14\nGame Type: Regula
 r\nGame Status: Complete\nHome Team: Hilliard Jaguars\nAway Team: Blue Dyn
 amite\nHome Score: 0\nAway Score: 13
END:VEVENT
BEGIN:VEVENT
UID:5397901@ezleagues.ezfacility.com
DTSTAMP:20260424T041403Z
CREATED:20260424T041403Z
DTSTART:20130103T001200Z
DTEND:20130103T010400Z
LOCATION:Field   ID 1
CONTACT:
SUMMARY:Blue Dynamite VS. Delaware Select
DESCRIPTION:League Name: Fall Indoor 2012 Girl's U-13/14\nGame Type: Regula
 r\nGame Status: Complete\nHome Team: Blue Dynamite\nAway Team: Delaware Se
 lect\nHome Score: 2\nAway Score: 10
END:VEVENT
END:VCALENDAR
