BEGIN:VCALENDAR
VERSION:2.0
PRODID:-//EZFacility.com, Inc.//EZL 2.5.5.28621
BEGIN:VEVENT
UID:5360491@ezleagues.ezfacility.com
DTSTAMP:20260424T041344Z
CREATED:20260424T041344Z
DTSTART:20121030T212500Z
DTEND:20121030T222000Z
LOCATION:Field   ID 1
CONTACT:
SUMMARY:Blue Dynamite VS. Hilliard Jaguars
DESCRIPTION:League Name: Fall Indoor 2012 Girl's U-13/14\nGame Type: Regula
 r\nGame Status: Complete\nHome Team: Blue Dynamite\nAway Team: Hilliard Ja
 guars\nHome Score: 15\nAway Score: 2
END:VEVENT
BEGIN:VEVENT
UID:5397832@ezleagues.ezfacility.com
DTSTAMP:20260424T041344Z
CREATED:20260424T041344Z
DTSTART:20121107T222500Z
DTEND:20121107T232000Z
LOCATION:Field   ID 1
CONTACT:
SUMMARY:Hilliard Jaguars VS. Club Ohio Green
DESCRIPTION:League Name: Fall Indoor 2012 Girl's U-13/14\nGame Type: Regula
 r\nGame Status: Complete\nHome Team: Hilliard Jaguars\nAway Team: Club Ohi
 o Green\nHome Score: 1\nAway Score: 11
END:VEVENT
BEGIN:VEVENT
UID:5397835@ezleagues.ezfacility.com
DTSTAMP:20260424T041344Z
CREATED:20260424T041344Z
DTSTART:20121113T222500Z
DTEND:20121113T232000Z
LOCATION:Field   ID 1
CONTACT:
SUMMARY:Hilliard Jaguars VS. Lady Knights
DESCRIPTION:League Name: Fall Indoor 2012 Girl's U-13/14\nGame Type: Regula
 r\nGame Status: Complete\nHome Team: Hilliard Jaguars\nAway Team: Lady Kni
 ghts\nHome Score: 10\nAway Score: 1
END:VEVENT
BEGIN:VEVENT
UID:5397853@ezleagues.ezfacility.com
DTSTAMP:20260424T041344Z
CREATED:20260424T041344Z
DTSTART:20121127T222500Z
DTEND:20121127T232000Z
LOCATION:Field   ID 2
CONTACT:
SUMMARY:Barca 10 VS. Hilliard Jaguars
DESCRIPTION:League Name: Fall Indoor 2012 Girl's U-13/14\nGame Type: Regula
 r\nGame Status: Complete\nHome Team: Barca 10\nAway Team: Hilliard Jaguars
 \nHome Score: 15\nAway Score: 0
END:VEVENT
BEGIN:VEVENT
UID:5397867@ezleagues.ezfacility.com
DTSTAMP:20260424T041344Z
CREATED:20260424T041344Z
DTSTART:20121128T222500Z
DTEND:20121128T232000Z
LOCATION:Field   ID 2
CONTACT:
SUMMARY:Delaware Select VS. Hilliard Jaguars
DESCRIPTION:League Name: Fall Indoor 2012 Girl's U-13/14\nGame Type: Regula
 r\nGame Status: Complete\nHome Team: Delaware Select\nAway Team: Hilliard 
 Jaguars\nHome Score: 18\nAway Score: 0
END:VEVENT
BEGIN:VEVENT
UID:5397879@ezleagues.ezfacility.com
DTSTAMP:20260424T041344Z
CREATED:20260424T041344Z
DTSTART:20121205T222500Z
DTEND:20121205T232000Z
LOCATION:Field   ID 2
CONTACT:
SUMMARY:Hilliard Jaguars VS. Club Ohio Green
DESCRIPTION:League Name: Fall Indoor 2012 Girl's U-13/14\nGame Type: Regula
 r\nGame Status: Complete\nHome Team: Hilliard Jaguars\nAway Team: Club Ohi
 o Green\nHome Score: 6\nAway Score: 10
END:VEVENT
BEGIN:VEVENT
UID:5397885@ezleagues.ezfacility.com
DTSTAMP:20260424T041344Z
CREATED:20260424T041344Z
DTSTART:20121211T232000Z
DTEND:20121212T001200Z
LOCATION:Field   ID 3
CONTACT:
SUMMARY:Lady Knights VS. Hilliard Jaguars
DESCRIPTION:League Name: Fall Indoor 2012 Girl's U-13/14\nGame Type: Regula
 r\nGame Status: Complete\nHome Team: Lady Knights\nAway Team: Hilliard Jag
 uars\nHome Score: 0\nAway Score: 3
END:VEVENT
BEGIN:VEVENT
UID:5397889@ezleagues.ezfacility.com
DTSTAMP:20260424T041344Z
CREATED:20260424T041344Z
DTSTART:20121218T222500Z
DTEND:20121218T232000Z
LOCATION:Field   ID 1
CONTACT:
SUMMARY:Hilliard Jaguars VS. Blue Dynamite
DESCRIPTION:League Name: Fall Indoor 2012 Girl's U-13/14\nGame Type: Regula
 r\nGame Status: Complete\nHome Team: Hilliard Jaguars\nAway Team: Blue Dyn
 amite\nHome Score: 0\nAway Score: 13
END:VEVENT
BEGIN:VEVENT
UID:5397904@ezleagues.ezfacility.com
DTSTAMP:20260424T041344Z
CREATED:20260424T041344Z
DTSTART:20130103T010400Z
DTEND:20130103T015600Z
LOCATION:Field   ID 1
CONTACT:
SUMMARY:Barca 10 VS. Hilliard Jaguars
DESCRIPTION:League Name: Fall Indoor 2012 Girl's U-13/14\nGame Type: Regula
 r\nGame Status: Complete\nHome Team: Barca 10\nAway Team: Hilliard Jaguars
 \nHome Score: 13\nAway Score: 0
END:VEVENT
END:VCALENDAR
