BEGIN:VCALENDAR
VERSION:2.0
PRODID:-//EZFacility.com, Inc.//EZL 2.5.5.28621
BEGIN:VEVENT
UID:5360542@ezleagues.ezfacility.com
DTSTAMP:20260424T041517Z
CREATED:20260424T041517Z
DTSTART:20121030T222000Z
DTEND:20121030T231200Z
LOCATION:Field   ID 1
CONTACT:
SUMMARY:FCU VS. Weaver MS
DESCRIPTION:League Name: Fall Indoor 2012 Girl's U-13/14\nGame Type: Regula
 r\nGame Status: Complete\nHome Team: FCU\nAway Team: Weaver MS\nHome Score
 : 13\nAway Score: 3
END:VEVENT
BEGIN:VEVENT
UID:5397827@ezleagues.ezfacility.com
DTSTAMP:20260424T041517Z
CREATED:20260424T041517Z
DTSTART:20121106T222500Z
DTEND:20121106T232000Z
LOCATION:Field   ID 1
CONTACT:
SUMMARY:Barca 10 VS. Weaver MS
DESCRIPTION:League Name: Fall Indoor 2012 Girl's U-13/14\nGame Type: Regula
 r\nGame Status: Complete\nHome Team: Barca 10\nAway Team: Weaver MS\nHome 
 Score: 12\nAway Score: 0
END:VEVENT
BEGIN:VEVENT
UID:5397839@ezleagues.ezfacility.com
DTSTAMP:20260424T041517Z
CREATED:20260424T041517Z
DTSTART:20121113T232000Z
DTEND:20121114T001200Z
LOCATION:Field   ID 1
CONTACT:
SUMMARY:Spitfires VS. Weaver MS
DESCRIPTION:League Name: Fall Indoor 2012 Girl's U-13/14\nGame Type: Regula
 r\nGame Status: Complete\nHome Team: Spitfires\nAway Team: Weaver MS\nHome
  Score: 7\nAway Score: 5
END:VEVENT
BEGIN:VEVENT
UID:5397848@ezleagues.ezfacility.com
DTSTAMP:20260424T041517Z
CREATED:20260424T041517Z
DTSTART:20121120T232000Z
DTEND:20121121T001200Z
LOCATION:Field   ID 1
CONTACT:
SUMMARY:Strikers VS. Weaver MS
DESCRIPTION:League Name: Fall Indoor 2012 Girl's U-13/14\nGame Type: Regula
 r\nGame Status: Complete\nHome Team: Strikers\nAway Team: Weaver MS\nHome 
 Score: 14\nAway Score: 1
END:VEVENT
BEGIN:VEVENT
UID:5397858@ezleagues.ezfacility.com
DTSTAMP:20260424T041517Z
CREATED:20260424T041517Z
DTSTART:20121127T222500Z
DTEND:20121127T232000Z
LOCATION:Field   ID 1
CONTACT:
SUMMARY:Weaver MS VS. FC Chicas
DESCRIPTION:League Name: Fall Indoor 2012 Girl's U-13/14\nGame Type: Regula
 r\nGame Status: Complete\nHome Team: Weaver MS\nAway Team: FC Chicas\nHome
  Score: 0\nAway Score: 13
END:VEVENT
BEGIN:VEVENT
UID:5397870@ezleagues.ezfacility.com
DTSTAMP:20260424T041517Z
CREATED:20260424T041517Z
DTSTART:20121128T232000Z
DTEND:20121129T001200Z
LOCATION:Field   ID 2
CONTACT:
SUMMARY:Weaver MS VS. Lady Knights
DESCRIPTION:League Name: Fall Indoor 2012 Girl's U-13/14\nGame Type: Regula
 r\nGame Status: Complete\nHome Team: Weaver MS\nAway Team: Lady Knights\nH
 ome Score: 5\nAway Score: 11
END:VEVENT
BEGIN:VEVENT
UID:5397873@ezleagues.ezfacility.com
DTSTAMP:20260424T041517Z
CREATED:20260424T041517Z
DTSTART:20121204T222500Z
DTEND:20121204T232000Z
LOCATION:Field   ID 3
CONTACT:
SUMMARY:Weaver MS VS. FCU
DESCRIPTION:League Name: Fall Indoor 2012 Girl's U-13/14\nGame Type: Regula
 r\nGame Status: Complete\nHome Team: Weaver MS\nAway Team: FCU\nHome Score
 : 2\nAway Score: 14
END:VEVENT
BEGIN:VEVENT
UID:5397882@ezleagues.ezfacility.com
DTSTAMP:20260424T041517Z
CREATED:20260424T041517Z
DTSTART:20121211T222500Z
DTEND:20121211T232000Z
LOCATION:Field   ID 1
CONTACT:
SUMMARY:Bahia VS. Weaver MS
DESCRIPTION:League Name: Fall Indoor 2012 Girl's U-13/14\nGame Type: Regula
 r\nGame Status: Complete\nHome Team: Bahia\nAway Team: Weaver MS\nHome Sco
 re: 17\nAway Score: 4
END:VEVENT
BEGIN:VEVENT
UID:5397899@ezleagues.ezfacility.com
DTSTAMP:20260424T041517Z
CREATED:20260424T041517Z
DTSTART:20130102T232000Z
DTEND:20130103T001200Z
LOCATION:Field   ID 1
CONTACT:
SUMMARY:Weaver MS VS. Locker Elite
DESCRIPTION:League Name: Fall Indoor 2012 Girl's U-13/14\nGame Type: Regula
 r\nGame Status: Complete\nHome Team: Weaver MS\nAway Team: Locker Elite\nH
 ome Score: 4\nAway Score: 13
END:VEVENT
END:VCALENDAR
