BEGIN:VCALENDAR
VERSION:2.0
PRODID:-//EZFacility.com, Inc.//EZL 2.5.5.28621
BEGIN:VEVENT
UID:5388096@ezleagues.ezfacility.com
DTSTAMP:20260426T033553Z
CREATED:20260426T033553Z
DTSTART:20121104T155400Z
DTEND:20121104T164500Z
LOCATION:Field   ID 1
CONTACT:
SUMMARY:Noor Lightning VS. GCKA Rockets
DESCRIPTION:League Name: Fall Indoor 2012 Boy's U-11/12\nGame Type: Regular
 \nGame Status: Complete\nHome Team: Noor Lightning\nAway Team: GCKA Rocket
 s\nHome Score: 9\nAway Score: 1
END:VEVENT
BEGIN:VEVENT
UID:5388100@ezleagues.ezfacility.com
DTSTAMP:20260426T033553Z
CREATED:20260426T033553Z
DTSTART:20121108T232000Z
DTEND:20121109T001100Z
LOCATION:Field   ID 1
CONTACT:
SUMMARY:GCKA Rockets VS. High Point Stars
DESCRIPTION:League Name: Fall Indoor 2012 Boy's U-11/12\nGame Type: Regular
 \nGame Status: Complete\nHome Team: GCKA Rockets\nAway Team: High Point St
 ars\nHome Score: 0\nAway Score: 10
END:VEVENT
BEGIN:VEVENT
UID:5388103@ezleagues.ezfacility.com
DTSTAMP:20260426T033553Z
CREATED:20260426T033553Z
DTSTART:20121111T155400Z
DTEND:20121111T164500Z
LOCATION:Field   ID 1
CONTACT:
SUMMARY:Classic Eagles Gold VS. GCKA Rockets
DESCRIPTION:League Name: Fall Indoor 2012 Boy's U-11/12\nGame Type: Regular
 \nGame Status: Complete\nHome Team: Classic Eagles Gold\nAway Team: GCKA R
 ockets\nHome Score: 7\nAway Score: 7
END:VEVENT
BEGIN:VEVENT
UID:5388107@ezleagues.ezfacility.com
DTSTAMP:20260426T033553Z
CREATED:20260426T033553Z
DTSTART:20121118T155400Z
DTEND:20121118T164500Z
LOCATION:Field   ID 1
CONTACT:
SUMMARY:Irish VS. GCKA Rockets
DESCRIPTION:League Name: Fall Indoor 2012 Boy's U-11/12\nGame Type: Regular
 \nGame Status: Complete\nHome Team: Irish\nAway Team: GCKA Rockets\nHome S
 core: 11\nAway Score: 5
END:VEVENT
BEGIN:VEVENT
UID:5388111@ezleagues.ezfacility.com
DTSTAMP:20260426T033553Z
CREATED:20260426T033553Z
DTSTART:20121125T155400Z
DTEND:20121125T164500Z
LOCATION:Field   ID 1
CONTACT:
SUMMARY:Bellefontaine VS. GCKA Rockets
DESCRIPTION:League Name: Fall Indoor 2012 Boy's U-11/12\nGame Type: Regular
 \nGame Status: Complete\nHome Team: Bellefontaine\nAway Team: GCKA Rockets
 \nHome Score: 6\nAway Score: 3
END:VEVENT
BEGIN:VEVENT
UID:5388308@ezleagues.ezfacility.com
DTSTAMP:20260426T033553Z
CREATED:20260426T033553Z
DTSTART:20121209T155400Z
DTEND:20121209T164500Z
LOCATION:Field   ID 1
CONTACT:
SUMMARY:GCKA Rockets VS. St Michaels
DESCRIPTION:League Name: Fall Indoor 2012 Boy's U-11/12\nGame Type: Regular
 \nGame Status: Complete\nHome Team: GCKA Rockets\nAway Team: St Michaels\n
 Home Score: 0\nAway Score: 12
END:VEVENT
BEGIN:VEVENT
UID:5388214@ezleagues.ezfacility.com
DTSTAMP:20260426T033553Z
CREATED:20260426T033553Z
DTSTART:20121216T155400Z
DTEND:20121216T164500Z
LOCATION:Field   ID 1
CONTACT:
SUMMARY:SF BU12 Academy VS. GCKA Rockets
DESCRIPTION:League Name: Fall Indoor 2012 Boy's U-11/12\nGame Type: Regular
 \nGame Status: Complete\nHome Team: SF BU12 Academy\nAway Team: GCKA Rocke
 ts\nHome Score: 0\nAway Score: 10
END:VEVENT
BEGIN:VEVENT
UID:5388222@ezleagues.ezfacility.com
DTSTAMP:20260426T033553Z
CREATED:20260426T033553Z
DTSTART:20121230T155400Z
DTEND:20121230T164500Z
LOCATION:Field   ID 1
CONTACT:
SUMMARY:Blue Barracudas VS. GCKA Rockets
DESCRIPTION:League Name: Fall Indoor 2012 Boy's U-11/12\nGame Type: Regular
 \nGame Status: Complete\nHome Team: Blue Barracudas\nAway Team: GCKA Rocke
 ts\nHome Score: 13\nAway Score: 3
END:VEVENT
BEGIN:VEVENT
UID:5388232@ezleagues.ezfacility.com
DTSTAMP:20260426T033553Z
CREATED:20260426T033553Z
DTSTART:20130106T164500Z
DTEND:20130106T173600Z
LOCATION:Field   ID 1
CONTACT:
SUMMARY:GCKA Rockets VS. Irish
DESCRIPTION:League Name: Fall Indoor 2012 Boy's U-11/12\nGame Type: Regular
 \nGame Status: Pending\nHome Team: GCKA Rockets\nAway Team: Irish\n
END:VEVENT
END:VCALENDAR
