BEGIN:VCALENDAR
VERSION:2.0
PRODID:-//EZFacility.com, Inc.//EZL 2.5.5.28621
BEGIN:VEVENT
UID:5641843@ezleagues.ezfacility.com
DTSTAMP:20260425T104220Z
CREATED:20260425T104220Z
DTSTART:20130113T191800Z
DTEND:20130113T200900Z
LOCATION:Field   ID 1
CONTACT:
SUMMARY:America VS. Grandview FC
DESCRIPTION:League Name: Winter Indoor 2013  Coed 0pen Teal\nGame Type: Reg
 ular\nGame Status: Complete\nHome Team: America\nAway Team: Grandview FC\n
 Home Score: 0\nAway Score: 10
END:VEVENT
BEGIN:VEVENT
UID:5647351@ezleagues.ezfacility.com
DTSTAMP:20260425T104220Z
CREATED:20260425T104220Z
DTSTART:20130120T164500Z
DTEND:20130120T173600Z
LOCATION:Field   ID 1
CONTACT:
SUMMARY:Action Required VS. America
DESCRIPTION:League Name: Winter Indoor 2013  Coed 0pen Teal\nGame Type: Reg
 ular\nGame Status: Complete\nHome Team: Action Required\nAway Team: Americ
 a\nHome Score: 10\nAway Score: 2
END:VEVENT
BEGIN:VEVENT
UID:5647380@ezleagues.ezfacility.com
DTSTAMP:20260425T104220Z
CREATED:20260425T104220Z
DTSTART:20130127T233300Z
DTEND:20130128T002400Z
LOCATION:Field   ID 1
CONTACT:
SUMMARY:Five Five VS. America
DESCRIPTION:League Name: Winter Indoor 2013  Coed 0pen Teal\nGame Type: Reg
 ular\nGame Status: Complete\nHome Team: Five Five\nAway Team: America\nHom
 e Score: 12\nAway Score: 2
END:VEVENT
BEGIN:VEVENT
UID:5647385@ezleagues.ezfacility.com
DTSTAMP:20260425T104220Z
CREATED:20260425T104220Z
DTSTART:20130203T164500Z
DTEND:20130203T173600Z
LOCATION:Field   ID 1
CONTACT:
SUMMARY:OFF VS. America
DESCRIPTION:League Name: Winter Indoor 2013  Coed 0pen Teal\nGame Type: Reg
 ular\nGame Status: Complete\nHome Team: OFF\nAway Team: America\nHome Scor
 e: 9\nAway Score: 3
END:VEVENT
BEGIN:VEVENT
UID:5647389@ezleagues.ezfacility.com
DTSTAMP:20260425T104220Z
CREATED:20260425T104220Z
DTSTART:20130210T224200Z
DTEND:20130210T233300Z
LOCATION:Field   ID 1
CONTACT:
SUMMARY:High Beck VS. America
DESCRIPTION:League Name: Winter Indoor 2013  Coed 0pen Teal\nGame Type: Reg
 ular\nGame Status: Complete\nHome Team: High Beck\nAway Team: America\nHom
 e Score: 14\nAway Score: 4
END:VEVENT
BEGIN:VEVENT
UID:5647393@ezleagues.ezfacility.com
DTSTAMP:20260425T104220Z
CREATED:20260425T104220Z
DTSTART:20130217T182700Z
DTEND:20130217T191800Z
LOCATION:Field   ID 1
CONTACT:
SUMMARY:America VS. Keep Fighting
DESCRIPTION:League Name: Winter Indoor 2013  Coed 0pen Teal\nGame Type: Reg
 ular\nGame Status: Complete\nHome Team: America\nAway Team: Keep Fighting\
 nHome Score: 2\nAway Score: 7
END:VEVENT
BEGIN:VEVENT
UID:5647487@ezleagues.ezfacility.com
DTSTAMP:20260425T104220Z
CREATED:20260425T104220Z
DTSTART:20130304T034800Z
DTEND:20130304T043900Z
LOCATION:Field   ID 1
CONTACT:
SUMMARY:America VS. Gymnophoriacs
DESCRIPTION:League Name: Winter Indoor 2013  Coed 0pen Teal\nGame Type: Reg
 ular\nGame Status: Complete\nHome Team: America\nAway Team: Gymnophoriacs\
 nHome Score: 5\nAway Score: 12
END:VEVENT
BEGIN:VEVENT
UID:5647501@ezleagues.ezfacility.com
DTSTAMP:20260425T104220Z
CREATED:20260425T104220Z
DTSTART:20130311T001500Z
DTEND:20130311T010600Z
LOCATION:Field   ID 1
CONTACT:
SUMMARY:America VS. The Bomb Squad
DESCRIPTION:League Name: Winter Indoor 2013  Coed 0pen Teal\nGame Type: Reg
 ular\nGame Status: Complete\nHome Team: America\nAway Team: The Bomb Squad
 \nHome Score: 2\nAway Score: 8
END:VEVENT
BEGIN:VEVENT
UID:5647507@ezleagues.ezfacility.com
DTSTAMP:20260425T104220Z
CREATED:20260425T104220Z
DTSTART:20130317T223300Z
DTEND:20130317T232400Z
LOCATION:Field   ID 1
CONTACT:
SUMMARY:Ross VS. America
DESCRIPTION:League Name: Winter Indoor 2013  Coed 0pen Teal\nGame Type: Reg
 ular\nGame Status: Complete\nHome Team: Ross\nAway Team: America\nHome Sco
 re: 11\nAway Score: 1
END:VEVENT
END:VCALENDAR
