BEGIN:VCALENDAR
VERSION:2.0
PRODID:-//EZFacility.com, Inc.//EZL 2.5.5.28621
BEGIN:VEVENT
UID:5642032@ezleagues.ezfacility.com
DTSTAMP:20260424T141541Z
CREATED:20260424T141541Z
DTSTART:20130113T224200Z
DTEND:20130113T233700Z
LOCATION:Field   ID 1
CONTACT:
SUMMARY:FUFC VS. Ninja Warriors
DESCRIPTION:League Name: Winter Indoor 2013  Coed 0pen Green\nGame Type: Re
 gular\nGame Status: Complete\nHome Team: FUFC\nAway Team: Ninja Warriors\n
 Home Score: 12\nAway Score: 4
END:VEVENT
BEGIN:VEVENT
UID:5647930@ezleagues.ezfacility.com
DTSTAMP:20260424T141541Z
CREATED:20260424T141541Z
DTSTART:20130120T210000Z
DTEND:20130120T215500Z
LOCATION:Field   ID 1
CONTACT:
SUMMARY:Ninja Warriors VS. Them
DESCRIPTION:League Name: Winter Indoor 2013  Coed 0pen Green\nGame Type: Re
 gular\nGame Status: Complete\nHome Team: Ninja Warriors\nAway Team: Them\n
 Home Score: 4\nAway Score: 10
END:VEVENT
BEGIN:VEVENT
UID:5647936@ezleagues.ezfacility.com
DTSTAMP:20260424T141541Z
CREATED:20260424T141541Z
DTSTART:20130128T011500Z
DTEND:20130128T021000Z
LOCATION:Field   ID 1
CONTACT:
SUMMARY:Ninja Warriors VS. Sphincter FC
DESCRIPTION:League Name: Winter Indoor 2013  Coed 0pen Green\nGame Type: Re
 gular\nGame Status: Complete\nHome Team: Ninja Warriors\nAway Team: Sphinc
 ter FC\nHome Score: 2\nAway Score: 9
END:VEVENT
BEGIN:VEVENT
UID:5647941@ezleagues.ezfacility.com
DTSTAMP:20260424T141541Z
CREATED:20260424T141541Z
DTSTART:20130211T025700Z
DTEND:20130211T035200Z
LOCATION:Field   ID 1
CONTACT:
SUMMARY:Ninja Warriors VS. Columbus Football Club
DESCRIPTION:League Name: Winter Indoor 2013  Coed 0pen Green\nGame Type: Re
 gular\nGame Status: Complete\nHome Team: Ninja Warriors\nAway Team: Columb
 us Football Club\nHome Score: 3\nAway Score: 7
END:VEVENT
BEGIN:VEVENT
UID:5647947@ezleagues.ezfacility.com
DTSTAMP:20260424T141541Z
CREATED:20260424T141541Z
DTSTART:20130217T224200Z
DTEND:20130217T233700Z
LOCATION:Field   ID 1
CONTACT:
SUMMARY:Ninja Warriors VS. TL
DESCRIPTION:League Name: Winter Indoor 2013  Coed 0pen Green\nGame Type: Re
 gular\nGame Status: Complete\nHome Team: Ninja Warriors\nAway Team: TL\nHo
 me Score: 8\nAway Score: 6
END:VEVENT
BEGIN:VEVENT
UID:5647974@ezleagues.ezfacility.com
DTSTAMP:20260424T141541Z
CREATED:20260424T141541Z
DTSTART:20130224T191800Z
DTEND:20130224T201300Z
LOCATION:Field   ID 1
CONTACT:
SUMMARY:Dirty Hampsters VS. Ninja Warriors
DESCRIPTION:League Name: Winter Indoor 2013  Coed 0pen Green\nGame Type: Re
 gular\nGame Status: Complete\nHome Team: Dirty Hampsters\nAway Team: Ninja
  Warriors\nHome Score: 9\nAway Score: 3
END:VEVENT
BEGIN:VEVENT
UID:5647980@ezleagues.ezfacility.com
DTSTAMP:20260424T141541Z
CREATED:20260424T141541Z
DTSTART:20130304T011500Z
DTEND:20130304T021000Z
LOCATION:Field   ID 1
CONTACT:
SUMMARY:Ninja Warriors VS. Scrubs
DESCRIPTION:League Name: Winter Indoor 2013  Coed 0pen Green\nGame Type: Re
 gular\nGame Status: Complete\nHome Team: Ninja Warriors\nAway Team: Scrubs
 \nHome Score: 2\nAway Score: 6
END:VEVENT
BEGIN:VEVENT
UID:5647984@ezleagues.ezfacility.com
DTSTAMP:20260424T141541Z
CREATED:20260424T141541Z
DTSTART:20130310T232400Z
DTEND:20130311T001900Z
LOCATION:Field   ID 1
CONTACT:
SUMMARY:Goal Challenged VS. Ninja Warriors
DESCRIPTION:League Name: Winter Indoor 2013  Coed 0pen Green\nGame Type: Re
 gular\nGame Status: Complete\nHome Team: Goal Challenged\nAway Team: Ninja
  Warriors\nHome Score: 11\nAway Score: 6
END:VEVENT
BEGIN:VEVENT
UID:5689361@ezleagues.ezfacility.com
DTSTAMP:20260424T141541Z
CREATED:20260424T141541Z
DTSTART:20130324T232400Z
DTEND:20130325T001900Z
LOCATION:Field   ID 1
CONTACT:
SUMMARY:Polar Bears (Grr) VS. Ninja Warriors
DESCRIPTION:League Name: Winter Indoor 2013  Coed 0pen Green\nGame Type: Re
 gular\nGame Status: Complete\nHome Team: Polar Bears (Grr)\nAway Team: Nin
 ja Warriors\nHome Score: 3\nAway Score: 6
END:VEVENT
END:VCALENDAR
