BEGIN:VCALENDAR
VERSION:2.0
PRODID:-//EZFacility.com, Inc.//EZL 2.5.5.28621
BEGIN:VEVENT
UID:5642785@ezleagues.ezfacility.com
DTSTAMP:20260426T034059Z
CREATED:20260426T034059Z
DTSTART:20130115T213000Z
DTEND:20130115T222100Z
LOCATION:Field   ID 1
CONTACT:
SUMMARY:Drama Queens VS. Lady Knights
DESCRIPTION:League Name: Winter Indoor 2013 Girl's U-15 thru U-18 North\nGa
 me Type: Regular\nGame Status: Complete\nHome Team: Drama Queens\nAway Tea
 m: Lady Knights\nHome Score: 4\nAway Score: 5
END:VEVENT
BEGIN:VEVENT
UID:5672861@ezleagues.ezfacility.com
DTSTAMP:20260426T034059Z
CREATED:20260426T034059Z
DTSTART:20130120T141200Z
DTEND:20130120T150300Z
LOCATION:Field   ID 1
CONTACT:
SUMMARY:Lady Knights VS. Wolf Mac GSOC
DESCRIPTION:League Name: Winter Indoor 2013 Girl's U-15 thru U-18 North\nGa
 me Type: Regular\nGame Status: Complete\nHome Team: Lady Knights\nAway Tea
 m: Wolf Mac GSOC\nHome Score: 3\nAway Score: 0
END:VEVENT
BEGIN:VEVENT
UID:5672872@ezleagues.ezfacility.com
DTSTAMP:20260426T034059Z
CREATED:20260426T034059Z
DTSTART:20130131T213000Z
DTEND:20130131T222500Z
LOCATION:Field   ID 1
CONTACT:
SUMMARY:Eagles VS. Lady Knights
DESCRIPTION:League Name: Winter Indoor 2013 Girl's U-15 thru U-18 North\nGa
 me Type: Regular\nGame Status: Complete\nHome Team: Eagles\nAway Team: Lad
 y Knights\nHome Score: 4\nAway Score: 7
END:VEVENT
BEGIN:VEVENT
UID:5672876@ezleagues.ezfacility.com
DTSTAMP:20260426T034059Z
CREATED:20260426T034059Z
DTSTART:20130205T213000Z
DTEND:20130205T222500Z
LOCATION:Field   ID 3
CONTACT:
SUMMARY:Lady Knights VS. Central Ohio Elite
DESCRIPTION:League Name: Winter Indoor 2013 Girl's U-15 thru U-18 North\nGa
 me Type: Regular\nGame Status: Complete\nHome Team: Lady Knights\nAway Tea
 m: Central Ohio Elite\nHome Score: 4\nAway Score: 6
END:VEVENT
BEGIN:VEVENT
UID:5672877@ezleagues.ezfacility.com
DTSTAMP:20260426T034059Z
CREATED:20260426T034059Z
DTSTART:20130207T213000Z
DTEND:20130207T222500Z
LOCATION:Field   ID 3
CONTACT:
SUMMARY:Lady Knights VS. EPD Crew
DESCRIPTION:League Name: Winter Indoor 2013 Girl's U-15 thru U-18 North\nGa
 me Type: Regular\nGame Status: Complete\nHome Team: Lady Knights\nAway Tea
 m: EPD Crew\nHome Score: 8\nAway Score: 1
END:VEVENT
BEGIN:VEVENT
UID:5672884@ezleagues.ezfacility.com
DTSTAMP:20260426T034059Z
CREATED:20260426T034059Z
DTSTART:20130210T141200Z
DTEND:20130210T150300Z
LOCATION:Field   ID 1
CONTACT:
SUMMARY:The Wild Jagthers VS. Lady Knights
DESCRIPTION:League Name: Winter Indoor 2013 Girl's U-15 thru U-18 North\nGa
 me Type: Regular\nGame Status: Complete\nHome Team: The Wild Jagthers\nAwa
 y Team: Lady Knights\nHome Score: 5\nAway Score: 7
END:VEVENT
BEGIN:VEVENT
UID:5672930@ezleagues.ezfacility.com
DTSTAMP:20260426T034059Z
CREATED:20260426T034059Z
DTSTART:20130219T213000Z
DTEND:20130219T222500Z
LOCATION:Field   ID 3
CONTACT:
SUMMARY:Lady Knights VS. Drama Queens
DESCRIPTION:League Name: Winter Indoor 2013 Girl's U-15 thru U-18 North\nGa
 me Type: Regular\nGame Status: Complete\nHome Team: Lady Knights\nAway Tea
 m: Drama Queens\nHome Score: 5\nAway Score: 0
END:VEVENT
BEGIN:VEVENT
UID:5672938@ezleagues.ezfacility.com
DTSTAMP:20260426T034059Z
CREATED:20260426T034059Z
DTSTART:20130226T213000Z
DTEND:20130226T222500Z
LOCATION:Field   ID 2
CONTACT:
SUMMARY:Lady Knights VS. The Wild Jagthers
DESCRIPTION:League Name: Winter Indoor 2013 Girl's U-15 thru U-18 North\nGa
 me Type: Regular\nGame Status: Complete\nHome Team: Lady Knights\nAway Tea
 m: The Wild Jagthers\nHome Score: 9\nAway Score: 5
END:VEVENT
BEGIN:VEVENT
UID:5672943@ezleagues.ezfacility.com
DTSTAMP:20260426T034059Z
CREATED:20260426T034059Z
DTSTART:20130303T141200Z
DTEND:20130303T150300Z
LOCATION:Field   ID 1
CONTACT:
SUMMARY:Hilliard FC U16 Blue VS. Lady Knights
DESCRIPTION:League Name: Winter Indoor 2013 Girl's U-15 thru U-18 North\nGa
 me Type: Regular\nGame Status: Complete\nHome Team: Hilliard FC U16 Blue\n
 Away Team: Lady Knights\nHome Score: 10\nAway Score: 4
END:VEVENT
END:VCALENDAR
