BEGIN:VCALENDAR
VERSION:2.0
PRODID:-//EZFacility.com, Inc.//EZL 2.5.5.28621
BEGIN:VEVENT
UID:5642786@ezleagues.ezfacility.com
DTSTAMP:20260422T212759Z
CREATED:20260422T212759Z
DTSTART:20130117T213000Z
DTEND:20130117T222100Z
LOCATION:Field   ID 1
CONTACT:
SUMMARY:Eagles VS. Wolf Mac GSOC
DESCRIPTION:League Name: Winter Indoor 2013 Girl's U-15 thru U-18 North\nGa
 me Type: Regular\nGame Status: Complete\nHome Team: Eagles\nAway Team: Wol
 f Mac GSOC\nHome Score: 3\nAway Score: 0
END:VEVENT
BEGIN:VEVENT
UID:5672861@ezleagues.ezfacility.com
DTSTAMP:20260422T212759Z
CREATED:20260422T212759Z
DTSTART:20130120T141200Z
DTEND:20130120T150300Z
LOCATION:Field   ID 1
CONTACT:
SUMMARY:Lady Knights VS. Wolf Mac GSOC
DESCRIPTION:League Name: Winter Indoor 2013 Girl's U-15 thru U-18 North\nGa
 me Type: Regular\nGame Status: Complete\nHome Team: Lady Knights\nAway Tea
 m: Wolf Mac GSOC\nHome Score: 3\nAway Score: 0
END:VEVENT
END:VCALENDAR
