BEGIN:VCALENDAR
VERSION:2.0
PRODID:-//EZFacility.com, Inc.//EZL 2.5.5.28621
BEGIN:VEVENT
UID:5645802@ezleagues.ezfacility.com
DTSTAMP:20260424T041435Z
CREATED:20260424T041435Z
DTSTART:20130112T132200Z
DTEND:20130112T141200Z
LOCATION:Field   ID 1
CONTACT:
SUMMARY:Smash  VS. Bulldogs
DESCRIPTION:League Name: Winter Indoor 2013 Boy's U-08\nGame Type: Regular\
 nGame Status: Complete\nHome Team: Smash \nAway Team: Bulldogs\nHome Score
 : 11\nAway Score: 5
END:VEVENT
BEGIN:VEVENT
UID:5678094@ezleagues.ezfacility.com
DTSTAMP:20260424T041435Z
CREATED:20260424T041435Z
DTSTART:20130119T165000Z
DTEND:20130119T174500Z
LOCATION:Field   ID 1
CONTACT:
SUMMARY:Scorpions VS. Smash 
DESCRIPTION:League Name: Winter Indoor 2013 Boy's U-08\nGame Type: Regular\
 nGame Status: Complete\nHome Team: Scorpions\nAway Team: Smash \nHome Scor
 e: 2\nAway Score: 6
END:VEVENT
BEGIN:VEVENT
UID:5678760@ezleagues.ezfacility.com
DTSTAMP:20260424T041435Z
CREATED:20260424T041435Z
DTSTART:20130126T132200Z
DTEND:20130126T141700Z
LOCATION:Field   ID 1
CONTACT:
SUMMARY:Elite FC Arsenal VS. Smash 
DESCRIPTION:League Name: Winter Indoor 2013 Boy's U-08\nGame Type: Regular\
 nGame Status: Complete\nHome Team: Elite FC Arsenal\nAway Team: Smash \nHo
 me Score: 0\nAway Score: 13
END:VEVENT
BEGIN:VEVENT
UID:5678768@ezleagues.ezfacility.com
DTSTAMP:20260424T041435Z
CREATED:20260424T041435Z
DTSTART:20130202T150600Z
DTEND:20130202T160100Z
LOCATION:Field   ID 1
CONTACT:
SUMMARY:Ninjas VS. Smash 
DESCRIPTION:League Name: Winter Indoor 2013 Boy's U-08\nGame Type: Regular\
 nGame Status: Complete\nHome Team: Ninjas\nAway Team: Smash \nHome Score: 
 2\nAway Score: 9
END:VEVENT
BEGIN:VEVENT
UID:5678774@ezleagues.ezfacility.com
DTSTAMP:20260424T041435Z
CREATED:20260424T041435Z
DTSTART:20130209T155800Z
DTEND:20130209T165300Z
LOCATION:Field   ID 1
CONTACT:
SUMMARY:Bush's Best Baked Beans U8 VS. Smash 
DESCRIPTION:League Name: Winter Indoor 2013 Boy's U-08\nGame Type: Regular\
 nGame Status: Complete\nHome Team: Bush's Best Baked Beans U8\nAway Team: 
 Smash \nHome Score: 0\nAway Score: 14
END:VEVENT
BEGIN:VEVENT
UID:5678779@ezleagues.ezfacility.com
DTSTAMP:20260424T041435Z
CREATED:20260424T041435Z
DTSTART:20130216T141400Z
DTEND:20130216T150900Z
LOCATION:Field   ID 3
CONTACT:
SUMMARY:Smash  VS. DSL Dragons
DESCRIPTION:League Name: Winter Indoor 2013 Boy's U-08\nGame Type: Regular\
 nGame Status: Complete\nHome Team: Smash \nAway Team: DSL Dragons\nHome Sc
 ore: 10\nAway Score: 2
END:VEVENT
BEGIN:VEVENT
UID:5678783@ezleagues.ezfacility.com
DTSTAMP:20260424T041435Z
CREATED:20260424T041435Z
DTSTART:20130223T132200Z
DTEND:20130223T141700Z
LOCATION:Field   ID 2
CONTACT:
SUMMARY:Smash  VS. Grandview Raptors 
DESCRIPTION:League Name: Winter Indoor 2013 Boy's U-08\nGame Type: Regular\
 nGame Status: Complete\nHome Team: Smash \nAway Team: Grandview Raptors \n
 Home Score: 15\nAway Score: 4
END:VEVENT
BEGIN:VEVENT
UID:5678794@ezleagues.ezfacility.com
DTSTAMP:20260424T041435Z
CREATED:20260424T041435Z
DTSTART:20130302T165000Z
DTEND:20130302T174500Z
LOCATION:Field   ID 3
CONTACT:
SUMMARY:SFA U8 Arsenal VS. Smash 
DESCRIPTION:League Name: Winter Indoor 2013 Boy's U-08\nGame Type: Regular\
 nGame Status: Complete\nHome Team: SFA U8 Arsenal\nAway Team: Smash \nHome
  Score: 2\nAway Score: 13
END:VEVENT
BEGIN:VEVENT
UID:5678805@ezleagues.ezfacility.com
DTSTAMP:20260424T041435Z
CREATED:20260424T041435Z
DTSTART:20130309T123000Z
DTEND:20130309T132500Z
LOCATION:Field   ID 1
CONTACT:
SUMMARY:Smash  VS. Scorpions
DESCRIPTION:League Name: Winter Indoor 2013 Boy's U-08\nGame Type: Regular\
 nGame Status: Complete\nHome Team: Smash \nAway Team: Scorpions\nHome Scor
 e: 3\nAway Score: 4
END:VEVENT
END:VCALENDAR
