BEGIN:VCALENDAR
VERSION:2.0
PRODID:-//EZFacility.com, Inc.//EZL 2.5.5.28621
BEGIN:VEVENT
UID:5929361@ezleagues.ezfacility.com
DTSTAMP:20260423T091242Z
CREATED:20260423T091242Z
DTSTART:20130412T003000Z
DTEND:20130412T013000Z
LOCATION:SAC Main Court
CONTACT:
SUMMARY:Tarheels Black (Berger) VS. ABA Supreme Black (Lee)
DESCRIPTION:League Name: Indep Spring Session - 7th Grade Boys (Silver)\nGa
 me Type: Regular\nGame Status: Complete\nHome Team: Tarheels Black (Berger
 )\nAway Team: ABA Supreme Black (Lee)\nHome Score: 48\nAway Score: 27
END:VEVENT
BEGIN:VEVENT
UID:5946336@ezleagues.ezfacility.com
DTSTAMP:20260423T091242Z
CREATED:20260423T091242Z
DTSTART:20130420T190000Z
DTEND:20130420T200000Z
LOCATION:SAC Main Court
CONTACT:
SUMMARY:ABA Supreme Black (Lee) VS. Bears (Martin)
DESCRIPTION:League Name: Indep Spring Session - 7th Grade Boys (Silver)\nGa
 me Type: Regular\nGame Status: Complete\nHome Team: ABA Supreme Black (Lee
 )\nAway Team: Bears (Martin)\nHome Score: 21\nAway Score: 38
END:VEVENT
BEGIN:VEVENT
UID:5946339@ezleagues.ezfacility.com
DTSTAMP:20260423T091242Z
CREATED:20260423T091242Z
DTSTART:20130426T003000Z
DTEND:20130426T013000Z
LOCATION:SAC Main Court
CONTACT:
SUMMARY:Liberty Twolves (Walker) VS. ABA Supreme Black (Lee)
DESCRIPTION:League Name: Indep Spring Session - 7th Grade Boys (Silver)\nGa
 me Type: Regular\nGame Status: Complete\nHome Team: Liberty Twolves (Walke
 r)\nAway Team: ABA Supreme Black (Lee)\nHome Score: 43\nAway Score: 23
END:VEVENT
BEGIN:VEVENT
UID:5946345@ezleagues.ezfacility.com
DTSTAMP:20260423T091242Z
CREATED:20260423T091242Z
DTSTART:20130516T223000Z
DTEND:20130516T233000Z
LOCATION:ESL Stephanie Mullins DDS Ct
CONTACT:
SUMMARY:Bears (Martin) VS. ABA Supreme Black (Lee)
DESCRIPTION:League Name: Indep Spring Session - 7th Grade Boys (Silver)\nGa
 me Type: Regular\nGame Status: Complete\nHome Team: Bears (Martin)\nAway T
 eam: ABA Supreme Black (Lee)\nHome Score: 54\nAway Score: 50
END:VEVENT
BEGIN:VEVENT
UID:5946347@ezleagues.ezfacility.com
DTSTAMP:20260423T091242Z
CREATED:20260423T091242Z
DTSTART:20130518T013000Z
DTEND:20130518T023000Z
LOCATION:ESL The Albin CPA Firm\, LLC Ct
CONTACT:
SUMMARY:Celtics (Cherry) VS. ABA Supreme Black (Lee)
DESCRIPTION:League Name: Indep Spring Session - 7th Grade Boys (Silver)\nGa
 me Type: Regular\nGame Status: Complete\nHome Team: Celtics (Cherry)\nAway
  Team: ABA Supreme Black (Lee)\nHome Score: 16\nAway Score: 32
END:VEVENT
BEGIN:VEVENT
UID:5946341@ezleagues.ezfacility.com
DTSTAMP:20260423T091242Z
CREATED:20260423T091242Z
DTSTART:20130531T223000Z
DTEND:20130531T233000Z
LOCATION:ESL The Albin CPA Firm\, LLC Ct
CONTACT:
SUMMARY:Make It - Take It (Chick) VS. ABA Supreme Black (Lee)
DESCRIPTION:League Name: Indep Spring Session - 7th Grade Boys (Silver)\nGa
 me Type: Regular\nGame Status: Complete\nHome Team: Make It - Take It (Chi
 ck)\nAway Team: ABA Supreme Black (Lee)\nHome Score: 28\nAway Score: 33
END:VEVENT
BEGIN:VEVENT
UID:5946359@ezleagues.ezfacility.com
DTSTAMP:20260423T091242Z
CREATED:20260423T091242Z
DTSTART:20130606T223000Z
DTEND:20130606T233000Z
LOCATION:SAC Main Court
CONTACT:
SUMMARY:ABA Supreme Black (Lee) VS. Patriots (McPherson)
DESCRIPTION:League Name: Indep Spring Session - 7th Grade Boys (Silver)\nGa
 me Type: Regular\nGame Status: Complete\nHome Team: ABA Supreme Black (Lee
 )\nAway Team: Patriots (McPherson)\nHome Score: 62\nAway Score: 52
END:VEVENT
BEGIN:VEVENT
UID:5946363@ezleagues.ezfacility.com
DTSTAMP:20260423T091242Z
CREATED:20260423T091242Z
DTSTART:20130608T023000Z
DTEND:20130608T033000Z
LOCATION:ESL The Albin CPA Firm\, LLC Ct
CONTACT:
SUMMARY:ABA Supreme Black (Lee) VS. Celtics (Cherry)
DESCRIPTION:League Name: Indep Spring Session - 7th Grade Boys (Silver)\nGa
 me Type: Regular\nGame Status: Complete\nHome Team: ABA Supreme Black (Lee
 )\nAway Team: Celtics (Cherry)\nHome Score: 38\nAway Score: 34
END:VEVENT
END:VCALENDAR
