BEGIN:VCALENDAR
VERSION:2.0
PRODID:-//EZFacility.com, Inc.//EZL 2.5.5.28621
BEGIN:VEVENT
UID:5924794@ezleagues.ezfacility.com
DTSTAMP:20260424T084226Z
CREATED:20260424T084226Z
DTSTART:20130407T223300Z
DTEND:20130407T232400Z
LOCATION:Field   ID 1
CONTACT:
SUMMARY:Gangnam Style VS. Yogi's
DESCRIPTION:League Name: Spring Indoor 2013 Coed 0pen Denim\nGame Type: Reg
 ular\nGame Status: Complete\nHome Team: Gangnam Style\nAway Team: Yogi's\n
 Home Score: 4\nAway Score: 10
END:VEVENT
BEGIN:VEVENT
UID:5934584@ezleagues.ezfacility.com
DTSTAMP:20260424T084226Z
CREATED:20260424T084226Z
DTSTART:20130414T190900Z
DTEND:20130414T200000Z
LOCATION:Field   ID 1
CONTACT:
SUMMARY:Yogi's VS. Giggle Monsters
DESCRIPTION:League Name: Spring Indoor 2013 Coed 0pen Denim\nGame Type: Reg
 ular\nGame Status: Complete\nHome Team: Yogi's\nAway Team: Giggle Monsters
 \nHome Score: 2\nAway Score: 7
END:VEVENT
BEGIN:VEVENT
UID:5934587@ezleagues.ezfacility.com
DTSTAMP:20260424T084226Z
CREATED:20260424T084226Z
DTSTART:20130421T163600Z
DTEND:20130421T172700Z
LOCATION:Field   ID 3
CONTACT:
SUMMARY:Los Pollos Flacos VS. Yogi's
DESCRIPTION:League Name: Spring Indoor 2013 Coed 0pen Denim\nGame Type: Reg
 ular\nGame Status: Complete\nHome Team: Los Pollos Flacos\nAway Team: Yogi
 's\nHome Score: 2\nAway Score: 2
END:VEVENT
BEGIN:VEVENT
UID:5934578@ezleagues.ezfacility.com
DTSTAMP:20260424T084226Z
CREATED:20260424T084226Z
DTSTART:20130428T154500Z
DTEND:20130428T163600Z
LOCATION:Field   ID 1
CONTACT:
SUMMARY:Yogi's VS. War Tees
DESCRIPTION:League Name: Spring Indoor 2013 Coed 0pen Denim\nGame Type: Reg
 ular\nGame Status: Complete\nHome Team: Yogi's\nAway Team: War Tees\nHome 
 Score: 1\nAway Score: 3
END:VEVENT
BEGIN:VEVENT
UID:5934596@ezleagues.ezfacility.com
DTSTAMP:20260424T084226Z
CREATED:20260424T084226Z
DTSTART:20130506T001500Z
DTEND:20130506T010600Z
LOCATION:Field   ID 1
CONTACT:
SUMMARY:Wyld Stallyns VS. Yogi's
DESCRIPTION:League Name: Spring Indoor 2013 Coed 0pen Denim\nGame Type: Reg
 ular\nGame Status: Complete\nHome Team: Wyld Stallyns\nAway Team: Yogi's\n
 Home Score: 6\nAway Score: 8
END:VEVENT
BEGIN:VEVENT
UID:5934600@ezleagues.ezfacility.com
DTSTAMP:20260424T084226Z
CREATED:20260424T084226Z
DTSTART:20130512T214200Z
DTEND:20130512T223300Z
LOCATION:Field   ID 1
CONTACT:
SUMMARY:Yogi's VS. 7 Nation Army
DESCRIPTION:League Name: Spring Indoor 2013 Coed 0pen Denim\nGame Type: Reg
 ular\nGame Status: Complete\nHome Team: Yogi's\nAway Team: 7 Nation Army\n
 Home Score: 3\nAway Score: 2
END:VEVENT
BEGIN:VEVENT
UID:5934604@ezleagues.ezfacility.com
DTSTAMP:20260424T084226Z
CREATED:20260424T084226Z
DTSTART:20130519T232400Z
DTEND:20130520T001500Z
LOCATION:Field   ID 1
CONTACT:
SUMMARY:Yogi's VS. Y U No Score
DESCRIPTION:League Name: Spring Indoor 2013 Coed 0pen Denim\nGame Type: Reg
 ular\nGame Status: Complete\nHome Team: Yogi's\nAway Team: Y U No Score\nH
 ome Score: 9\nAway Score: 1
END:VEVENT
END:VCALENDAR
