BEGIN:VCALENDAR
VERSION:2.0
PRODID:-//EZFacility.com, Inc.//EZL 2.5.5.28621
BEGIN:VEVENT
UID:5924830@ezleagues.ezfacility.com
DTSTAMP:20260423T002122Z
CREATED:20260423T002122Z
DTSTART:20130408T001500Z
DTEND:20130408T010600Z
LOCATION:Field   ID 1
CONTACT:
SUMMARY:Juices of Fire VS. Too Crew For You
DESCRIPTION:League Name: Spring Indoor 2013 Coed 0pen Lime\nGame Type: Regu
 lar\nGame Status: Complete\nHome Team: Juices of Fire\nAway Team: Too Crew
  For You\nHome Score: 11\nAway Score: 5
END:VEVENT
BEGIN:VEVENT
UID:5934690@ezleagues.ezfacility.com
DTSTAMP:20260423T002122Z
CREATED:20260423T002122Z
DTSTART:20130414T205100Z
DTEND:20130414T214200Z
LOCATION:Field   ID 1
CONTACT:
SUMMARY:Too Crew For You VS. Kickin It
DESCRIPTION:League Name: Spring Indoor 2013 Coed 0pen Lime\nGame Type: Regu
 lar\nGame Status: Complete\nHome Team: Too Crew For You\nAway Team: Kickin
  It\nHome Score: 4\nAway Score: 9
END:VEVENT
BEGIN:VEVENT
UID:5934692@ezleagues.ezfacility.com
DTSTAMP:20260423T002122Z
CREATED:20260423T002122Z
DTSTART:20130421T190900Z
DTEND:20130421T200000Z
LOCATION:Field   ID 1
CONTACT:
SUMMARY:Mutiny FC VS. Too Crew For You
DESCRIPTION:League Name: Spring Indoor 2013 Coed 0pen Lime\nGame Type: Regu
 lar\nGame Status: Complete\nHome Team: Mutiny FC\nAway Team: Too Crew For 
 You\nHome Score: 10\nAway Score: 3
END:VEVENT
BEGIN:VEVENT
UID:5934696@ezleagues.ezfacility.com
DTSTAMP:20260423T002122Z
CREATED:20260423T002122Z
DTSTART:20130428T154500Z
DTEND:20130428T163600Z
LOCATION:Field   ID 3
CONTACT:
SUMMARY:Too Crew For You VS. Extrascoredinary
DESCRIPTION:League Name: Spring Indoor 2013 Coed 0pen Lime\nGame Type: Regu
 lar\nGame Status: Complete\nHome Team: Too Crew For You\nAway Team: Extras
 coredinary\nHome Score: 4\nAway Score: 6
END:VEVENT
BEGIN:VEVENT
UID:5934703@ezleagues.ezfacility.com
DTSTAMP:20260423T002122Z
CREATED:20260423T002122Z
DTSTART:20130505T214200Z
DTEND:20130505T223300Z
LOCATION:Field   ID 1
CONTACT:
SUMMARY:Hi Lighters VS. Too Crew For You
DESCRIPTION:League Name: Spring Indoor 2013 Coed 0pen Lime\nGame Type: Regu
 lar\nGame Status: Complete\nHome Team: Hi Lighters\nAway Team: Too Crew Fo
 r You\nHome Score: 10\nAway Score: 4
END:VEVENT
BEGIN:VEVENT
UID:5934706@ezleagues.ezfacility.com
DTSTAMP:20260423T002122Z
CREATED:20260423T002122Z
DTSTART:20130512T214200Z
DTEND:20130512T223300Z
LOCATION:Field   ID 1
CONTACT:
SUMMARY:Too Crew For You VS. Columbus Football Club
DESCRIPTION:League Name: Spring Indoor 2013 Coed 0pen Lime\nGame Type: Regu
 lar\nGame Status: Complete\nHome Team: Too Crew For You\nAway Team: Columb
 us Football Club\nHome Score: 4\nAway Score: 3
END:VEVENT
BEGIN:VEVENT
UID:5934709@ezleagues.ezfacility.com
DTSTAMP:20260423T002122Z
CREATED:20260423T002122Z
DTSTART:20130520T001500Z
DTEND:20130520T010600Z
LOCATION:Field   ID 1
CONTACT:
SUMMARY:Too Crew For You VS. Wii Not Fit
DESCRIPTION:League Name: Spring Indoor 2013 Coed 0pen Lime\nGame Type: Regu
 lar\nGame Status: Complete\nHome Team: Too Crew For You\nAway Team: Wii No
 t Fit\nHome Score: 5\nAway Score: 6
END:VEVENT
END:VCALENDAR
