BEGIN:VCALENDAR
VERSION:2.0
PRODID:-//EZFacility.com, Inc.//EZL 2.5.5.28621
BEGIN:VEVENT
UID:6019452@ezleagues.ezfacility.com
DTSTAMP:20260426T035028Z
CREATED:20260426T035028Z
DTSTART:20130515T223000Z
DTEND:20130516T000000Z
LOCATION:Field   ID 1
CONTACT:
SUMMARY:Golden Monkeys VS. Man United 2
DESCRIPTION:League Name: 2013 Spring Outdoor Men's 30+ 11v11 East\nGame Typ
 e: Regular\nGame Status: Complete\nHome Team: Golden Monkeys\nAway Team: M
 an United 2\nHome Score: 0\nAway Score: 7
END:VEVENT
BEGIN:VEVENT
UID:6019457@ezleagues.ezfacility.com
DTSTAMP:20260426T035028Z
CREATED:20260426T035028Z
DTSTART:20130522T223000Z
DTEND:20130523T000000Z
LOCATION:Field 07
CONTACT:
SUMMARY:Man United 2 VS. Brew Crew
DESCRIPTION:League Name: 2013 Spring Outdoor Men's 30+ 11v11 East\nGame Typ
 e: Regular\nGame Status: Complete\nHome Team: Man United 2\nAway Team: Bre
 w Crew\nHome Score: 7\nAway Score: 2
END:VEVENT
BEGIN:VEVENT
UID:6019462@ezleagues.ezfacility.com
DTSTAMP:20260426T035028Z
CREATED:20260426T035028Z
DTSTART:20130529T223000Z
DTEND:20130530T000000Z
LOCATION:Field 04
CONTACT:
SUMMARY:Alte Manner VS. Man United 2
DESCRIPTION:League Name: 2013 Spring Outdoor Men's 30+ 11v11 East\nGame Typ
 e: Regular\nGame Status: Complete\nHome Team: Alte Manner\nAway Team: Man 
 United 2\nHome Score: 3\nAway Score: 0
END:VEVENT
BEGIN:VEVENT
UID:6019466@ezleagues.ezfacility.com
DTSTAMP:20260426T035028Z
CREATED:20260426T035028Z
DTSTART:20130605T223000Z
DTEND:20130606T000000Z
LOCATION:Field_11
CONTACT:
SUMMARY:Libertadores VS. Man United 2
DESCRIPTION:League Name: 2013 Spring Outdoor Men's 30+ 11v11 East\nGame Typ
 e: Regular\nGame Status: Complete\nHome Team: Libertadores\nAway Team: Man
  United 2\nHome Score: 1\nAway Score: 2
END:VEVENT
BEGIN:VEVENT
UID:6019469@ezleagues.ezfacility.com
DTSTAMP:20260426T035028Z
CREATED:20260426T035028Z
DTSTART:20130612T223000Z
DTEND:20130613T000000Z
LOCATION:Field 06
CONTACT:
SUMMARY:Man United 2 VS. High Plains Drifters
DESCRIPTION:League Name: 2013 Spring Outdoor Men's 30+ 11v11 East\nGame Typ
 e: Regular\nGame Status: Complete\nHome Team: Man United 2\nAway Team: Hig
 h Plains Drifters\nHome Score: 9\nAway Score: 0
END:VEVENT
BEGIN:VEVENT
UID:6019472@ezleagues.ezfacility.com
DTSTAMP:20260426T035028Z
CREATED:20260426T035028Z
DTSTART:20130619T223000Z
DTEND:20130620T000000Z
LOCATION:Field 09
CONTACT:
SUMMARY:Flash 2 VS. Man United 2
DESCRIPTION:League Name: 2013 Spring Outdoor Men's 30+ 11v11 East\nGame Typ
 e: Regular\nGame Status: Complete\nHome Team: Flash 2\nAway Team: Man Unit
 ed 2\nHome Score: 1\nAway Score: 3
END:VEVENT
BEGIN:VEVENT
UID:6019475@ezleagues.ezfacility.com
DTSTAMP:20260426T035028Z
CREATED:20260426T035028Z
DTSTART:20130626T223000Z
DTEND:20130627T000000Z
LOCATION:Field_12
CONTACT:
SUMMARY:Man United 2 VS. Arch City Hooligans
DESCRIPTION:League Name: 2013 Spring Outdoor Men's 30+ 11v11 East\nGame Typ
 e: Regular\nGame Status: Complete\nHome Team: Man United 2\nAway Team: Arc
 h City Hooligans\nHome Score: 3\nAway Score: 3
END:VEVENT
BEGIN:VEVENT
UID:6019483@ezleagues.ezfacility.com
DTSTAMP:20260426T035028Z
CREATED:20260426T035028Z
DTSTART:20130717T223000Z
DTEND:20130718T000000Z
LOCATION:Field 10
CONTACT:
SUMMARY:Man United 2 VS. Hooligans
DESCRIPTION:League Name: 2013 Spring Outdoor Men's 30+ 11v11 East\nGame Typ
 e: Regular\nGame Status: Complete\nHome Team: Man United 2\nAway Team: Hoo
 ligans\nHome Score: 1\nAway Score: 3
END:VEVENT
BEGIN:VEVENT
UID:6188244@ezleagues.ezfacility.com
DTSTAMP:20260426T035028Z
CREATED:20260426T035028Z
DTSTART:20130724T223000Z
DTEND:20130725T000000Z
LOCATION:Field 10
CONTACT:
SUMMARY:Alte Manner VS. Man United 2
DESCRIPTION:League Name: 2013 Spring Outdoor Men's 30+ 11v11 East\nGame Typ
 e: Postseason\nGame Status: Complete\nHome Team: Alte Manner\nAway Team: M
 an United 2\nHome Score: 2\nAway Score: 1
END:VEVENT
END:VCALENDAR
