BEGIN:VCALENDAR
VERSION:2.0
PRODID:-//EZFacility.com, Inc.//EZL 2.5.5.28621
BEGIN:VEVENT
UID:6106131@ezleagues.ezfacility.com
DTSTAMP:20260425T103058Z
CREATED:20260425T103058Z
DTSTART:20130615T003000Z
DTEND:20130615T013000Z
LOCATION:SAC Main Court
CONTACT:
SUMMARY:ABA Supreme Red  (T. Davis) VS. Horned Frogs (Miles)
DESCRIPTION:League Name: Indep Summer Session - 8th Grade Boys\nGame Type: 
 Regular\nGame Status: Complete\nHome Team: ABA Supreme Red  (T. Davis)\nAw
 ay Team: Horned Frogs (Miles)\nHome Score: 47\nAway Score: 27
END:VEVENT
BEGIN:VEVENT
UID:6126604@ezleagues.ezfacility.com
DTSTAMP:20260425T103058Z
CREATED:20260425T103058Z
DTSTART:20130628T013000Z
DTEND:20130628T023000Z
LOCATION:ESL The Albin CPA Firm\, LLC Ct
CONTACT:
SUMMARY:Tarheels Elite 7th (Berger) VS. ABA Supreme Red  (T. Davis)
DESCRIPTION:League Name: Indep Summer Session - 8th Grade Boys\nGame Type: 
 Regular\nGame Status: Complete\nHome Team: Tarheels Elite 7th (Berger)\nAw
 ay Team: ABA Supreme Red  (T. Davis)\nHome Score: 42\nAway Score: 45
END:VEVENT
BEGIN:VEVENT
UID:6126609@ezleagues.ezfacility.com
DTSTAMP:20260425T103058Z
CREATED:20260425T103058Z
DTSTART:20130713T023000Z
DTEND:20130713T033000Z
LOCATION:ESL Stephanie Mullins DDS Ct
CONTACT:
SUMMARY:Thunder (Calvert) VS. ABA Supreme Red  (T. Davis)
DESCRIPTION:League Name: Indep Summer Session - 8th Grade Boys\nGame Type: 
 Regular\nGame Status: Complete\nHome Team: Thunder (Calvert)\nAway Team: A
 BA Supreme Red  (T. Davis)\nHome Score: 30\nAway Score: 40
END:VEVENT
BEGIN:VEVENT
UID:6126614@ezleagues.ezfacility.com
DTSTAMP:20260425T103058Z
CREATED:20260425T103058Z
DTSTART:20130725T233000Z
DTEND:20130726T003000Z
LOCATION:ESL The Albin CPA Firm\, LLC Ct
CONTACT:
SUMMARY:ABA Supreme Red  (T. Davis) VS. ABA Supreme Red 7th (Rawie)
DESCRIPTION:League Name: Indep Summer Session - 8th Grade Boys\nGame Type: 
 Regular\nGame Status: Complete\nHome Team: ABA Supreme Red  (T. Davis)\nAw
 ay Team: ABA Supreme Red 7th (Rawie)\nHome Score: 49\nAway Score: 44
END:VEVENT
BEGIN:VEVENT
UID:6126620@ezleagues.ezfacility.com
DTSTAMP:20260425T103058Z
CREATED:20260425T103058Z
DTSTART:20130809T013000Z
DTEND:20130809T023000Z
LOCATION:SAC Main Court
CONTACT:
SUMMARY:ABA Supreme Red  (T. Davis) VS. Shooters (Brandt)
DESCRIPTION:League Name: Indep Summer Session - 8th Grade Boys\nGame Type: 
 Regular\nGame Status: Complete\nHome Team: ABA Supreme Red  (T. Davis)\nAw
 ay Team: Shooters (Brandt)\nHome Score: 0\nAway Score: 2
END:VEVENT
BEGIN:VEVENT
UID:6126622@ezleagues.ezfacility.com
DTSTAMP:20260425T103058Z
CREATED:20260425T103058Z
DTSTART:20130810T003000Z
DTEND:20130810T013000Z
LOCATION:SAC Main Court
CONTACT:
SUMMARY:Belton Pirates Purple (Gerke) VS. ABA Supreme Red  (T. Davis)
DESCRIPTION:League Name: Indep Summer Session - 8th Grade Boys\nGame Type: 
 Regular\nGame Status: Complete\nHome Team: Belton Pirates Purple (Gerke)\n
 Away Team: ABA Supreme Red  (T. Davis)\nHome Score: 42\nAway Score: 40
END:VEVENT
BEGIN:VEVENT
UID:6126627@ezleagues.ezfacility.com
DTSTAMP:20260425T103058Z
CREATED:20260425T103058Z
DTSTART:20130816T223000Z
DTEND:20130816T233000Z
LOCATION:ESL The Albin CPA Firm\, LLC Ct
CONTACT:
SUMMARY:ABA Supreme Black (K. Davis) VS. ABA Supreme Red  (T. Davis)
DESCRIPTION:League Name: Indep Summer Session - 8th Grade Boys\nGame Type: 
 Regular\nGame Status: Complete\nHome Team: ABA Supreme Black (K. Davis)\nA
 way Team: ABA Supreme Red  (T. Davis)\nHome Score: 36\nAway Score: 59
END:VEVENT
BEGIN:VEVENT
UID:6126702@ezleagues.ezfacility.com
DTSTAMP:20260425T103058Z
CREATED:20260425T103058Z
DTSTART:20130817T210000Z
DTEND:20130817T220000Z
LOCATION:SAC Main Court
CONTACT:
SUMMARY:ABA Supreme Red  (T. Davis) VS. ABA Supreme Black (K. Davis)
DESCRIPTION:League Name: Indep Summer Session - 8th Grade Boys\nGame Type: 
 Regular\nGame Status: Complete\nHome Team: ABA Supreme Red  (T. Davis)\nAw
 ay Team: ABA Supreme Black (K. Davis)\nHome Score: 68\nAway Score: 32
END:VEVENT
END:VCALENDAR
