BEGIN:VCALENDAR
VERSION:2.0
PRODID:-//EZFacility.com, Inc.//EZL 2.5.5.28621
BEGIN:VEVENT
UID:6100652@ezleagues.ezfacility.com
DTSTAMP:20260426T034946Z
CREATED:20260426T034946Z
DTSTART:20130614T003000Z
DTEND:20130614T013000Z
LOCATION:ESL Stephanie Mullins DDS Ct
CONTACT:
SUMMARY:Liberty Tigers (Hill) VS. Roosters (Slaughter)
DESCRIPTION:League Name: Indep Summer Session - 6th Grade Boys (Silver)\nGa
 me Type: Regular\nGame Status: Complete\nHome Team: Liberty Tigers (Hill)\
 nAway Team: Roosters (Slaughter)\nHome Score: 30\nAway Score: 22
END:VEVENT
BEGIN:VEVENT
UID:6100655@ezleagues.ezfacility.com
DTSTAMP:20260426T034946Z
CREATED:20260426T034946Z
DTSTART:20130621T223000Z
DTEND:20130621T233000Z
LOCATION:ESL Stephanie Mullins DDS Ct
CONTACT:
SUMMARY:Liberty Tigers (Hill) VS. Indep Patriots (Stoebick)
DESCRIPTION:League Name: Indep Summer Session - 6th Grade Boys (Silver)\nGa
 me Type: Regular\nGame Status: Complete\nHome Team: Liberty Tigers (Hill)\
 nAway Team: Indep Patriots (Stoebick)\nHome Score: 43\nAway Score: 29
END:VEVENT
BEGIN:VEVENT
UID:6126417@ezleagues.ezfacility.com
DTSTAMP:20260426T034946Z
CREATED:20260426T034946Z
DTSTART:20130626T233000Z
DTEND:20130627T003000Z
LOCATION:ESL Stephanie Mullins DDS Ct
CONTACT:
SUMMARY:Liberty Tigers (Hill) VS. Roosters (Slaughter)
DESCRIPTION:League Name: Indep Summer Session - 6th Grade Boys (Silver)\nGa
 me Type: Regular\nGame Status: Complete\nHome Team: Liberty Tigers (Hill)\
 nAway Team: Roosters (Slaughter)\nHome Score: 39\nAway Score: 20
END:VEVENT
BEGIN:VEVENT
UID:6126420@ezleagues.ezfacility.com
DTSTAMP:20260426T034946Z
CREATED:20260426T034946Z
DTSTART:20130711T003000Z
DTEND:20130711T013000Z
LOCATION:ESL Stephanie Mullins DDS Ct
CONTACT:
SUMMARY:Wolf Pack 5th (Matlon) VS. Liberty Tigers (Hill)
DESCRIPTION:League Name: Indep Summer Session - 6th Grade Boys (Silver)\nGa
 me Type: Regular\nGame Status: Complete\nHome Team: Wolf Pack 5th (Matlon)
 \nAway Team: Liberty Tigers (Hill)\nHome Score: 25\nAway Score: 26
END:VEVENT
BEGIN:VEVENT
UID:6126430@ezleagues.ezfacility.com
DTSTAMP:20260426T034946Z
CREATED:20260426T034946Z
DTSTART:20130725T223000Z
DTEND:20130725T233000Z
LOCATION:SAC Main Court
CONTACT:
SUMMARY:Bears (Barnes) VS. Liberty Tigers (Hill)
DESCRIPTION:League Name: Indep Summer Session - 6th Grade Boys (Silver)\nGa
 me Type: Regular\nGame Status: Complete\nHome Team: Bears (Barnes)\nAway T
 eam: Liberty Tigers (Hill)\nHome Score: 31\nAway Score: 50
END:VEVENT
BEGIN:VEVENT
UID:6126434@ezleagues.ezfacility.com
DTSTAMP:20260426T034946Z
CREATED:20260426T034946Z
DTSTART:20130803T023000Z
DTEND:20130803T033000Z
LOCATION:ESL The Albin CPA Firm\, LLC Ct
CONTACT:
SUMMARY:Liberty Tigers (Hill) VS. ABA Supreme Grey (Schmidt)
DESCRIPTION:League Name: Indep Summer Session - 6th Grade Boys (Silver)\nGa
 me Type: Regular\nGame Status: Complete\nHome Team: Liberty Tigers (Hill)\
 nAway Team: ABA Supreme Grey (Schmidt)\nHome Score: 37\nAway Score: 18
END:VEVENT
BEGIN:VEVENT
UID:6126436@ezleagues.ezfacility.com
DTSTAMP:20260426T034946Z
CREATED:20260426T034946Z
DTSTART:20130809T013000Z
DTEND:20130809T023000Z
LOCATION:ESL The Albin CPA Firm\, LLC Ct
CONTACT:
SUMMARY:Bears (Barnes) VS. Liberty Tigers (Hill)
DESCRIPTION:League Name: Indep Summer Session - 6th Grade Boys (Silver)\nGa
 me Type: Regular\nGame Status: Complete\nHome Team: Bears (Barnes)\nAway T
 eam: Liberty Tigers (Hill)\nHome Score: 35\nAway Score: 31
END:VEVENT
BEGIN:VEVENT
UID:6126441@ezleagues.ezfacility.com
DTSTAMP:20260426T034946Z
CREATED:20260426T034946Z
DTSTART:20130817T023000Z
DTEND:20130817T033000Z
LOCATION:SAC Main Court
CONTACT:
SUMMARY:Roosters (Slaughter) VS. Liberty Tigers (Hill)
DESCRIPTION:League Name: Indep Summer Session - 6th Grade Boys (Silver)\nGa
 me Type: Regular\nGame Status: Complete\nHome Team: Roosters (Slaughter)\n
 Away Team: Liberty Tigers (Hill)\nHome Score: 32\nAway Score: 35
END:VEVENT
END:VCALENDAR
