BEGIN:VCALENDAR
VERSION:2.0
PRODID:-//EZFacility.com, Inc.//EZL 2.5.5.28621
BEGIN:VEVENT
UID:6100661@ezleagues.ezfacility.com
DTSTAMP:20260424T044220Z
CREATED:20260424T044220Z
DTSTART:20130622T023000Z
DTEND:20130622T033000Z
LOCATION:ESL The Albin CPA Firm\, LLC Ct
CONTACT:
SUMMARY:Panthers (Haggerty) VS. ABA Supreme White (Wright)
DESCRIPTION:League Name: Indep Summer Session - 7th Grade Boys (Bronze)\nGa
 me Type: Regular\nGame Status: Complete\nHome Team: Panthers (Haggerty)\nA
 way Team: ABA Supreme White (Wright)\nHome Score: 20\nAway Score: 52
END:VEVENT
BEGIN:VEVENT
UID:6126461@ezleagues.ezfacility.com
DTSTAMP:20260424T044220Z
CREATED:20260424T044220Z
DTSTART:20130629T023000Z
DTEND:20130629T033000Z
LOCATION:ESL Stephanie Mullins DDS Ct
CONTACT:
SUMMARY:Panthers (Haggerty) VS. Grandview Tigers (Taylor)
DESCRIPTION:League Name: Indep Summer Session - 7th Grade Boys (Bronze)\nGa
 me Type: Regular\nGame Status: Complete\nHome Team: Panthers (Haggerty)\nA
 way Team: Grandview Tigers (Taylor)\nHome Score: 20\nAway Score: 40
END:VEVENT
BEGIN:VEVENT
UID:6126464@ezleagues.ezfacility.com
DTSTAMP:20260424T044220Z
CREATED:20260424T044220Z
DTSTART:20130719T003000Z
DTEND:20130719T013000Z
LOCATION:ESL The Albin CPA Firm\, LLC Ct
CONTACT:
SUMMARY:Panthers (Haggerty) VS. Grandview Tigers (Taylor)
DESCRIPTION:League Name: Indep Summer Session - 7th Grade Boys (Bronze)\nGa
 me Type: Regular\nGame Status: Complete\nHome Team: Panthers (Haggerty)\nA
 way Team: Grandview Tigers (Taylor)\nHome Score: 29\nAway Score: 55
END:VEVENT
BEGIN:VEVENT
UID:6126534@ezleagues.ezfacility.com
DTSTAMP:20260424T044220Z
CREATED:20260424T044220Z
DTSTART:20130726T223000Z
DTEND:20130726T233000Z
LOCATION:ESL The Albin CPA Firm\, LLC Ct
CONTACT:
SUMMARY:ABA Supreme Black (Lee) VS. Panthers (Haggerty)
DESCRIPTION:League Name: Indep Summer Session - 7th Grade Boys (Bronze)\nGa
 me Type: Regular\nGame Status: Complete\nHome Team: ABA Supreme Black (Lee
 )\nAway Team: Panthers (Haggerty)\nHome Score: 62\nAway Score: 35
END:VEVENT
BEGIN:VEVENT
UID:6126469@ezleagues.ezfacility.com
DTSTAMP:20260424T044220Z
CREATED:20260424T044220Z
DTSTART:20130803T003000Z
DTEND:20130803T013000Z
LOCATION:ESL The Albin CPA Firm\, LLC Ct
CONTACT:
SUMMARY:Panthers (Haggerty) VS. ABA Supreme White (Wright)
DESCRIPTION:League Name: Indep Summer Session - 7th Grade Boys (Bronze)\nGa
 me Type: Regular\nGame Status: Complete\nHome Team: Panthers (Haggerty)\nA
 way Team: ABA Supreme White (Wright)\nHome Score: 30\nAway Score: 26
END:VEVENT
BEGIN:VEVENT
UID:6126470@ezleagues.ezfacility.com
DTSTAMP:20260424T044220Z
CREATED:20260424T044220Z
DTSTART:20130808T223000Z
DTEND:20130808T233000Z
LOCATION:ESL The Albin CPA Firm\, LLC Ct
CONTACT:
SUMMARY:Panthers (Haggerty) VS. Celtics (Cherry)
DESCRIPTION:League Name: Indep Summer Session - 7th Grade Boys (Bronze)\nGa
 me Type: Regular\nGame Status: Complete\nHome Team: Panthers (Haggerty)\nA
 way Team: Celtics (Cherry)\nHome Score: 23\nAway Score: 79
END:VEVENT
BEGIN:VEVENT
UID:6126487@ezleagues.ezfacility.com
DTSTAMP:20260424T044220Z
CREATED:20260424T044220Z
DTSTART:20130815T233000Z
DTEND:20130816T003000Z
LOCATION:ESL The Albin CPA Firm\, LLC Ct
CONTACT:
SUMMARY:Celtics (Cherry) VS. Panthers (Haggerty)
DESCRIPTION:League Name: Indep Summer Session - 7th Grade Boys (Bronze)\nGa
 me Type: Regular\nGame Status: Complete\nHome Team: Celtics (Cherry)\nAway
  Team: Panthers (Haggerty)\nHome Score: 2\nAway Score: 0
END:VEVENT
BEGIN:VEVENT
UID:6126489@ezleagues.ezfacility.com
DTSTAMP:20260424T044220Z
CREATED:20260424T044220Z
DTSTART:20130817T023000Z
DTEND:20130817T033000Z
LOCATION:ESL Stephanie Mullins DDS Ct
CONTACT:
SUMMARY:ABA Supreme Black (Lee) VS. Panthers (Haggerty)
DESCRIPTION:League Name: Indep Summer Session - 7th Grade Boys (Bronze)\nGa
 me Type: Regular\nGame Status: Complete\nHome Team: ABA Supreme Black (Lee
 )\nAway Team: Panthers (Haggerty)\nHome Score: 2\nAway Score: 0
END:VEVENT
END:VCALENDAR
