BEGIN:VCALENDAR
VERSION:2.0
PRODID:-//EZFacility.com, Inc.//EZL 2.5.5.28621
BEGIN:VEVENT
UID:6190902@ezleagues.ezfacility.com
DTSTAMP:20260426T035159Z
CREATED:20260426T035159Z
DTSTART:20130714T220500Z
DTEND:20130714T230000Z
LOCATION:VA Army National Guard Field 2
CONTACT:
SUMMARY:Reds VS. On The Run
DESCRIPTION:League Name: Sunday Women's Over-30\nGame Type: Regular\nGame S
 tatus: Complete\nHome Team: Reds\nAway Team: On The Run\nHome Score: 9\nAw
 ay Score: 2
END:VEVENT
BEGIN:VEVENT
UID:6190919@ezleagues.ezfacility.com
DTSTAMP:20260426T035159Z
CREATED:20260426T035159Z
DTSTART:20130721T230000Z
DTEND:20130721T235500Z
LOCATION: Field 3
CONTACT:
SUMMARY:On The Run VS. Black Diamond
DESCRIPTION:League Name: Sunday Women's Over-30\nGame Type: Regular\nGame S
 tatus: Complete\nHome Team: On The Run\nAway Team: Black Diamond\nHome Sco
 re: 1\nAway Score: 24
END:VEVENT
BEGIN:VEVENT
UID:6190936@ezleagues.ezfacility.com
DTSTAMP:20260426T035159Z
CREATED:20260426T035159Z
DTSTART:20130728T235500Z
DTEND:20130729T005000Z
LOCATION:VA Army National Guard Field 2
CONTACT:
SUMMARY:Buzz Kill VS. On The Run
DESCRIPTION:League Name: Sunday Women's Over-30\nGame Type: Regular\nGame S
 tatus: Complete\nHome Team: Buzz Kill\nAway Team: On The Run\nHome Score: 
 9\nAway Score: 4
END:VEVENT
BEGIN:VEVENT
UID:6190956@ezleagues.ezfacility.com
DTSTAMP:20260426T035159Z
CREATED:20260426T035159Z
DTSTART:20130804T235500Z
DTEND:20130805T005000Z
LOCATION:VA Army National Guard Field 2
CONTACT:
SUMMARY:Rif Raf VS. On The Run
DESCRIPTION:League Name: Sunday Women's Over-30\nGame Type: Regular\nGame S
 tatus: Complete\nHome Team: Rif Raf\nAway Team: On The Run\nHome Score: 8\
 nAway Score: 5
END:VEVENT
BEGIN:VEVENT
UID:6190973@ezleagues.ezfacility.com
DTSTAMP:20260426T035159Z
CREATED:20260426T035159Z
DTSTART:20130812T005000Z
DTEND:20130812T014500Z
LOCATION:Field 1
CONTACT:Valdivia
SUMMARY:On The Run VS. USA
DESCRIPTION:League Name: Sunday Women's Over-30\nGame Type: Regular\nGame S
 tatus: Complete\nHome Team: On The Run\nAway Team: USA\nHome Score: 2\nAwa
 y Score: 4
END:VEVENT
BEGIN:VEVENT
UID:6190991@ezleagues.ezfacility.com
DTSTAMP:20260426T035159Z
CREATED:20260426T035159Z
DTSTART:20130818T211000Z
DTEND:20130818T220500Z
LOCATION: Field 3
CONTACT:
SUMMARY:On The Run VS. Footloose
DESCRIPTION:League Name: Sunday Women's Over-30\nGame Type: Regular\nGame S
 tatus: Complete\nHome Team: On The Run\nAway Team: Footloose\nHome Score: 
 4\nAway Score: 12
END:VEVENT
BEGIN:VEVENT
UID:6191011@ezleagues.ezfacility.com
DTSTAMP:20260426T035159Z
CREATED:20260426T035159Z
DTSTART:20130825T220500Z
DTEND:20130825T230000Z
LOCATION: Field 3
CONTACT:
SUMMARY:W. Game 3 VS. On The Run
DESCRIPTION:League Name: Sunday Women's Over-30\nGame Type: Postseason\nGam
 e Status: Complete\nHome Team: W. Game 3\nAway Team: On The Run\nHome Scor
 e: 2\nAway Score: 16
END:VEVENT
END:VCALENDAR
