BEGIN:VCALENDAR
VERSION:2.0
PRODID:-//EZFacility.com, Inc.//EZL 2.5.5.28621
BEGIN:VEVENT
UID:6217747@ezleagues.ezfacility.com
DTSTAMP:20260424T194608Z
CREATED:20260424T194608Z
DTSTART:20130809T005000Z
DTEND:20130809T014500Z
LOCATION:Field 1
CONTACT:
SUMMARY:Dulles All-Stars VS. Herndon Hooligans
DESCRIPTION:League Name: Thursday Men's Division 3B\nGame Type: Regular\nGa
 me Status: Complete\nHome Team: Dulles All-Stars\nAway Team: Herndon Hooli
 gans\nHome Score: 2\nAway Score: 5
END:VEVENT
BEGIN:VEVENT
UID:6217757@ezleagues.ezfacility.com
DTSTAMP:20260424T194608Z
CREATED:20260424T194608Z
DTSTART:20130816T014500Z
DTEND:20130816T024000Z
LOCATION:VA Army National Guard Field 2
CONTACT:Martinez
SUMMARY:ACS VS. Dulles All-Stars
DESCRIPTION:League Name: Thursday Men's Division 3B\nGame Type: Regular\nGa
 me Status: Complete\nHome Team: ACS\nAway Team: Dulles All-Stars\nHome Sco
 re: 5\nAway Score: 6
END:VEVENT
BEGIN:VEVENT
UID:6217737@ezleagues.ezfacility.com
DTSTAMP:20260424T194608Z
CREATED:20260424T194608Z
DTSTART:20130816T024000Z
DTEND:20130816T033500Z
LOCATION:VA Army National Guard Field 2
CONTACT:Martinez
SUMMARY:Dulles All-Stars VS. Internationals
DESCRIPTION:League Name: Thursday Men's Division 3B\nGame Type: Regular\nGa
 me Status: Complete\nHome Team: Dulles All-Stars\nAway Team: International
 s\nHome Score: 6\nAway Score: 4
END:VEVENT
BEGIN:VEVENT
UID:6217769@ezleagues.ezfacility.com
DTSTAMP:20260424T194608Z
CREATED:20260424T194608Z
DTSTART:20130822T230000Z
DTEND:20130822T235500Z
LOCATION:Field 1
CONTACT:
SUMMARY:Dulles All-Stars VS. Cell Block 4
DESCRIPTION:League Name: Thursday Men's Division 3B\nGame Type: Regular\nGa
 me Status: Complete\nHome Team: Dulles All-Stars\nAway Team: Cell Block 4\
 nHome Score: 7\nAway Score: 14
END:VEVENT
BEGIN:VEVENT
UID:6217781@ezleagues.ezfacility.com
DTSTAMP:20260424T194608Z
CREATED:20260424T194608Z
DTSTART:20130829T235500Z
DTEND:20130830T005000Z
LOCATION: Field 3
CONTACT:
SUMMARY:Dulles All-Stars VS. Ex-Cons
DESCRIPTION:League Name: Thursday Men's Division 3B\nGame Type: Regular\nGa
 me Status: Complete\nHome Team: Dulles All-Stars\nAway Team: Ex-Cons\nHome
  Score: 2\nAway Score: 9
END:VEVENT
BEGIN:VEVENT
UID:6217790@ezleagues.ezfacility.com
DTSTAMP:20260424T194608Z
CREATED:20260424T194608Z
DTSTART:20130906T005000Z
DTEND:20130906T014500Z
LOCATION:Field 1
CONTACT:
SUMMARY:Dulles All-Stars VS. Ex-Cons
DESCRIPTION:League Name: Thursday Men's Division 3B\nGame Type: Postseason\
 nGame Status: Complete\nHome Team: Dulles All-Stars\nAway Team: Ex-Cons\nH
 ome Score: 2\nAway Score: 5
END:VEVENT
BEGIN:VEVENT
UID:6217802@ezleagues.ezfacility.com
DTSTAMP:20260424T194608Z
CREATED:20260424T194608Z
DTSTART:20130912T230000Z
DTEND:20130912T235500Z
LOCATION:Field 1
CONTACT:
SUMMARY:Cell Block 4 VS. Dulles All-Stars
DESCRIPTION:League Name: Thursday Men's Division 3B\nGame Type: Postseason\
 nGame Status: Complete\nHome Team: Cell Block 4\nAway Team: Dulles All-Sta
 rs\nHome Score: 8\nAway Score: 10
END:VEVENT
END:VCALENDAR
