BEGIN:VCALENDAR
VERSION:2.0
PRODID:-//EZFacility.com, Inc.//EZL 2.5.5.28621
BEGIN:VEVENT
UID:6254883@ezleagues.ezfacility.com
DTSTAMP:20260425T162512Z
CREATED:20260425T162512Z
DTSTART:20130904T003000Z
DTEND:20130904T013000Z
LOCATION:FH Court #4
CONTACT:
SUMMARY:Thunder (Dill) VS. Colts (Sailer)
DESCRIPTION:League Name: Fieldhouse Fall Session - 7th/8th Boys\nGame Type:
  Regular\nGame Status: Complete\nHome Team: Thunder (Dill)\nAway Team: Col
 ts (Sailer)\nHome Score: 49\nAway Score: 16
END:VEVENT
BEGIN:VEVENT
UID:6254888@ezleagues.ezfacility.com
DTSTAMP:20260425T162512Z
CREATED:20260425T162512Z
DTSTART:20130910T233000Z
DTEND:20130911T003000Z
LOCATION:FH Court #5
CONTACT:
SUMMARY:Colts (Sailer) VS. Thunder (Smith)
DESCRIPTION:League Name: Fieldhouse Fall Session - 7th/8th Boys\nGame Type:
  Regular\nGame Status: Complete\nHome Team: Colts (Sailer)\nAway Team: Thu
 nder (Smith)\nHome Score: 13\nAway Score: 56
END:VEVENT
BEGIN:VEVENT
UID:6360929@ezleagues.ezfacility.com
DTSTAMP:20260425T162512Z
CREATED:20260425T162512Z
DTSTART:20130928T013000Z
DTEND:20130928T023000Z
LOCATION:FH Court #4
CONTACT:
SUMMARY:Thunder (Dill) VS. Colts (Sailer)
DESCRIPTION:League Name: Fieldhouse Fall Session - 7th/8th Boys\nGame Type:
  Regular\nGame Status: Pending\nHome Team: Thunder (Dill)\nAway Team: Colt
 s (Sailer)\n
END:VEVENT
BEGIN:VEVENT
UID:6362178@ezleagues.ezfacility.com
DTSTAMP:20260425T162512Z
CREATED:20260425T162512Z
DTSTART:20131008T233000Z
DTEND:20131009T003000Z
LOCATION:FH Court #4
CONTACT:
SUMMARY:Colts (Sailer) VS. OTMS Falcons (Whitehair)
DESCRIPTION:League Name: Fieldhouse Fall Session - 7th/8th Boys\nGame Type:
  Regular\nGame Status: Complete\nHome Team: Colts (Sailer)\nAway Team: OTM
 S Falcons (Whitehair)\nHome Score: 24\nAway Score: 52
END:VEVENT
BEGIN:VEVENT
UID:6362237@ezleagues.ezfacility.com
DTSTAMP:20260425T162512Z
CREATED:20260425T162512Z
DTSTART:20131016T003000Z
DTEND:20131016T013000Z
LOCATION:FH Court #5
CONTACT:
SUMMARY:Supreme Red (Schmidt) VS. Colts (Sailer)
DESCRIPTION:League Name: Fieldhouse Fall Session - 7th/8th Boys\nGame Type:
  Regular\nGame Status: Complete\nHome Team: Supreme Red (Schmidt)\nAway Te
 am: Colts (Sailer)\nHome Score: 62\nAway Score: 34
END:VEVENT
BEGIN:VEVENT
UID:6362241@ezleagues.ezfacility.com
DTSTAMP:20260425T162512Z
CREATED:20260425T162512Z
DTSTART:20131027T230000Z
DTEND:20131028T000000Z
LOCATION:FH Court #4
CONTACT:
SUMMARY:Supreme Grey (Schmidt) VS. Colts (Sailer)
DESCRIPTION:League Name: Fieldhouse Fall Session - 7th/8th Boys\nGame Type:
  Regular\nGame Status: Pending\nHome Team: Supreme Grey (Schmidt)\nAway Te
 am: Colts (Sailer)\n
END:VEVENT
END:VCALENDAR
