BEGIN:VCALENDAR
VERSION:2.0
PRODID:-//EZFacility.com, Inc.//EZL 2.5.5.28621
BEGIN:VEVENT
UID:6255039@ezleagues.ezfacility.com
DTSTAMP:20260421T145612Z
CREATED:20260421T145612Z
DTSTART:20130906T003000Z
DTEND:20130906T013000Z
LOCATION:FH Court #4
CONTACT:
SUMMARY:Fieldhouse 9th (Jackson) VS. PW Tees (Paul)
DESCRIPTION:League Name: Fieldhouse Fall Session - HS Boys\nGame Type: Regu
 lar\nGame Status: Complete\nHome Team: Fieldhouse 9th (Jackson)\nAway Team
 : PW Tees (Paul)\nHome Score: 39\nAway Score: 67
END:VEVENT
BEGIN:VEVENT
UID:6255054@ezleagues.ezfacility.com
DTSTAMP:20260421T145612Z
CREATED:20260421T145612Z
DTSTART:20130911T013000Z
DTEND:20130911T023000Z
LOCATION:FH Court #4
CONTACT:
SUMMARY:PW Tees (Paul) VS. KC Storm (Leyba)
DESCRIPTION:League Name: Fieldhouse Fall Session - HS Boys\nGame Type: Regu
 lar\nGame Status: Complete\nHome Team: PW Tees (Paul)\nAway Team: KC Storm
  (Leyba)\nHome Score: 43\nAway Score: 53
END:VEVENT
BEGIN:VEVENT
UID:6308206@ezleagues.ezfacility.com
DTSTAMP:20260421T145612Z
CREATED:20260421T145612Z
DTSTART:20130920T003000Z
DTEND:20130920T013000Z
LOCATION:FH Court #4
CONTACT:
SUMMARY:Fieldhouse 1 (Brown) VS. PW Tees (Paul)
DESCRIPTION:League Name: Fieldhouse Fall Session - HS Boys\nGame Type: Regu
 lar\nGame Status: Complete\nHome Team: Fieldhouse 1 (Brown)\nAway Team: PW
  Tees (Paul)\nHome Score: 21\nAway Score: 52
END:VEVENT
BEGIN:VEVENT
UID:6308209@ezleagues.ezfacility.com
DTSTAMP:20260421T145612Z
CREATED:20260421T145612Z
DTSTART:20130925T013000Z
DTEND:20130925T023000Z
LOCATION:FH Court #4
CONTACT:
SUMMARY:PW Tees (Paul) VS. Patriot White (Mcclintock)
DESCRIPTION:League Name: Fieldhouse Fall Session - HS Boys\nGame Type: Regu
 lar\nGame Status: Complete\nHome Team: PW Tees (Paul)\nAway Team: Patriot 
 White (Mcclintock)\nHome Score: 42\nAway Score: 46
END:VEVENT
BEGIN:VEVENT
UID:6335056@ezleagues.ezfacility.com
DTSTAMP:20260421T145612Z
CREATED:20260421T145612Z
DTSTART:20130927T013000Z
DTEND:20130927T023000Z
LOCATION:FH Court #4
CONTACT:
SUMMARY:Fieldhouse 2 (Brown) VS. PW Tees (Paul)
DESCRIPTION:League Name: Fieldhouse Fall Session - HS Boys\nGame Type: Regu
 lar\nGame Status: Complete\nHome Team: Fieldhouse 2 (Brown)\nAway Team: PW
  Tees (Paul)\nHome Score: 21\nAway Score: 52
END:VEVENT
BEGIN:VEVENT
UID:6362484@ezleagues.ezfacility.com
DTSTAMP:20260421T145612Z
CREATED:20260421T145612Z
DTSTART:20131009T013000Z
DTEND:20131009T023000Z
LOCATION:FH Court #4
CONTACT:
SUMMARY:PW Tees (Paul) VS. Fieldhouse 2 (Brown)
DESCRIPTION:League Name: Fieldhouse Fall Session - HS Boys\nGame Type: Regu
 lar\nGame Status: Complete\nHome Team: PW Tees (Paul)\nAway Team: Fieldhou
 se 2 (Brown)\nHome Score: 34\nAway Score: 54
END:VEVENT
BEGIN:VEVENT
UID:6362490@ezleagues.ezfacility.com
DTSTAMP:20260421T145612Z
CREATED:20260421T145612Z
DTSTART:20131016T013000Z
DTEND:20131016T023000Z
LOCATION:FH Court #4
CONTACT:
SUMMARY:Patriot Red (Mcclintock) VS. PW Tees (Paul)
DESCRIPTION:League Name: Fieldhouse Fall Session - HS Boys\nGame Type: Regu
 lar\nGame Status: Complete\nHome Team: Patriot Red (Mcclintock)\nAway Team
 : PW Tees (Paul)\nHome Score: 36\nAway Score: 55
END:VEVENT
BEGIN:VEVENT
UID:6362501@ezleagues.ezfacility.com
DTSTAMP:20260421T145612Z
CREATED:20260421T145612Z
DTSTART:20131023T003000Z
DTEND:20131023T013000Z
LOCATION:FH Court #5
CONTACT:
SUMMARY:PW Tees (Paul) VS. Fieldhouse 9th (Jackson)
DESCRIPTION:League Name: Fieldhouse Fall Session - HS Boys\nGame Type: Regu
 lar\nGame Status: Complete\nHome Team: PW Tees (Paul)\nAway Team: Fieldhou
 se 9th (Jackson)\nHome Score: 55\nAway Score: 38
END:VEVENT
BEGIN:VEVENT
UID:6362502@ezleagues.ezfacility.com
DTSTAMP:20260421T145612Z
CREATED:20260421T145612Z
DTSTART:20131024T233000Z
DTEND:20131025T003000Z
LOCATION:FH Court #4
CONTACT:
SUMMARY:PW Tees (Paul) VS. Fieldhouse 2 (Brown)
DESCRIPTION:League Name: Fieldhouse Fall Session - HS Boys\nGame Type: Regu
 lar\nGame Status: Complete\nHome Team: PW Tees (Paul)\nAway Team: Fieldhou
 se 2 (Brown)\nHome Score: 46\nAway Score: 44
END:VEVENT
END:VCALENDAR
