BEGIN:VCALENDAR
VERSION:2.0
PRODID:-//EZFacility.com, Inc.//EZL 2.5.5.28621
BEGIN:VEVENT
UID:6442371@ezleagues.ezfacility.com
DTSTAMP:20260426T033654Z
CREATED:20260426T033654Z
DTSTART:20131025T021500Z
DTEND:20131025T031500Z
LOCATION:Field 2
CONTACT:
SUMMARY:Sons of Pitches VS. Fireballs
DESCRIPTION:League Name: Season 6 Thursday Corporate Coed October 24th\nGam
 e Type: Regular\nGame Status: Complete\nHome Team: Sons of Pitches\nAway T
 eam: Fireballs\nHome Score: 8\nAway Score: 9
END:VEVENT
BEGIN:VEVENT
UID:6507240@ezleagues.ezfacility.com
DTSTAMP:20260426T033654Z
CREATED:20260426T033654Z
DTSTART:20131108T011500Z
DTEND:20131108T021500Z
LOCATION:Field 1
CONTACT:
SUMMARY:Fireballs VS. Band of Ballers
DESCRIPTION:League Name: Season 6 Thursday Corporate Coed October 24th\nGam
 e Type: Regular\nGame Status: Complete\nHome Team: Fireballs\nAway Team: B
 and of Ballers\nHome Score: 8\nAway Score: 20
END:VEVENT
BEGIN:VEVENT
UID:6539302@ezleagues.ezfacility.com
DTSTAMP:20260426T033654Z
CREATED:20260426T033654Z
DTSTART:20131115T021500Z
DTEND:20131115T031500Z
LOCATION:Field 2
CONTACT:
SUMMARY:Fireballs VS. Bush League
DESCRIPTION:League Name: Season 6 Thursday Corporate Coed October 24th\nGam
 e Type: Regular\nGame Status: Complete\nHome Team: Fireballs\nAway Team: B
 ush League\nHome Score: 5\nAway Score: 21
END:VEVENT
BEGIN:VEVENT
UID:6539303@ezleagues.ezfacility.com
DTSTAMP:20260426T033654Z
CREATED:20260426T033654Z
DTSTART:20131122T011500Z
DTEND:20131122T021500Z
LOCATION:Field 5
CONTACT:
SUMMARY:Tatum Motor Sports VS. Fireballs
DESCRIPTION:League Name: Season 6 Thursday Corporate Coed October 24th\nGam
 e Type: Regular\nGame Status: Complete\nHome Team: Tatum Motor Sports\nAwa
 y Team: Fireballs\nHome Score: 17\nAway Score: 2
END:VEVENT
BEGIN:VEVENT
UID:6554025@ezleagues.ezfacility.com
DTSTAMP:20260426T033654Z
CREATED:20260426T033654Z
DTSTART:20131206T021500Z
DTEND:20131206T031500Z
LOCATION:Field 5
CONTACT:
SUMMARY:Fireballs VS. Abandoned
DESCRIPTION:League Name: Season 6 Thursday Corporate Coed October 24th\nGam
 e Type: Regular\nGame Status: Complete\nHome Team: Fireballs\nAway Team: A
 bandoned\nHome Score: 5\nAway Score: 19
END:VEVENT
BEGIN:VEVENT
UID:6569488@ezleagues.ezfacility.com
DTSTAMP:20260426T033654Z
CREATED:20260426T033654Z
DTSTART:20131213T011500Z
DTEND:20131213T021500Z
LOCATION:Field 1
CONTACT:
SUMMARY:Fireballs VS. Balls of Steal
DESCRIPTION:League Name: Season 6 Thursday Corporate Coed October 24th\nGam
 e Type: Regular\nGame Status: Complete\nHome Team: Fireballs\nAway Team: B
 alls of Steal\nHome Score: 2\nAway Score: 25
END:VEVENT
BEGIN:VEVENT
UID:6569489@ezleagues.ezfacility.com
DTSTAMP:20260426T033654Z
CREATED:20260426T033654Z
DTSTART:20131213T021500Z
DTEND:20131213T031500Z
LOCATION:Field 1
CONTACT:
SUMMARY:We Are Better At Other Things VS. Fireballs
DESCRIPTION:League Name: Season 6 Thursday Corporate Coed October 24th\nGam
 e Type: Regular\nGame Status: Complete\nHome Team: We Are Better At Other 
 Things\nAway Team: Fireballs\nHome Score: 8\nAway Score: 0
END:VEVENT
BEGIN:VEVENT
UID:6573021@ezleagues.ezfacility.com
DTSTAMP:20260426T033654Z
CREATED:20260426T033654Z
DTSTART:20131220T011500Z
DTEND:20131220T021500Z
LOCATION:Field 2
CONTACT:
SUMMARY:Fireballs VS. We Are Better At Other Things
DESCRIPTION:League Name: Season 6 Thursday Corporate Coed October 24th\nGam
 e Type: Regular\nGame Status: Complete\nHome Team: Fireballs\nAway Team: W
 e Are Better At Other Things\nHome Score: 0\nAway Score: 10
END:VEVENT
BEGIN:VEVENT
UID:6685713@ezleagues.ezfacility.com
DTSTAMP:20260426T033654Z
CREATED:20260426T033654Z
DTSTART:20140103T011500Z
DTEND:20140103T021500Z
LOCATION:Field 1
CONTACT:
SUMMARY:Sons of Pitches VS. Fireballs
DESCRIPTION:League Name: Season 6 Thursday Corporate Coed October 24th\nGam
 e Type: Regular\nGame Status: Pending\nHome Team: Sons of Pitches\nAway Te
 am: Fireballs\n
END:VEVENT
END:VCALENDAR
