BEGIN:VCALENDAR
VERSION:2.0
PRODID:-//EZFacility.com, Inc.//EZL 2.5.5.28621
BEGIN:VEVENT
UID:6506231@ezleagues.ezfacility.com
DTSTAMP:20260426T033534Z
CREATED:20260426T033534Z
DTSTART:20131110T215500Z
DTEND:20131110T225000Z
LOCATION:PFFC Dome - Half Field #1
CONTACT:
SUMMARY:Vaughan Azzurri FC VS. NMSC Black 
DESCRIPTION:League Name: BU11 - North 9v9\nGame Type: Regular\nGame Status:
  Pending\nHome Team: Vaughan Azzurri FC\nAway Team: NMSC Black \n
END:VEVENT
BEGIN:VEVENT
UID:6506271@ezleagues.ezfacility.com
DTSTAMP:20260426T033534Z
CREATED:20260426T033534Z
DTSTART:20131117T210000Z
DTEND:20131117T215500Z
LOCATION:PFFC Dome - Half Field #1
CONTACT:
SUMMARY:NMSC Red VS. NMSC Black 
DESCRIPTION:League Name: BU11 - North 9v9\nGame Type: Regular\nGame Status:
  Pending\nHome Team: NMSC Red\nAway Team: NMSC Black \n
END:VEVENT
BEGIN:VEVENT
UID:6506310@ezleagues.ezfacility.com
DTSTAMP:20260426T033534Z
CREATED:20260426T033534Z
DTSTART:20131124T172000Z
DTEND:20131124T181500Z
LOCATION:PFFC Field House Half Field AB
CONTACT:
SUMMARY:NMSC Black  VS. Dixie Athletic Flames
DESCRIPTION:League Name: BU11 - North 9v9\nGame Type: Regular\nGame Status:
  Pending\nHome Team: NMSC Black \nAway Team: Dixie Athletic Flames\n
END:VEVENT
BEGIN:VEVENT
UID:6506348@ezleagues.ezfacility.com
DTSTAMP:20260426T033534Z
CREATED:20260426T033534Z
DTSTART:20131201T191000Z
DTEND:20131201T200500Z
LOCATION:PFFC Field House Half Field CD
CONTACT:
SUMMARY:NMSC Black  VS. Vaughan Azzurri A
DESCRIPTION:League Name: BU11 - North 9v9\nGame Type: Regular\nGame Status:
  Pending\nHome Team: NMSC Black \nAway Team: Vaughan Azzurri A\n
END:VEVENT
BEGIN:VEVENT
UID:6506386@ezleagues.ezfacility.com
DTSTAMP:20260426T033534Z
CREATED:20260426T033534Z
DTSTART:20131208T153000Z
DTEND:20131208T162500Z
LOCATION:PFFC Field House Half Field AB
CONTACT:
SUMMARY:NMSC Black  VS. Woodbridge Strikers Red
DESCRIPTION:League Name: BU11 - North 9v9\nGame Type: Regular\nGame Status:
  Pending\nHome Team: NMSC Black \nAway Team: Woodbridge Strikers Red\n
END:VEVENT
BEGIN:VEVENT
UID:6506424@ezleagues.ezfacility.com
DTSTAMP:20260426T033534Z
CREATED:20260426T033534Z
DTSTART:20131215T172000Z
DTEND:20131215T181500Z
LOCATION:PFFC Dome - Half Field #2
CONTACT:
SUMMARY:NMSC Black  VS. Brampton East Predators 
DESCRIPTION:League Name: BU11 - North 9v9\nGame Type: Regular\nGame Status:
  Pending\nHome Team: NMSC Black \nAway Team: Brampton East Predators \n
END:VEVENT
BEGIN:VEVENT
UID:6506462@ezleagues.ezfacility.com
DTSTAMP:20260426T033534Z
CREATED:20260426T033534Z
DTSTART:20131222T134000Z
DTEND:20131222T143500Z
LOCATION:PFFC Dome - Half Field #1
CONTACT:
SUMMARY:Woodbridge Strikers Blue VS. NMSC Black 
DESCRIPTION:League Name: BU11 - North 9v9\nGame Type: Regular\nGame Status:
  Pending\nHome Team: Woodbridge Strikers Blue\nAway Team: NMSC Black \n
END:VEVENT
BEGIN:VEVENT
UID:6506502@ezleagues.ezfacility.com
DTSTAMP:20260426T033534Z
CREATED:20260426T033534Z
DTSTART:20140112T153000Z
DTEND:20140112T162500Z
LOCATION:PFFC Field House Half Field AB
CONTACT:
SUMMARY:Guelph Royals VS. NMSC Black 
DESCRIPTION:League Name: BU11 - North 9v9\nGame Type: Regular\nGame Status:
  Pending\nHome Team: Guelph Royals\nAway Team: NMSC Black \n
END:VEVENT
BEGIN:VEVENT
UID:6506582@ezleagues.ezfacility.com
DTSTAMP:20260426T033534Z
CREATED:20260426T033534Z
DTSTART:20140126T124500Z
DTEND:20140126T134000Z
LOCATION:PFFC Field House Half Field AB
CONTACT:
SUMMARY:NMSC Black  VS. Vaughan Azzurri FC
DESCRIPTION:League Name: BU11 - North 9v9\nGame Type: Regular\nGame Status:
  Pending\nHome Team: NMSC Black \nAway Team: Vaughan Azzurri FC\n
END:VEVENT
BEGIN:VEVENT
UID:6506622@ezleagues.ezfacility.com
DTSTAMP:20260426T033534Z
CREATED:20260426T033534Z
DTSTART:20140202T124500Z
DTEND:20140202T134000Z
LOCATION:PFFC Field House Half Field CD
CONTACT:
SUMMARY:NMSC Black  VS. NMSC Red
DESCRIPTION:League Name: BU11 - North 9v9\nGame Type: Regular\nGame Status:
  Pending\nHome Team: NMSC Black \nAway Team: NMSC Red\n
END:VEVENT
BEGIN:VEVENT
UID:6506661@ezleagues.ezfacility.com
DTSTAMP:20260426T033534Z
CREATED:20260426T033534Z
DTSTART:20140209T143500Z
DTEND:20140209T153000Z
LOCATION:PFFC Field House Half Field CD
CONTACT:
SUMMARY:Dixie Athletic Flames VS. NMSC Black 
DESCRIPTION:League Name: BU11 - North 9v9\nGame Type: Regular\nGame Status:
  Pending\nHome Team: Dixie Athletic Flames\nAway Team: NMSC Black \n
END:VEVENT
BEGIN:VEVENT
UID:6506699@ezleagues.ezfacility.com
DTSTAMP:20260426T033534Z
CREATED:20260426T033534Z
DTSTART:20140216T153000Z
DTEND:20140216T162500Z
LOCATION:PFFC Dome - Half Field #1
CONTACT:
SUMMARY:Vaughan Azzurri A VS. NMSC Black 
DESCRIPTION:League Name: BU11 - North 9v9\nGame Type: Regular\nGame Status:
  Pending\nHome Team: Vaughan Azzurri A\nAway Team: NMSC Black \n
END:VEVENT
BEGIN:VEVENT
UID:6506737@ezleagues.ezfacility.com
DTSTAMP:20260426T033534Z
CREATED:20260426T033534Z
DTSTART:20140223T191000Z
DTEND:20140223T200500Z
LOCATION:PFFC Field House Half Field CD
CONTACT:
SUMMARY:Woodbridge Strikers Red VS. NMSC Black 
DESCRIPTION:League Name: BU11 - North 9v9\nGame Type: Regular\nGame Status:
  Pending\nHome Team: Woodbridge Strikers Red\nAway Team: NMSC Black \n
END:VEVENT
BEGIN:VEVENT
UID:6506775@ezleagues.ezfacility.com
DTSTAMP:20260426T033534Z
CREATED:20260426T033534Z
DTSTART:20140302T191000Z
DTEND:20140302T200500Z
LOCATION:PFFC Field House Half Field AB
CONTACT:
SUMMARY:Brampton East Predators  VS. NMSC Black 
DESCRIPTION:League Name: BU11 - North 9v9\nGame Type: Regular\nGame Status:
  Pending\nHome Team: Brampton East Predators \nAway Team: NMSC Black \n
END:VEVENT
BEGIN:VEVENT
UID:6506191@ezleagues.ezfacility.com
DTSTAMP:20260426T033534Z
CREATED:20260426T033534Z
DTSTART:20140316T125500Z
DTEND:20140316T135000Z
LOCATION:PFFC Dome - Half Field #1
CONTACT:
SUMMARY:Islington Rangers VS. NMSC Black 
DESCRIPTION:League Name: BU11 - North 9v9\nGame Type: Regular\nGame Status:
  Pending\nHome Team: Islington Rangers\nAway Team: NMSC Black \n
END:VEVENT
BEGIN:VEVENT
UID:6506813@ezleagues.ezfacility.com
DTSTAMP:20260426T033534Z
CREATED:20260426T033534Z
DTSTART:20140323T181000Z
DTEND:20140323T190500Z
LOCATION:PFFC Field House Half Field AB
CONTACT:
SUMMARY:NMSC Black  VS. Woodbridge Strikers Blue
DESCRIPTION:League Name: BU11 - North 9v9\nGame Type: Regular\nGame Status:
  Pending\nHome Team: NMSC Black \nAway Team: Woodbridge Strikers Blue\n
END:VEVENT
BEGIN:VEVENT
UID:6506853@ezleagues.ezfacility.com
DTSTAMP:20260426T033534Z
CREATED:20260426T033534Z
DTSTART:20140330T171500Z
DTEND:20140330T181000Z
LOCATION:PFFC Field House Half Field AB
CONTACT:
SUMMARY:NMSC Black  VS. Guelph Royals
DESCRIPTION:League Name: BU11 - North 9v9\nGame Type: Regular\nGame Status:
  Pending\nHome Team: NMSC Black \nAway Team: Guelph Royals\n
END:VEVENT
BEGIN:VEVENT
UID:6506542@ezleagues.ezfacility.com
DTSTAMP:20260426T033534Z
CREATED:20260426T033534Z
DTSTART:20140406T124000Z
DTEND:20140406T133500Z
LOCATION:PFFC Field House Half Field AB
CONTACT:
SUMMARY:NMSC Black  VS. Islington Rangers
DESCRIPTION:League Name: BU11 - North 9v9\nGame Type: Regular\nGame Status:
  Pending\nHome Team: NMSC Black \nAway Team: Islington Rangers\n
END:VEVENT
END:VCALENDAR
