BEGIN:VCALENDAR
VERSION:2.0
PRODID:-//EZFacility.com, Inc.//EZL 2.5.5.28621
BEGIN:VEVENT
UID:6509040@ezleagues.ezfacility.com
DTSTAMP:20260426T034918Z
CREATED:20260426T034918Z
DTSTART:20131102T170000Z
DTEND:20131102T175500Z
LOCATION:PFFC Field House - Field C
CONTACT:
SUMMARY:NMSC Panthers B VS. Etobicoke Energy
DESCRIPTION:League Name: GU17/U18 - 6v6\nGame Type: Regular\nGame Status: C
 omplete\nHome Team: NMSC Panthers B\nAway Team: Etobicoke Energy\nHome Sco
 re: 4\nAway Score: 1
END:VEVENT
BEGIN:VEVENT
UID:6509067@ezleagues.ezfacility.com
DTSTAMP:20260426T034918Z
CREATED:20260426T034918Z
DTSTART:20131109T184500Z
DTEND:20131109T194000Z
LOCATION:PFFC Dome - Field #3
CONTACT:
SUMMARY:NMSC Panthers B VS. West Toronto United
DESCRIPTION:League Name: GU17/U18 - 6v6\nGame Type: Regular\nGame Status: C
 omplete\nHome Team: NMSC Panthers B\nAway Team: West Toronto United\nHome 
 Score: 3\nAway Score: 2
END:VEVENT
BEGIN:VEVENT
UID:6509147@ezleagues.ezfacility.com
DTSTAMP:20260426T034918Z
CREATED:20260426T034918Z
DTSTART:20131130T180000Z
DTEND:20131130T185500Z
LOCATION:PFFC Field House - Field B
CONTACT:
SUMMARY:Mississauga Croatia  VS. NMSC Panthers B
DESCRIPTION:League Name: GU17/U18 - 6v6\nGame Type: Regular\nGame Status: C
 omplete\nHome Team: Mississauga Croatia \nAway Team: NMSC Panthers B\nHome
  Score: 0\nAway Score: 2
END:VEVENT
BEGIN:VEVENT
UID:6509119@ezleagues.ezfacility.com
DTSTAMP:20260426T034918Z
CREATED:20260426T034918Z
DTSTART:20131207T194000Z
DTEND:20131207T203500Z
LOCATION:Milton Dome - Field 1
CONTACT:
SUMMARY:Clarkson Comets VS. NMSC Panthers B
DESCRIPTION:League Name: GU17/U18 - 6v6\nGame Type: Regular\nGame Status: C
 omplete\nHome Team: Clarkson Comets\nAway Team: NMSC Panthers B\nHome Scor
 e: 1\nAway Score: 5
END:VEVENT
BEGIN:VEVENT
UID:6509203@ezleagues.ezfacility.com
DTSTAMP:20260426T034918Z
CREATED:20260426T034918Z
DTSTART:20131221T160000Z
DTEND:20131221T165500Z
LOCATION:PFFC Field House - Field A
CONTACT:
SUMMARY:Brams United Challenger VS. NMSC Panthers B
DESCRIPTION:League Name: GU17/U18 - 6v6\nGame Type: Regular\nGame Status: C
 omplete\nHome Team: Brams United Challenger\nAway Team: NMSC Panthers B\nH
 ome Score: 8\nAway Score: 1
END:VEVENT
BEGIN:VEVENT
UID:6509259@ezleagues.ezfacility.com
DTSTAMP:20260426T034918Z
CREATED:20260426T034918Z
DTSTART:20140111T161000Z
DTEND:20140111T170500Z
LOCATION:PFFC Field House - Field A
CONTACT:
SUMMARY:NMSC Panthers B VS. NMSC Panthers
DESCRIPTION:League Name: GU17/U18 - 6v6\nGame Type: Regular\nGame Status: C
 omplete\nHome Team: NMSC Panthers B\nAway Team: NMSC Panthers\nHome Score:
  0\nAway Score: 0
END:VEVENT
BEGIN:VEVENT
UID:6509285@ezleagues.ezfacility.com
DTSTAMP:20260426T034918Z
CREATED:20260426T034918Z
DTSTART:20140118T151500Z
DTEND:20140118T161000Z
LOCATION:PFFC Field House - Field B
CONTACT:
SUMMARY:Etobicoke Energy VS. NMSC Panthers B
DESCRIPTION:League Name: GU17/U18 - 6v6\nGame Type: Regular\nGame Status: C
 omplete\nHome Team: Etobicoke Energy\nAway Team: NMSC Panthers B\nHome Sco
 re: 1\nAway Score: 2
END:VEVENT
BEGIN:VEVENT
UID:6509311@ezleagues.ezfacility.com
DTSTAMP:20260426T034918Z
CREATED:20260426T034918Z
DTSTART:20140125T175000Z
DTEND:20140125T184500Z
LOCATION:PFFC Dome - Field #1
CONTACT:
SUMMARY:West Toronto United VS. NMSC Panthers B
DESCRIPTION:League Name: GU17/U18 - 6v6\nGame Type: Regular\nGame Status: C
 omplete\nHome Team: West Toronto United\nAway Team: NMSC Panthers B\nHome 
 Score: 1\nAway Score: 2
END:VEVENT
BEGIN:VEVENT
UID:6509337@ezleagues.ezfacility.com
DTSTAMP:20260426T034918Z
CREATED:20260426T034918Z
DTSTART:20140201T175000Z
DTEND:20140201T184500Z
LOCATION:Milton Dome - Field 1
CONTACT:
SUMMARY:Milton Magic  VS. NMSC Panthers B
DESCRIPTION:League Name: GU17/U18 - 6v6\nGame Type: Regular\nGame Status: C
 omplete\nHome Team: Milton Magic \nAway Team: NMSC Panthers B\nHome Score:
  2\nAway Score: 3
END:VEVENT
BEGIN:VEVENT
UID:6509363@ezleagues.ezfacility.com
DTSTAMP:20260426T034918Z
CREATED:20260426T034918Z
DTSTART:20140208T170500Z
DTEND:20140208T180000Z
LOCATION:PFFC Field House - Field D
CONTACT:
SUMMARY:NMSC Panthers B VS. Clarkson Comets
DESCRIPTION:League Name: GU17/U18 - 6v6\nGame Type: Regular\nGame Status: C
 omplete\nHome Team: NMSC Panthers B\nAway Team: Clarkson Comets\nHome Scor
 e: 2\nAway Score: 0
END:VEVENT
BEGIN:VEVENT
UID:6509391@ezleagues.ezfacility.com
DTSTAMP:20260426T034918Z
CREATED:20260426T034918Z
DTSTART:20140215T175000Z
DTEND:20140215T184500Z
LOCATION:Milton Dome - Field 1
CONTACT:
SUMMARY:NMSC Panthers B VS. Mississauga Croatia 
DESCRIPTION:League Name: GU17/U18 - 6v6\nGame Type: Regular\nGame Status: C
 omplete\nHome Team: NMSC Panthers B\nAway Team: Mississauga Croatia \nHome
  Score: 5\nAway Score: 1
END:VEVENT
BEGIN:VEVENT
UID:6509419@ezleagues.ezfacility.com
DTSTAMP:20260426T034918Z
CREATED:20260426T034918Z
DTSTART:20140222T161000Z
DTEND:20140222T170500Z
LOCATION:PFFC Field House - Field C
CONTACT:
SUMMARY:NMSC Panthers B VS. NMSC Panthers Black
DESCRIPTION:League Name: GU17/U18 - 6v6\nGame Type: Regular\nGame Status: C
 omplete\nHome Team: NMSC Panthers B\nAway Team: NMSC Panthers Black\nHome 
 Score: 3\nAway Score: 5
END:VEVENT
BEGIN:VEVENT
UID:6509447@ezleagues.ezfacility.com
DTSTAMP:20260426T034918Z
CREATED:20260426T034918Z
DTSTART:20140301T161000Z
DTEND:20140301T170500Z
LOCATION:PFFC Field House - Field B
CONTACT:
SUMMARY:NMSC Panthers B VS. Brams United Challenger
DESCRIPTION:League Name: GU17/U18 - 6v6\nGame Type: Regular\nGame Status: C
 omplete\nHome Team: NMSC Panthers B\nAway Team: Brams United Challenger\nH
 ome Score: 0\nAway Score: 1
END:VEVENT
BEGIN:VEVENT
UID:6509093@ezleagues.ezfacility.com
DTSTAMP:20260426T034918Z
CREATED:20260426T034918Z
DTSTART:20140316T163500Z
DTEND:20140316T173000Z
LOCATION:PFFC Field House - Field B
CONTACT:
SUMMARY:NMSC Panthers B VS. Milton Magic 
DESCRIPTION:League Name: GU17/U18 - 6v6\nGame Type: Regular\nGame Status: C
 omplete\nHome Team: NMSC Panthers B\nAway Team: Milton Magic \nHome Score:
  1\nAway Score: 0
END:VEVENT
BEGIN:VEVENT
UID:6509175@ezleagues.ezfacility.com
DTSTAMP:20260426T034918Z
CREATED:20260426T034918Z
DTSTART:20140322T170000Z
DTEND:20140322T175500Z
LOCATION:PFFC Field House - Field C
CONTACT:
SUMMARY:NMSC Panthers Black VS. NMSC Panthers B
DESCRIPTION:League Name: GU17/U18 - 6v6\nGame Type: Regular\nGame Status: C
 omplete\nHome Team: NMSC Panthers Black\nAway Team: NMSC Panthers B\nHome 
 Score: 7\nAway Score: 1
END:VEVENT
BEGIN:VEVENT
UID:6509475@ezleagues.ezfacility.com
DTSTAMP:20260426T034918Z
CREATED:20260426T034918Z
DTSTART:20140329T151000Z
DTEND:20140329T160500Z
LOCATION:PFFC Field House - Field C
CONTACT:
SUMMARY:NMSC Panthers B VS. NMSC Panthers Red
DESCRIPTION:League Name: GU17/U18 - 6v6\nGame Type: Regular\nGame Status: C
 omplete\nHome Team: NMSC Panthers B\nAway Team: NMSC Panthers Red\nHome Sc
 ore: 0\nAway Score: 9
END:VEVENT
BEGIN:VEVENT
UID:6509502@ezleagues.ezfacility.com
DTSTAMP:20260426T034918Z
CREATED:20260426T034918Z
DTSTART:20140405T151000Z
DTEND:20140405T160500Z
LOCATION:PFFC Field House - Field A
CONTACT:
SUMMARY:NMSC Panthers VS. NMSC Panthers B
DESCRIPTION:League Name: GU17/U18 - 6v6\nGame Type: Regular\nGame Status: C
 omplete\nHome Team: NMSC Panthers\nAway Team: NMSC Panthers B\nHome Score:
  0\nAway Score: 1
END:VEVENT
BEGIN:VEVENT
UID:6509231@ezleagues.ezfacility.com
DTSTAMP:20260426T034918Z
CREATED:20260426T034918Z
DTSTART:20140406T200500Z
DTEND:20140406T210000Z
LOCATION:PFFC Dome - Field #3
CONTACT:
SUMMARY:NMSC Panthers Red VS. NMSC Panthers B
DESCRIPTION:League Name: GU17/U18 - 6v6\nGame Type: Regular\nGame Status: C
 omplete\nHome Team: NMSC Panthers Red\nAway Team: NMSC Panthers B\nHome Sc
 ore: 6\nAway Score: 1
END:VEVENT
BEGIN:VEVENT
UID:6933615@ezleagues.ezfacility.com
DTSTAMP:20260426T034918Z
CREATED:20260426T034918Z
DTSTART:20140412T154000Z
DTEND:20140412T163000Z
LOCATION:PFFC Field House - Field C
CONTACT:
SUMMARY:NMSC Panthers B VS. NMSC Panthers
DESCRIPTION:League Name: GU17/U18 - 6v6\nGame Type: Postseason\nGame Status
 : Complete\nHome Team: NMSC Panthers B\nAway Team: NMSC Panthers\nHome Sco
 re: 0\nAway Score: 5
END:VEVENT
END:VCALENDAR
