BEGIN:VCALENDAR
VERSION:2.0
PRODID:-//EZFacility.com, Inc.//EZL 2.5.5.28621
BEGIN:VEVENT
UID:6537098@ezleagues.ezfacility.com
DTSTAMP:20260424T044409Z
CREATED:20260424T044409Z
DTSTART:20131116T150000Z
DTEND:20131116T160000Z
LOCATION:Indoor Field 2
CONTACT:
SUMMARY:SC Toronto White 05 VS. Asante Elite BU9
DESCRIPTION:League Name: Under 9 Boys West\nGame Type: Regular\nGame Status
 : Pending\nHome Team: SC Toronto White 05\nAway Team: Asante Elite BU9\n
END:VEVENT
BEGIN:VEVENT
UID:6537115@ezleagues.ezfacility.com
DTSTAMP:20260424T044409Z
CREATED:20260424T044409Z
DTSTART:20131123T130000Z
DTEND:20131123T140000Z
LOCATION:Indoor Field 1
CONTACT:
SUMMARY:Leaside Muqdisho VS. Asante Elite BU9
DESCRIPTION:League Name: Under 9 Boys West\nGame Type: Regular\nGame Status
 : Pending\nHome Team: Leaside Muqdisho\nAway Team: Asante Elite BU9\n
END:VEVENT
BEGIN:VEVENT
UID:6537107@ezleagues.ezfacility.com
DTSTAMP:20260424T044409Z
CREATED:20260424T044409Z
DTSTART:20131130T130000Z
DTEND:20131130T140000Z
LOCATION:Indoor Field 2
CONTACT:
SUMMARY:Asante Elite BU9 VS. Markham Lightning Gold BU9
DESCRIPTION:League Name: Under 9 Boys West\nGame Type: Regular\nGame Status
 : Pending\nHome Team: Asante Elite BU9\nAway Team: Markham Lightning Gold 
 BU9\n
END:VEVENT
BEGIN:VEVENT
UID:6537091@ezleagues.ezfacility.com
DTSTAMP:20260424T044409Z
CREATED:20260424T044409Z
DTSTART:20131207T140000Z
DTEND:20131207T150000Z
LOCATION:Indoor Field 1
CONTACT:
SUMMARY:Hearts 2005 VS. Asante Elite BU9
DESCRIPTION:League Name: Under 9 Boys West\nGame Type: Regular\nGame Status
 : Pending\nHome Team: Hearts 2005\nAway Team: Asante Elite BU9\n
END:VEVENT
BEGIN:VEVENT
UID:6537124@ezleagues.ezfacility.com
DTSTAMP:20260424T044409Z
CREATED:20260424T044409Z
DTSTART:20131214T130000Z
DTEND:20131214T140000Z
LOCATION:Indoor Field 1
CONTACT:
SUMMARY:Asante Elite BU9 VS. Sporting FC U9
DESCRIPTION:League Name: Under 9 Boys West\nGame Type: Regular\nGame Status
 : Pending\nHome Team: Asante Elite BU9\nAway Team: Sporting FC U9\n
END:VEVENT
BEGIN:VEVENT
UID:6537133@ezleagues.ezfacility.com
DTSTAMP:20260424T044409Z
CREATED:20260424T044409Z
DTSTART:20131221T160000Z
DTEND:20131221T170000Z
LOCATION:Indoor Field 1
CONTACT:
SUMMARY:SC Toronto Team Navy VS. Asante Elite BU9
DESCRIPTION:League Name: Under 9 Boys West\nGame Type: Regular\nGame Status
 : Pending\nHome Team: SC Toronto Team Navy\nAway Team: Asante Elite BU9\n
END:VEVENT
BEGIN:VEVENT
UID:6537156@ezleagues.ezfacility.com
DTSTAMP:20260424T044409Z
CREATED:20260424T044409Z
DTSTART:20140111T160000Z
DTEND:20140111T170000Z
LOCATION:Indoor Field 1
CONTACT:
SUMMARY:Tecnico Ambato BU9 VS. Asante Elite BU9
DESCRIPTION:League Name: Under 9 Boys West\nGame Type: Regular\nGame Status
 : Pending\nHome Team: Tecnico Ambato BU9\nAway Team: Asante Elite BU9\n
END:VEVENT
BEGIN:VEVENT
UID:6537141@ezleagues.ezfacility.com
DTSTAMP:20260424T044409Z
CREATED:20260424T044409Z
DTSTART:20140118T150000Z
DTEND:20140118T160000Z
LOCATION:Indoor Field 1
CONTACT:
SUMMARY:NT Nitros BU9 VS. Asante Elite BU9
DESCRIPTION:League Name: Under 9 Boys West\nGame Type: Regular\nGame Status
 : Pending\nHome Team: NT Nitros BU9\nAway Team: Asante Elite BU9\n
END:VEVENT
BEGIN:VEVENT
UID:6537196@ezleagues.ezfacility.com
DTSTAMP:20260424T044409Z
CREATED:20260424T044409Z
DTSTART:20140125T150000Z
DTEND:20140125T160000Z
LOCATION:Indoor Field 3
CONTACT:
SUMMARY:Sporting FC U9 VS. Asante Elite BU9
DESCRIPTION:League Name: Under 9 Boys West\nGame Type: Regular\nGame Status
 : Pending\nHome Team: Sporting FC U9\nAway Team: Asante Elite BU9\n
END:VEVENT
BEGIN:VEVENT
UID:6537179@ezleagues.ezfacility.com
DTSTAMP:20260424T044409Z
CREATED:20260424T044409Z
DTSTART:20140201T150000Z
DTEND:20140201T160000Z
LOCATION:Indoor Field 1
CONTACT:
SUMMARY:Markham Lightning Gold BU9 VS. Asante Elite BU9
DESCRIPTION:League Name: Under 9 Boys West\nGame Type: Regular\nGame Status
 : Pending\nHome Team: Markham Lightning Gold BU9\nAway Team: Asante Elite 
 BU9\n
END:VEVENT
BEGIN:VEVENT
UID:6537187@ezleagues.ezfacility.com
DTSTAMP:20260424T044409Z
CREATED:20260424T044409Z
DTSTART:20140208T160000Z
DTEND:20140208T170000Z
LOCATION:Indoor Field 1
CONTACT:
SUMMARY:Asante Elite BU9 VS. Leaside Muqdisho
DESCRIPTION:League Name: Under 9 Boys West\nGame Type: Regular\nGame Status
 : Pending\nHome Team: Asante Elite BU9\nAway Team: Leaside Muqdisho\n
END:VEVENT
BEGIN:VEVENT
UID:6537205@ezleagues.ezfacility.com
DTSTAMP:20260424T044409Z
CREATED:20260424T044409Z
DTSTART:20140222T120000Z
DTEND:20140222T130000Z
LOCATION:Indoor Field 4
CONTACT:
SUMMARY:Asante Elite BU9 VS. SC Toronto Team Navy
DESCRIPTION:League Name: Under 9 Boys West\nGame Type: Regular\nGame Status
 : Pending\nHome Team: Asante Elite BU9\nAway Team: SC Toronto Team Navy\n
END:VEVENT
BEGIN:VEVENT
UID:6537213@ezleagues.ezfacility.com
DTSTAMP:20260424T044409Z
CREATED:20260424T044409Z
DTSTART:20140301T140000Z
DTEND:20140301T150000Z
LOCATION:Indoor Field 3
CONTACT:
SUMMARY:Asante Elite BU9 VS. NT Nitros BU9
DESCRIPTION:League Name: Under 9 Boys West\nGame Type: Regular\nGame Status
 : Pending\nHome Team: Asante Elite BU9\nAway Team: NT Nitros BU9\n
END:VEVENT
BEGIN:VEVENT
UID:6537163@ezleagues.ezfacility.com
DTSTAMP:20260424T044409Z
CREATED:20260424T044409Z
DTSTART:20140308T140000Z
DTEND:20140308T150000Z
LOCATION:Indoor Field 3
CONTACT:
SUMMARY:Asante Elite BU9 VS. Hearts 2005
DESCRIPTION:League Name: Under 9 Boys West\nGame Type: Regular\nGame Status
 : Pending\nHome Team: Asante Elite BU9\nAway Team: Hearts 2005\n
END:VEVENT
BEGIN:VEVENT
UID:6538837@ezleagues.ezfacility.com
DTSTAMP:20260424T044409Z
CREATED:20260424T044409Z
DTSTART:20140308T160000Z
DTEND:20140308T170000Z
LOCATION:Indoor Field 3
CONTACT:
SUMMARY:Asante Elite BU9 VS. Tecnico Ambato BU9
DESCRIPTION:League Name: Under 9 Boys West\nGame Type: Regular\nGame Status
 : Pending\nHome Team: Asante Elite BU9\nAway Team: Tecnico Ambato BU9\n
END:VEVENT
BEGIN:VEVENT
UID:6537170@ezleagues.ezfacility.com
DTSTAMP:20260424T044409Z
CREATED:20260424T044409Z
DTSTART:20140315T130000Z
DTEND:20140315T140000Z
LOCATION:Indoor Field 4
CONTACT:
SUMMARY:Asante Elite BU9 VS. SC Toronto White 05
DESCRIPTION:League Name: Under 9 Boys West\nGame Type: Regular\nGame Status
 : Pending\nHome Team: Asante Elite BU9\nAway Team: SC Toronto White 05\n
END:VEVENT
END:VCALENDAR
