BEGIN:VCALENDAR
VERSION:2.0
PRODID:-//EZFacility.com, Inc.//EZL 2.5.5.28621
BEGIN:VEVENT
UID:6506207@ezleagues.ezfacility.com
DTSTAMP:20260426T035111Z
CREATED:20260426T035111Z
DTSTART:20131103T162500Z
DTEND:20131103T172000Z
LOCATION:PFFC Dome - Half Field #1
CONTACT:
SUMMARY:NMSC Panthers B02BI VS. Woolwich Wolfpack
DESCRIPTION:League Name: BU12 - East 9v9\nGame Type: Regular\nGame Status: 
 Pending\nHome Team: NMSC Panthers B02BI\nAway Team: Woolwich Wolfpack\n
END:VEVENT
BEGIN:VEVENT
UID:6506246@ezleagues.ezfacility.com
DTSTAMP:20260426T035111Z
CREATED:20260426T035111Z
DTSTART:20131110T143500Z
DTEND:20131110T153000Z
LOCATION:PFFC Field House Half Field AB
CONTACT:
SUMMARY:NMSC Panthers B02BI VS. Cambridge United 
DESCRIPTION:League Name: BU12 - East 9v9\nGame Type: Regular\nGame Status: 
 Pending\nHome Team: NMSC Panthers B02BI\nAway Team: Cambridge United \n
END:VEVENT
BEGIN:VEVENT
UID:6506285@ezleagues.ezfacility.com
DTSTAMP:20260426T035111Z
CREATED:20260426T035111Z
DTSTART:20131117T134000Z
DTEND:20131117T143500Z
LOCATION:PFFC Dome - Half Field #1
CONTACT:
SUMMARY:NMSC Panthers B02BI VS. Brampton Blast Blue 02 
DESCRIPTION:League Name: BU12 - East 9v9\nGame Type: Regular\nGame Status: 
 Pending\nHome Team: NMSC Panthers B02BI\nAway Team: Brampton Blast Blue 02
  \n
END:VEVENT
BEGIN:VEVENT
UID:6506324@ezleagues.ezfacility.com
DTSTAMP:20260426T035111Z
CREATED:20260426T035111Z
DTSTART:20131124T124500Z
DTEND:20131124T134000Z
LOCATION:PFFC Field House Half Field CD
CONTACT:
SUMMARY:NMSC Panthers B02BI VS. Brampton East Blades
DESCRIPTION:League Name: BU12 - East 9v9\nGame Type: Regular\nGame Status: 
 Pending\nHome Team: NMSC Panthers B02BI\nAway Team: Brampton East Blades\n
END:VEVENT
BEGIN:VEVENT
UID:6506363@ezleagues.ezfacility.com
DTSTAMP:20260426T035111Z
CREATED:20260426T035111Z
DTSTART:20131201T134000Z
DTEND:20131201T143500Z
LOCATION:PFFC Dome - Half Field #1
CONTACT:
SUMMARY:NMSC Panthers B02BI VS. EMSC Eagles Gold B
DESCRIPTION:League Name: BU12 - East 9v9\nGame Type: Regular\nGame Status: 
 Pending\nHome Team: NMSC Panthers B02BI\nAway Team: EMSC Eagles Gold B\n
END:VEVENT
BEGIN:VEVENT
UID:6506402@ezleagues.ezfacility.com
DTSTAMP:20260426T035111Z
CREATED:20260426T035111Z
DTSTART:20131208T181500Z
DTEND:20131208T191000Z
LOCATION:PFFC Dome - Half Field #1
CONTACT:
SUMMARY:NMSC Panthers B02BI VS. Bolton White
DESCRIPTION:League Name: BU12 - East 9v9\nGame Type: Regular\nGame Status: 
 Pending\nHome Team: NMSC Panthers B02BI\nAway Team: Bolton White\n
END:VEVENT
BEGIN:VEVENT
UID:6506441@ezleagues.ezfacility.com
DTSTAMP:20260426T035111Z
CREATED:20260426T035111Z
DTSTART:20131215T153000Z
DTEND:20131215T162500Z
LOCATION:PFFC Dome - Half Field #2
CONTACT:
SUMMARY:NMSC Panthers B02BI VS. Oakville SC
DESCRIPTION:League Name: BU12 - East 9v9\nGame Type: Regular\nGame Status: 
 Pending\nHome Team: NMSC Panthers B02BI\nAway Team: Oakville SC\n
END:VEVENT
BEGIN:VEVENT
UID:6506480@ezleagues.ezfacility.com
DTSTAMP:20260426T035111Z
CREATED:20260426T035111Z
DTSTART:20131222T200500Z
DTEND:20131222T210000Z
LOCATION:PFFC Field House Half Field CD
CONTACT:
SUMMARY:NMSC Panthers B02BI VS. OKD
DESCRIPTION:League Name: BU12 - East 9v9\nGame Type: Regular\nGame Status: 
 Pending\nHome Team: NMSC Panthers B02BI\nAway Team: OKD\n
END:VEVENT
BEGIN:VEVENT
UID:6506519@ezleagues.ezfacility.com
DTSTAMP:20260426T035111Z
CREATED:20260426T035111Z
DTSTART:20140112T191000Z
DTEND:20140112T200500Z
LOCATION:PFFC Field House Half Field AB
CONTACT:
SUMMARY:NMSC Panthers B02BI VS. Islington Rangers
DESCRIPTION:League Name: BU12 - East 9v9\nGame Type: Regular\nGame Status: 
 Pending\nHome Team: NMSC Panthers B02BI\nAway Team: Islington Rangers\n
END:VEVENT
BEGIN:VEVENT
UID:6506558@ezleagues.ezfacility.com
DTSTAMP:20260426T035111Z
CREATED:20260426T035111Z
DTSTART:20140119T181500Z
DTEND:20140119T191000Z
LOCATION:PFFC Dome - Half Field #2
CONTACT:
SUMMARY:Woolwich Wolfpack VS. NMSC Panthers B02BI
DESCRIPTION:League Name: BU12 - East 9v9\nGame Type: Regular\nGame Status: 
 Pending\nHome Team: Woolwich Wolfpack\nAway Team: NMSC Panthers B02BI\n
END:VEVENT
BEGIN:VEVENT
UID:6506597@ezleagues.ezfacility.com
DTSTAMP:20260426T035111Z
CREATED:20260426T035111Z
DTSTART:20140126T172000Z
DTEND:20140126T181500Z
LOCATION:PFFC Dome - Half Field #2
CONTACT:
SUMMARY:Cambridge United  VS. NMSC Panthers B02BI
DESCRIPTION:League Name: BU12 - East 9v9\nGame Type: Regular\nGame Status: 
 Pending\nHome Team: Cambridge United \nAway Team: NMSC Panthers B02BI\n
END:VEVENT
BEGIN:VEVENT
UID:6506636@ezleagues.ezfacility.com
DTSTAMP:20260426T035111Z
CREATED:20260426T035111Z
DTSTART:20140202T172000Z
DTEND:20140202T181500Z
LOCATION:PFFC Dome - Half Field #2
CONTACT:
SUMMARY:Brampton Blast Blue 02  VS. NMSC Panthers B02BI
DESCRIPTION:League Name: BU12 - East 9v9\nGame Type: Regular\nGame Status: 
 Pending\nHome Team: Brampton Blast Blue 02 \nAway Team: NMSC Panthers B02B
 I\n
END:VEVENT
BEGIN:VEVENT
UID:6506675@ezleagues.ezfacility.com
DTSTAMP:20260426T035111Z
CREATED:20260426T035111Z
DTSTART:20140209T153000Z
DTEND:20140209T162500Z
LOCATION:PFFC Field House Half Field CD
CONTACT:
SUMMARY:Brampton East Blades VS. NMSC Panthers B02BI
DESCRIPTION:League Name: BU12 - East 9v9\nGame Type: Regular\nGame Status: 
 Pending\nHome Team: Brampton East Blades\nAway Team: NMSC Panthers B02BI\n
END:VEVENT
BEGIN:VEVENT
UID:6506714@ezleagues.ezfacility.com
DTSTAMP:20260426T035111Z
CREATED:20260426T035111Z
DTSTART:20140216T210000Z
DTEND:20140216T215500Z
LOCATION:PFFC Dome - Half Field #1
CONTACT:
SUMMARY:EMSC Eagles Gold B VS. NMSC Panthers B02BI
DESCRIPTION:League Name: BU12 - East 9v9\nGame Type: Regular\nGame Status: 
 Pending\nHome Team: EMSC Eagles Gold B\nAway Team: NMSC Panthers B02BI\n
END:VEVENT
BEGIN:VEVENT
UID:6506753@ezleagues.ezfacility.com
DTSTAMP:20260426T035111Z
CREATED:20260426T035111Z
DTSTART:20140223T134000Z
DTEND:20140223T143500Z
LOCATION:PFFC Dome - Half Field #2
CONTACT:
SUMMARY:Bolton White VS. NMSC Panthers B02BI
DESCRIPTION:League Name: BU12 - East 9v9\nGame Type: Regular\nGame Status: 
 Pending\nHome Team: Bolton White\nAway Team: NMSC Panthers B02BI\n
END:VEVENT
BEGIN:VEVENT
UID:6506792@ezleagues.ezfacility.com
DTSTAMP:20260426T035111Z
CREATED:20260426T035111Z
DTSTART:20140302T124500Z
DTEND:20140302T134000Z
LOCATION:PFFC Field House Half Field CD
CONTACT:
SUMMARY:Oakville SC VS. NMSC Panthers B02BI
DESCRIPTION:League Name: BU12 - East 9v9\nGame Type: Regular\nGame Status: 
 Pending\nHome Team: Oakville SC\nAway Team: NMSC Panthers B02BI\n
END:VEVENT
BEGIN:VEVENT
UID:6506870@ezleagues.ezfacility.com
DTSTAMP:20260426T035111Z
CREATED:20260426T035111Z
DTSTART:20140330T171500Z
DTEND:20140330T181000Z
LOCATION:PFFC Dome - Half Field #1
CONTACT:
SUMMARY:Islington Rangers VS. NMSC Panthers B02BI
DESCRIPTION:League Name: BU12 - East 9v9\nGame Type: Regular\nGame Status: 
 Pending\nHome Team: Islington Rangers\nAway Team: NMSC Panthers B02BI\n
END:VEVENT
BEGIN:VEVENT
UID:6506831@ezleagues.ezfacility.com
DTSTAMP:20260426T035111Z
CREATED:20260426T035111Z
DTSTART:20140406T133500Z
DTEND:20140406T143000Z
LOCATION:PFFC Dome - Half Field #1
CONTACT:
SUMMARY:OKD VS. NMSC Panthers B02BI
DESCRIPTION:League Name: BU12 - East 9v9\nGame Type: Regular\nGame Status: 
 Pending\nHome Team: OKD\nAway Team: NMSC Panthers B02BI\n
END:VEVENT
END:VCALENDAR
