BEGIN:VCALENDAR
VERSION:2.0
PRODID:-//EZFacility.com, Inc.//EZL 2.5.5.28621
BEGIN:VEVENT
UID:6517601@ezleagues.ezfacility.com
DTSTAMP:20260424T063831Z
CREATED:20260424T063831Z
DTSTART:20131104T024500Z
DTEND:20131104T034000Z
LOCATION:Field 1
CONTACT:Valdivia
SUMMARY:Twinkletoes VS. Magnet Jr.
DESCRIPTION:League Name: Sunday Men's Open\nGame Type: Regular\nGame Status
 : Complete\nHome Team: Twinkletoes\nAway Team: Magnet Jr.\nHome Score: 5\n
 Away Score: 16
END:VEVENT
BEGIN:VEVENT
UID:6517618@ezleagues.ezfacility.com
DTSTAMP:20260424T063831Z
CREATED:20260424T063831Z
DTSTART:20131111T000000Z
DTEND:20131111T005500Z
LOCATION:VA Army National Guard Field 2
CONTACT:
SUMMARY:Twinkletoes VS. Tiki Taka FC
DESCRIPTION:League Name: Sunday Men's Open\nGame Type: Regular\nGame Status
 : Complete\nHome Team: Twinkletoes\nAway Team: Tiki Taka FC\nHome Score: 6
 \nAway Score: 12
END:VEVENT
BEGIN:VEVENT
UID:6517635@ezleagues.ezfacility.com
DTSTAMP:20260424T063831Z
CREATED:20260424T063831Z
DTSTART:20131117T230500Z
DTEND:20131118T000000Z
LOCATION:VA Army National Guard Field 2
CONTACT:
SUMMARY:Twinkletoes VS. Fifita FC
DESCRIPTION:League Name: Sunday Men's Open\nGame Type: Regular\nGame Status
 : Complete\nHome Team: Twinkletoes\nAway Team: Fifita FC\nHome Score: 6\nA
 way Score: 8
END:VEVENT
BEGIN:VEVENT
UID:6517651@ezleagues.ezfacility.com
DTSTAMP:20260424T063831Z
CREATED:20260424T063831Z
DTSTART:20131125T000000Z
DTEND:20131125T005500Z
LOCATION:Field 1
CONTACT:Valdivia
SUMMARY:Mean Machine VS. Twinkletoes
DESCRIPTION:League Name: Sunday Men's Open\nGame Type: Regular\nGame Status
 : Complete\nHome Team: Mean Machine\nAway Team: Twinkletoes\nHome Score: 6
 \nAway Score: 5
END:VEVENT
BEGIN:VEVENT
UID:6517666@ezleagues.ezfacility.com
DTSTAMP:20260424T063831Z
CREATED:20260424T063831Z
DTSTART:20131202T005500Z
DTEND:20131202T015000Z
LOCATION: Field 3
CONTACT:
SUMMARY:Duke Dawgs VS. Twinkletoes
DESCRIPTION:League Name: Sunday Men's Open\nGame Type: Regular\nGame Status
 : Complete\nHome Team: Duke Dawgs\nAway Team: Twinkletoes\nHome Score: 7\n
 Away Score: 5
END:VEVENT
BEGIN:VEVENT
UID:6517682@ezleagues.ezfacility.com
DTSTAMP:20260424T063831Z
CREATED:20260424T063831Z
DTSTART:20131216T034000Z
DTEND:20131216T043500Z
LOCATION: Field 3
CONTACT:
SUMMARY:Juve VS. Twinkletoes
DESCRIPTION:League Name: Sunday Men's Open\nGame Type: Postseason\nGame Sta
 tus: Complete\nHome Team: Juve\nAway Team: Twinkletoes\nHome Score: 5\nAwa
 y Score: 7
END:VEVENT
BEGIN:VEVENT
UID:6517696@ezleagues.ezfacility.com
DTSTAMP:20260424T063831Z
CREATED:20260424T063831Z
DTSTART:20131223T024500Z
DTEND:20131223T034000Z
LOCATION:Field 1
CONTACT:
SUMMARY:Plaza America VS. Twinkletoes
DESCRIPTION:League Name: Sunday Men's Open\nGame Type: Postseason\nGame Sta
 tus: Complete\nHome Team: Plaza America\nAway Team: Twinkletoes\nHome Scor
 e: 7\nAway Score: 7
END:VEVENT
END:VCALENDAR
