BEGIN:VCALENDAR
VERSION:2.0
PRODID:-//EZFacility.com, Inc.//EZL 2.5.5.28621
BEGIN:VEVENT
UID:6755909@ezleagues.ezfacility.com
DTSTAMP:20260424T041409Z
CREATED:20260424T041409Z
DTSTART:20140115T213000Z
DTEND:20140115T222500Z
LOCATION:Field   ID 1
CONTACT:
SUMMARY:Powell Liberty VS. Futbol FC
DESCRIPTION:League Name: Winter Indoor 2014 Boy's U-17\nGame Type: Regular\
 nGame Status: Complete\nHome Team: Powell Liberty\nAway Team: Futbol FC\nH
 ome Score: 5\nAway Score: 6
END:VEVENT
BEGIN:VEVENT
UID:6777598@ezleagues.ezfacility.com
DTSTAMP:20260424T041409Z
CREATED:20260424T041409Z
DTSTART:20140129T213000Z
DTEND:20140129T222500Z
LOCATION:Field   ID 3
CONTACT:
SUMMARY:Futbol FC VS. International FC
DESCRIPTION:League Name: Winter Indoor 2014 Boy's U-17\nGame Type: Regular\
 nGame Status: Complete\nHome Team: Futbol FC\nAway Team: International FC\
 nHome Score: 10\nAway Score: 3
END:VEVENT
BEGIN:VEVENT
UID:6777602@ezleagues.ezfacility.com
DTSTAMP:20260424T041409Z
CREATED:20260424T041409Z
DTSTART:20140205T213000Z
DTEND:20140205T222500Z
LOCATION:Field   ID 1
CONTACT:
SUMMARY:Bah Nation VS. Futbol FC
DESCRIPTION:League Name: Winter Indoor 2014 Boy's U-17\nGame Type: Regular\
 nGame Status: Complete\nHome Team: Bah Nation\nAway Team: Futbol FC\nHome 
 Score: 4\nAway Score: 7
END:VEVENT
BEGIN:VEVENT
UID:6777606@ezleagues.ezfacility.com
DTSTAMP:20260424T041409Z
CREATED:20260424T041409Z
DTSTART:20140212T213000Z
DTEND:20140212T222500Z
LOCATION:Field   ID 2
CONTACT:
SUMMARY:Futbol FC VS. Btown Blitz
DESCRIPTION:League Name: Winter Indoor 2014 Boy's U-17\nGame Type: Regular\
 nGame Status: Complete\nHome Team: Futbol FC\nAway Team: Btown Blitz\nHome
  Score: 11\nAway Score: 1
END:VEVENT
BEGIN:VEVENT
UID:6777612@ezleagues.ezfacility.com
DTSTAMP:20260424T041409Z
CREATED:20260424T041409Z
DTSTART:20140219T213000Z
DTEND:20140219T222500Z
LOCATION:Field   ID 1
CONTACT:
SUMMARY:Futbol FC VS. The Cross Chops
DESCRIPTION:League Name: Winter Indoor 2014 Boy's U-17\nGame Type: Regular\
 nGame Status: Complete\nHome Team: Futbol FC\nAway Team: The Cross Chops\n
 Home Score: 7\nAway Score: 10
END:VEVENT
BEGIN:VEVENT
UID:6777614@ezleagues.ezfacility.com
DTSTAMP:20260424T041409Z
CREATED:20260424T041409Z
DTSTART:20140226T213000Z
DTEND:20140226T222500Z
LOCATION:Field   ID 3
CONTACT:
SUMMARY:FCU-FC 1 VS. Futbol FC
DESCRIPTION:League Name: Winter Indoor 2014 Boy's U-17\nGame Type: Regular\
 nGame Status: Complete\nHome Team: FCU-FC 1\nAway Team: Futbol FC\nHome Sc
 ore: 5\nAway Score: 7
END:VEVENT
BEGIN:VEVENT
UID:6777616@ezleagues.ezfacility.com
DTSTAMP:20260424T041409Z
CREATED:20260424T041409Z
DTSTART:20140305T213000Z
DTEND:20140305T222500Z
LOCATION:Field   ID 2
CONTACT:
SUMMARY:Futbol FC VS. Powell Liberty
DESCRIPTION:League Name: Winter Indoor 2014 Boy's U-17\nGame Type: Regular\
 nGame Status: Complete\nHome Team: Futbol FC\nAway Team: Powell Liberty\nH
 ome Score: 5\nAway Score: 5
END:VEVENT
BEGIN:VEVENT
UID:6777628@ezleagues.ezfacility.com
DTSTAMP:20260424T041409Z
CREATED:20260424T041409Z
DTSTART:20140317T203000Z
DTEND:20140317T212500Z
LOCATION:Field   ID 1
CONTACT:
SUMMARY:Btown Blitz VS. Futbol FC
DESCRIPTION:League Name: Winter Indoor 2014 Boy's U-17\nGame Type: Regular\
 nGame Status: Complete\nHome Team: Btown Blitz\nAway Team: Futbol FC\nHome
  Score: 2\nAway Score: 9
END:VEVENT
BEGIN:VEVENT
UID:6777625@ezleagues.ezfacility.com
DTSTAMP:20260424T041409Z
CREATED:20260424T041409Z
DTSTART:20140319T203000Z
DTEND:20140319T212500Z
LOCATION:Field   ID 1
CONTACT:
SUMMARY:International FC VS. Futbol FC
DESCRIPTION:League Name: Winter Indoor 2014 Boy's U-17\nGame Type: Regular\
 nGame Status: Complete\nHome Team: International FC\nAway Team: Futbol FC\
 nHome Score: 2\nAway Score: 14
END:VEVENT
END:VCALENDAR
