BEGIN:VCALENDAR
VERSION:2.0
PRODID:-//EZFacility.com, Inc.//EZL 2.5.5.28621
BEGIN:VEVENT
UID:6744107@ezleagues.ezfacility.com
DTSTAMP:20260424T041329Z
CREATED:20260424T041329Z
DTSTART:20140115T222500Z
DTEND:20140115T232000Z
LOCATION:Field   ID 1
CONTACT:
SUMMARY:Dynamo Allstars VS. Celtic FC
DESCRIPTION:League Name: Winter Indoor 2014 Girl's U-13\nGame Type: Regular
 \nGame Status: Complete\nHome Team: Dynamo Allstars\nAway Team: Celtic FC\
 nHome Score: 24\nAway Score: 0
END:VEVENT
BEGIN:VEVENT
UID:6773720@ezleagues.ezfacility.com
DTSTAMP:20260424T041329Z
CREATED:20260424T041329Z
DTSTART:20140122T232000Z
DTEND:20140123T001200Z
LOCATION:Field   ID 3
CONTACT:
SUMMARY:Dynamo Allstars VS. Kickin Kats
DESCRIPTION:League Name: Winter Indoor 2014 Girl's U-13\nGame Type: Regular
 \nGame Status: Complete\nHome Team: Dynamo Allstars\nAway Team: Kickin Kat
 s\nHome Score: 10\nAway Score: 6
END:VEVENT
BEGIN:VEVENT
UID:6773731@ezleagues.ezfacility.com
DTSTAMP:20260424T041329Z
CREATED:20260424T041329Z
DTSTART:20140129T222500Z
DTEND:20140129T232000Z
LOCATION:Field   ID 3
CONTACT:
SUMMARY:FC 42 VS. Dynamo Allstars
DESCRIPTION:League Name: Winter Indoor 2014 Girl's U-13\nGame Type: Regular
 \nGame Status: Complete\nHome Team: FC 42\nAway Team: Dynamo Allstars\nHom
 e Score: 0\nAway Score: 14
END:VEVENT
BEGIN:VEVENT
UID:6773741@ezleagues.ezfacility.com
DTSTAMP:20260424T041329Z
CREATED:20260424T041329Z
DTSTART:20140205T232000Z
DTEND:20140206T001200Z
LOCATION:Field   ID 1
CONTACT:
SUMMARY:Classic Eagles Thunder VS. Dynamo Allstars
DESCRIPTION:League Name: Winter Indoor 2014 Girl's U-13\nGame Type: Regular
 \nGame Status: Complete\nHome Team: Classic Eagles Thunder\nAway Team: Dyn
 amo Allstars\nHome Score: 0\nAway Score: 18
END:VEVENT
BEGIN:VEVENT
UID:6773758@ezleagues.ezfacility.com
DTSTAMP:20260424T041329Z
CREATED:20260424T041329Z
DTSTART:20140219T232000Z
DTEND:20140220T001200Z
LOCATION:Field   ID 1
CONTACT:
SUMMARY:Dynamo Allstars VS. Blue Demons
DESCRIPTION:League Name: Winter Indoor 2014 Girl's U-13\nGame Type: Regular
 \nGame Status: Complete\nHome Team: Dynamo Allstars\nAway Team: Blue Demon
 s\nHome Score: 18\nAway Score: 3
END:VEVENT
BEGIN:VEVENT
UID:6773762@ezleagues.ezfacility.com
DTSTAMP:20260424T041329Z
CREATED:20260424T041329Z
DTSTART:20140226T232000Z
DTEND:20140227T001200Z
LOCATION:Field   ID 2
CONTACT:
SUMMARY:Mini Marshmallows VS. Dynamo Allstars
DESCRIPTION:League Name: Winter Indoor 2014 Girl's U-13\nGame Type: Regular
 \nGame Status: Complete\nHome Team: Mini Marshmallows\nAway Team: Dynamo A
 llstars\nHome Score: 2\nAway Score: 12
END:VEVENT
BEGIN:VEVENT
UID:6773769@ezleagues.ezfacility.com
DTSTAMP:20260424T041329Z
CREATED:20260424T041329Z
DTSTART:20140305T222500Z
DTEND:20140305T232000Z
LOCATION:Field   ID 1
CONTACT:
SUMMARY:Kickin Kats VS. Dynamo Allstars
DESCRIPTION:League Name: Winter Indoor 2014 Girl's U-13\nGame Type: Regular
 \nGame Status: Complete\nHome Team: Kickin Kats\nAway Team: Dynamo Allstar
 s\nHome Score: 4\nAway Score: 10
END:VEVENT
BEGIN:VEVENT
UID:6773775@ezleagues.ezfacility.com
DTSTAMP:20260424T041329Z
CREATED:20260424T041329Z
DTSTART:20140312T212500Z
DTEND:20140312T222000Z
LOCATION:Field   ID 2
CONTACT:
SUMMARY:Dynamo Allstars VS. FC 42
DESCRIPTION:League Name: Winter Indoor 2014 Girl's U-13\nGame Type: Regular
 \nGame Status: Complete\nHome Team: Dynamo Allstars\nAway Team: FC 42\nHom
 e Score: 12\nAway Score: 3
END:VEVENT
BEGIN:VEVENT
UID:6773783@ezleagues.ezfacility.com
DTSTAMP:20260424T041329Z
CREATED:20260424T041329Z
DTSTART:20140320T212500Z
DTEND:20140320T222000Z
LOCATION:Field   ID 1
CONTACT:
SUMMARY:Dynamo Allstars VS. Black Kats
DESCRIPTION:League Name: Winter Indoor 2014 Girl's U-13\nGame Type: Regular
 \nGame Status: Complete\nHome Team: Dynamo Allstars\nAway Team: Black Kats
 \nHome Score: 16\nAway Score: 0
END:VEVENT
END:VCALENDAR
