BEGIN:VCALENDAR
VERSION:2.0
PRODID:-//EZFacility.com, Inc.//EZL 2.5.5.28621
BEGIN:VEVENT
UID:6744104@ezleagues.ezfacility.com
DTSTAMP:20260424T041357Z
CREATED:20260424T041357Z
DTSTART:20140114T232000Z
DTEND:20140115T001200Z
LOCATION:Field   ID 1
CONTACT:
SUMMARY:Blue Demons VS. Grandview Lady Bobcats
DESCRIPTION:League Name: Winter Indoor 2014 Girl's U-13\nGame Type: Regular
 \nGame Status: Complete\nHome Team: Blue Demons\nAway Team: Grandview Lady
  Bobcats\nHome Score: 12\nAway Score: 10
END:VEVENT
BEGIN:VEVENT
UID:6773715@ezleagues.ezfacility.com
DTSTAMP:20260424T041357Z
CREATED:20260424T041357Z
DTSTART:20140121T222500Z
DTEND:20140121T231700Z
LOCATION:Field   ID 3
CONTACT:
SUMMARY:Blue Demons VS. Classic Eagles Thunder
DESCRIPTION:League Name: Winter Indoor 2014 Girl's U-13\nGame Type: Regular
 \nGame Status: Complete\nHome Team: Blue Demons\nAway Team: Classic Eagles
  Thunder\nHome Score: 3\nAway Score: 2
END:VEVENT
BEGIN:VEVENT
UID:6773734@ezleagues.ezfacility.com
DTSTAMP:20260424T041357Z
CREATED:20260424T041357Z
DTSTART:20140204T222500Z
DTEND:20140204T232000Z
LOCATION:Field   ID 2
CONTACT:
SUMMARY:Mini Marshmallows VS. Blue Demons
DESCRIPTION:League Name: Winter Indoor 2014 Girl's U-13\nGame Type: Regular
 \nGame Status: Complete\nHome Team: Mini Marshmallows\nAway Team: Blue Dem
 ons\nHome Score: 12\nAway Score: 1
END:VEVENT
BEGIN:VEVENT
UID:6773746@ezleagues.ezfacility.com
DTSTAMP:20260424T041357Z
CREATED:20260424T041357Z
DTSTART:20140212T001200Z
DTEND:20140212T010400Z
LOCATION:Field   ID 1
CONTACT:
SUMMARY:Kickin Kats VS. Blue Demons
DESCRIPTION:League Name: Winter Indoor 2014 Girl's U-13\nGame Type: Regular
 \nGame Status: Complete\nHome Team: Kickin Kats\nAway Team: Blue Demons\nH
 ome Score: 19\nAway Score: 2
END:VEVENT
BEGIN:VEVENT
UID:6773758@ezleagues.ezfacility.com
DTSTAMP:20260424T041357Z
CREATED:20260424T041357Z
DTSTART:20140219T232000Z
DTEND:20140220T001200Z
LOCATION:Field   ID 1
CONTACT:
SUMMARY:Dynamo Allstars VS. Blue Demons
DESCRIPTION:League Name: Winter Indoor 2014 Girl's U-13\nGame Type: Regular
 \nGame Status: Complete\nHome Team: Dynamo Allstars\nAway Team: Blue Demon
 s\nHome Score: 18\nAway Score: 3
END:VEVENT
BEGIN:VEVENT
UID:6773761@ezleagues.ezfacility.com
DTSTAMP:20260424T041357Z
CREATED:20260424T041357Z
DTSTART:20140226T001200Z
DTEND:20140226T010400Z
LOCATION:Field   ID 3
CONTACT:
SUMMARY:Blue Demons VS. Celtic FC
DESCRIPTION:League Name: Winter Indoor 2014 Girl's U-13\nGame Type: Regular
 \nGame Status: Complete\nHome Team: Blue Demons\nAway Team: Celtic FC\nHom
 e Score: 2\nAway Score: 6
END:VEVENT
BEGIN:VEVENT
UID:6773764@ezleagues.ezfacility.com
DTSTAMP:20260424T041357Z
CREATED:20260424T041357Z
DTSTART:20140304T232000Z
DTEND:20140305T001200Z
LOCATION:Field   ID 1
CONTACT:
SUMMARY:Black Kats VS. Blue Demons
DESCRIPTION:League Name: Winter Indoor 2014 Girl's U-13\nGame Type: Regular
 \nGame Status: Complete\nHome Team: Black Kats\nAway Team: Blue Demons\nHo
 me Score: 5\nAway Score: 7
END:VEVENT
BEGIN:VEVENT
UID:6773772@ezleagues.ezfacility.com
DTSTAMP:20260424T041357Z
CREATED:20260424T041357Z
DTSTART:20140311T212500Z
DTEND:20140311T222000Z
LOCATION:Field   ID 2
CONTACT:
SUMMARY:Blue Demons VS. Grandview Lady Bobcats
DESCRIPTION:League Name: Winter Indoor 2014 Girl's U-13\nGame Type: Regular
 \nGame Status: Complete\nHome Team: Blue Demons\nAway Team: Grandview Lady
  Bobcats\nHome Score: 6\nAway Score: 5
END:VEVENT
BEGIN:VEVENT
UID:6773779@ezleagues.ezfacility.com
DTSTAMP:20260424T041357Z
CREATED:20260424T041357Z
DTSTART:20140318T212500Z
DTEND:20140318T222000Z
LOCATION:Field   ID 1
CONTACT:
SUMMARY:FC 42 VS. Blue Demons
DESCRIPTION:League Name: Winter Indoor 2014 Girl's U-13\nGame Type: Regular
 \nGame Status: Complete\nHome Team: FC 42\nAway Team: Blue Demons\nHome Sc
 ore: 14\nAway Score: 2
END:VEVENT
END:VCALENDAR
