BEGIN:VCALENDAR
VERSION:2.0
PRODID:-//EZFacility.com, Inc.//EZL 2.5.5.28621
BEGIN:VEVENT
UID:6751151@ezleagues.ezfacility.com
DTSTAMP:20260424T041506Z
CREATED:20260424T041506Z
DTSTART:20140116T010400Z
DTEND:20140116T015600Z
LOCATION:Field   ID 2
CONTACT:
SUMMARY:Discount Auto Glass VS. MFC West
DESCRIPTION:League Name: Winter Indoor 2014  Men's 30+ East\nGame Type: Reg
 ular\nGame Status: Complete\nHome Team: Discount Auto Glass\nAway Team: MF
 C West\nHome Score: 9\nAway Score: 5
END:VEVENT
BEGIN:VEVENT
UID:6781777@ezleagues.ezfacility.com
DTSTAMP:20260424T041506Z
CREATED:20260424T041506Z
DTSTART:20140123T034000Z
DTEND:20140123T043200Z
LOCATION:Field   ID 1
CONTACT:
SUMMARY:CD Derby VS. Discount Auto Glass
DESCRIPTION:League Name: Winter Indoor 2014  Men's 30+ East\nGame Type: Reg
 ular\nGame Status: Complete\nHome Team: CD Derby\nAway Team: Discount Auto
  Glass\nHome Score: 6\nAway Score: 10
END:VEVENT
BEGIN:VEVENT
UID:6781792@ezleagues.ezfacility.com
DTSTAMP:20260424T041506Z
CREATED:20260424T041506Z
DTSTART:20140130T010400Z
DTEND:20140130T015600Z
LOCATION:Field   ID 2
CONTACT:
SUMMARY:Aston Villa FC VS. Discount Auto Glass
DESCRIPTION:League Name: Winter Indoor 2014  Men's 30+ East\nGame Type: Reg
 ular\nGame Status: Complete\nHome Team: Aston Villa FC\nAway Team: Discoun
 t Auto Glass\nHome Score: 5\nAway Score: 12
END:VEVENT
BEGIN:VEVENT
UID:6781801@ezleagues.ezfacility.com
DTSTAMP:20260424T041506Z
CREATED:20260424T041506Z
DTSTART:20140206T024800Z
DTEND:20140206T034000Z
LOCATION:Field   ID 1
CONTACT:
SUMMARY:Discount Auto Glass VS. Super Team 2
DESCRIPTION:League Name: Winter Indoor 2014  Men's 30+ East\nGame Type: Reg
 ular\nGame Status: Complete\nHome Team: Discount Auto Glass\nAway Team: Su
 per Team 2\nHome Score: 4\nAway Score: 5
END:VEVENT
BEGIN:VEVENT
UID:6781807@ezleagues.ezfacility.com
DTSTAMP:20260424T041506Z
CREATED:20260424T041506Z
DTSTART:20140213T043200Z
DTEND:20140213T052400Z
LOCATION:Field   ID 1
CONTACT:
SUMMARY:Quake FC VS. Discount Auto Glass
DESCRIPTION:League Name: Winter Indoor 2014  Men's 30+ East\nGame Type: Reg
 ular\nGame Status: Complete\nHome Team: Quake FC\nAway Team: Discount Auto
  Glass\nHome Score: 6\nAway Score: 7
END:VEVENT
BEGIN:VEVENT
UID:6781810@ezleagues.ezfacility.com
DTSTAMP:20260424T041506Z
CREATED:20260424T041506Z
DTSTART:20140220T010400Z
DTEND:20140220T015600Z
LOCATION:Field   ID 2
CONTACT:
SUMMARY:Discount Auto Glass VS. High Plains Drifters
DESCRIPTION:League Name: Winter Indoor 2014  Men's 30+ East\nGame Type: Reg
 ular\nGame Status: Complete\nHome Team: Discount Auto Glass\nAway Team: Hi
 gh Plains Drifters\nHome Score: 9\nAway Score: 4
END:VEVENT
BEGIN:VEVENT
UID:6781946@ezleagues.ezfacility.com
DTSTAMP:20260424T041506Z
CREATED:20260424T041506Z
DTSTART:20140306T010400Z
DTEND:20140306T015600Z
LOCATION:Field   ID 2
CONTACT:
SUMMARY:The Team VS. Discount Auto Glass
DESCRIPTION:League Name: Winter Indoor 2014  Men's 30+ East\nGame Type: Reg
 ular\nGame Status: Complete\nHome Team: The Team\nAway Team: Discount Auto
  Glass\nHome Score: 4\nAway Score: 4
END:VEVENT
BEGIN:VEVENT
UID:6781980@ezleagues.ezfacility.com
DTSTAMP:20260424T041506Z
CREATED:20260424T041506Z
DTSTART:20140314T014800Z
DTEND:20140314T024000Z
LOCATION:Field   ID 1
CONTACT:
SUMMARY:Discount Auto Glass VS. Spirit Green FC
DESCRIPTION:League Name: Winter Indoor 2014  Men's 30+ East\nGame Type: Reg
 ular\nGame Status: Complete\nHome Team: Discount Auto Glass\nAway Team: Sp
 irit Green FC\nHome Score: 3\nAway Score: 9
END:VEVENT
BEGIN:VEVENT
UID:6781983@ezleagues.ezfacility.com
DTSTAMP:20260424T041506Z
CREATED:20260424T041506Z
DTSTART:20140320T005600Z
DTEND:20140320T014800Z
LOCATION:Field   ID 1
CONTACT:
SUMMARY:MFC West VS. Discount Auto Glass
DESCRIPTION:League Name: Winter Indoor 2014  Men's 30+ East\nGame Type: Reg
 ular\nGame Status: Complete\nHome Team: MFC West\nAway Team: Discount Auto
  Glass\nHome Score: 5\nAway Score: 8
END:VEVENT
END:VCALENDAR
