BEGIN:VCALENDAR
VERSION:2.0
PRODID:-//EZFacility.com, Inc.//EZL 2.5.5.28621
BEGIN:VEVENT
UID:6751152@ezleagues.ezfacility.com
DTSTAMP:20260424T041519Z
CREATED:20260424T041519Z
DTSTART:20140116T010400Z
DTEND:20140116T015600Z
LOCATION:Field   ID 3
CONTACT:
SUMMARY:CD Derby VS. High Plains Drifters
DESCRIPTION:League Name: Winter Indoor 2014  Men's 30+ East\nGame Type: Reg
 ular\nGame Status: Complete\nHome Team: CD Derby\nAway Team: High Plains D
 rifters\nHome Score: 11\nAway Score: 6
END:VEVENT
BEGIN:VEVENT
UID:6781776@ezleagues.ezfacility.com
DTSTAMP:20260424T041519Z
CREATED:20260424T041519Z
DTSTART:20140123T034000Z
DTEND:20140123T043200Z
LOCATION:Field   ID 2
CONTACT:
SUMMARY:High Plains Drifters VS. Aston Villa FC
DESCRIPTION:League Name: Winter Indoor 2014  Men's 30+ East\nGame Type: Reg
 ular\nGame Status: Complete\nHome Team: High Plains Drifters\nAway Team: A
 ston Villa FC\nHome Score: 6\nAway Score: 6
END:VEVENT
BEGIN:VEVENT
UID:6781793@ezleagues.ezfacility.com
DTSTAMP:20260424T041519Z
CREATED:20260424T041519Z
DTSTART:20140130T015600Z
DTEND:20140130T024800Z
LOCATION:Field   ID 1
CONTACT:
SUMMARY:Super Team 2 VS. High Plains Drifters
DESCRIPTION:League Name: Winter Indoor 2014  Men's 30+ East\nGame Type: Reg
 ular\nGame Status: Complete\nHome Team: Super Team 2\nAway Team: High Plai
 ns Drifters\nHome Score: 9\nAway Score: 4
END:VEVENT
BEGIN:VEVENT
UID:6781802@ezleagues.ezfacility.com
DTSTAMP:20260424T041519Z
CREATED:20260424T041519Z
DTSTART:20140206T034000Z
DTEND:20140206T043200Z
LOCATION:Field   ID 1
CONTACT:
SUMMARY:High Plains Drifters VS. Quake FC
DESCRIPTION:League Name: Winter Indoor 2014  Men's 30+ East\nGame Type: Reg
 ular\nGame Status: Complete\nHome Team: High Plains Drifters\nAway Team: Q
 uake FC\nHome Score: 10\nAway Score: 3
END:VEVENT
BEGIN:VEVENT
UID:6781810@ezleagues.ezfacility.com
DTSTAMP:20260424T041519Z
CREATED:20260424T041519Z
DTSTART:20140220T010400Z
DTEND:20140220T015600Z
LOCATION:Field   ID 2
CONTACT:
SUMMARY:Discount Auto Glass VS. High Plains Drifters
DESCRIPTION:League Name: Winter Indoor 2014  Men's 30+ East\nGame Type: Reg
 ular\nGame Status: Complete\nHome Team: Discount Auto Glass\nAway Team: Hi
 gh Plains Drifters\nHome Score: 9\nAway Score: 4
END:VEVENT
BEGIN:VEVENT
UID:6781898@ezleagues.ezfacility.com
DTSTAMP:20260424T041519Z
CREATED:20260424T041519Z
DTSTART:20140227T010400Z
DTEND:20140227T015600Z
LOCATION:Field   ID 3
CONTACT:
SUMMARY:High Plains Drifters VS. The Team
DESCRIPTION:League Name: Winter Indoor 2014  Men's 30+ East\nGame Type: Reg
 ular\nGame Status: Complete\nHome Team: High Plains Drifters\nAway Team: T
 he Team\nHome Score: 6\nAway Score: 5
END:VEVENT
BEGIN:VEVENT
UID:6781947@ezleagues.ezfacility.com
DTSTAMP:20260424T041519Z
CREATED:20260424T041519Z
DTSTART:20140306T024800Z
DTEND:20140306T034000Z
LOCATION:Field   ID 1
CONTACT:
SUMMARY:Spirit Green FC VS. High Plains Drifters
DESCRIPTION:League Name: Winter Indoor 2014  Men's 30+ East\nGame Type: Reg
 ular\nGame Status: Complete\nHome Team: Spirit Green FC\nAway Team: High P
 lains Drifters\nHome Score: 7\nAway Score: 2
END:VEVENT
BEGIN:VEVENT
UID:6781979@ezleagues.ezfacility.com
DTSTAMP:20260424T041519Z
CREATED:20260424T041519Z
DTSTART:20140313T024000Z
DTEND:20140313T033200Z
LOCATION:Field   ID 3
CONTACT:
SUMMARY:High Plains Drifters VS. MFC West
DESCRIPTION:League Name: Winter Indoor 2014  Men's 30+ East\nGame Type: Reg
 ular\nGame Status: Complete\nHome Team: High Plains Drifters\nAway Team: M
 FC West\nHome Score: 2\nAway Score: 6
END:VEVENT
BEGIN:VEVENT
UID:6781984@ezleagues.ezfacility.com
DTSTAMP:20260424T041519Z
CREATED:20260424T041519Z
DTSTART:20140320T005600Z
DTEND:20140320T014800Z
LOCATION:Field   ID 1
CONTACT:
SUMMARY:High Plains Drifters VS. CD Derby
DESCRIPTION:League Name: Winter Indoor 2014  Men's 30+ East\nGame Type: Reg
 ular\nGame Status: Complete\nHome Team: High Plains Drifters\nAway Team: C
 D Derby\nHome Score: 4\nAway Score: 8
END:VEVENT
END:VCALENDAR
