BEGIN:VCALENDAR
VERSION:2.0
PRODID:-//EZFacility.com, Inc.//EZL 2.5.5.28621
BEGIN:VEVENT
UID:6882761@ezleagues.ezfacility.com
DTSTAMP:20260424T204038Z
CREATED:20260424T204038Z
DTSTART:20140213T010000Z
DTEND:20140213T020000Z
LOCATION:Indoor Field 2
CONTACT:
SUMMARY:DC United VS. DRUJBA
DESCRIPTION:League Name: Wednesday Division 3 East\nGame Type: Regular\nGam
 e Status: Pending\nHome Team: DC United\nAway Team: DRUJBA\n
END:VEVENT
BEGIN:VEVENT
UID:6882792@ezleagues.ezfacility.com
DTSTAMP:20260424T204038Z
CREATED:20260424T204038Z
DTSTART:20140220T020000Z
DTEND:20140220T030000Z
LOCATION:Indoor Field 4
CONTACT:
SUMMARY:SC Dacia VS. DC United
DESCRIPTION:League Name: Wednesday Division 3 East\nGame Type: Regular\nGam
 e Status: Pending\nHome Team: SC Dacia\nAway Team: DC United\n
END:VEVENT
BEGIN:VEVENT
UID:6882823@ezleagues.ezfacility.com
DTSTAMP:20260424T204038Z
CREATED:20260424T204038Z
DTSTART:20140227T030000Z
DTEND:20140227T040000Z
LOCATION:Dome Field 1
CONTACT:
SUMMARY:DC United VS. Thornhill United W3E
DESCRIPTION:League Name: Wednesday Division 3 East\nGame Type: Regular\nGam
 e Status: Pending\nHome Team: DC United\nAway Team: Thornhill United W3E\n
END:VEVENT
BEGIN:VEVENT
UID:6882854@ezleagues.ezfacility.com
DTSTAMP:20260424T204038Z
CREATED:20260424T204038Z
DTSTART:20140306T040000Z
DTEND:20140306T050000Z
LOCATION:Indoor Field 4
CONTACT:
SUMMARY:DC United VS. Fc Soviets
DESCRIPTION:League Name: Wednesday Division 3 East\nGame Type: Regular\nGam
 e Status: Pending\nHome Team: DC United\nAway Team: Fc Soviets\n
END:VEVENT
BEGIN:VEVENT
UID:6882887@ezleagues.ezfacility.com
DTSTAMP:20260424T204038Z
CREATED:20260424T204038Z
DTSTART:20140313T010000Z
DTEND:20140313T020000Z
LOCATION:Indoor Field 1
CONTACT:
SUMMARY:REMAX Hallmark FC VS. DC United
DESCRIPTION:League Name: Wednesday Division 3 East\nGame Type: Regular\nGam
 e Status: Pending\nHome Team: REMAX Hallmark FC\nAway Team: DC United\n
END:VEVENT
BEGIN:VEVENT
UID:6882921@ezleagues.ezfacility.com
DTSTAMP:20260424T204038Z
CREATED:20260424T204038Z
DTSTART:20140320T000000Z
DTEND:20140320T010000Z
LOCATION:Indoor Field 3
CONTACT:
SUMMARY:DC United VS. Exodus
DESCRIPTION:League Name: Wednesday Division 3 East\nGame Type: Regular\nGam
 e Status: Pending\nHome Team: DC United\nAway Team: Exodus\n
END:VEVENT
BEGIN:VEVENT
UID:6882954@ezleagues.ezfacility.com
DTSTAMP:20260424T204038Z
CREATED:20260424T204038Z
DTSTART:20140327T010000Z
DTEND:20140327T020000Z
LOCATION:Dome Field 3
CONTACT:
SUMMARY:Willowdale United VS. DC United
DESCRIPTION:League Name: Wednesday Division 3 East\nGame Type: Regular\nGam
 e Status: Pending\nHome Team: Willowdale United\nAway Team: DC United\n
END:VEVENT
BEGIN:VEVENT
UID:6882986@ezleagues.ezfacility.com
DTSTAMP:20260424T204038Z
CREATED:20260424T204038Z
DTSTART:20140402T230000Z
DTEND:20140403T000000Z
LOCATION:Indoor Field 4
CONTACT:
SUMMARY:DRUJBA VS. DC United
DESCRIPTION:League Name: Wednesday Division 3 East\nGame Type: Regular\nGam
 e Status: Pending\nHome Team: DRUJBA\nAway Team: DC United\n
END:VEVENT
BEGIN:VEVENT
UID:6883017@ezleagues.ezfacility.com
DTSTAMP:20260424T204038Z
CREATED:20260424T204038Z
DTSTART:20140409T230000Z
DTEND:20140410T000000Z
LOCATION:Indoor Field 1
CONTACT:
SUMMARY:DC United VS. SC Dacia
DESCRIPTION:League Name: Wednesday Division 3 East\nGame Type: Regular\nGam
 e Status: Pending\nHome Team: DC United\nAway Team: SC Dacia\n
END:VEVENT
BEGIN:VEVENT
UID:6883048@ezleagues.ezfacility.com
DTSTAMP:20260424T204038Z
CREATED:20260424T204038Z
DTSTART:20140417T010000Z
DTEND:20140417T020000Z
LOCATION:Dome Field 1
CONTACT:
SUMMARY:Thornhill United W3E VS. DC United
DESCRIPTION:League Name: Wednesday Division 3 East\nGame Type: Regular\nGam
 e Status: Pending\nHome Team: Thornhill United W3E\nAway Team: DC United\n
END:VEVENT
BEGIN:VEVENT
UID:6883079@ezleagues.ezfacility.com
DTSTAMP:20260424T204038Z
CREATED:20260424T204038Z
DTSTART:20140424T000000Z
DTEND:20140424T010000Z
LOCATION:Indoor Field 2
CONTACT:
SUMMARY:Fc Soviets VS. DC United
DESCRIPTION:League Name: Wednesday Division 3 East\nGame Type: Regular\nGam
 e Status: Pending\nHome Team: Fc Soviets\nAway Team: DC United\n
END:VEVENT
BEGIN:VEVENT
UID:6883112@ezleagues.ezfacility.com
DTSTAMP:20260424T204038Z
CREATED:20260424T204038Z
DTSTART:20140501T020000Z
DTEND:20140501T030000Z
LOCATION:Dome Field 1
CONTACT:
SUMMARY:DC United VS. REMAX Hallmark FC
DESCRIPTION:League Name: Wednesday Division 3 East\nGame Type: Regular\nGam
 e Status: Pending\nHome Team: DC United\nAway Team: REMAX Hallmark FC\n
END:VEVENT
END:VCALENDAR
