BEGIN:VCALENDAR
VERSION:2.0
PRODID:-//EZFacility.com, Inc.//EZL 2.5.5.28621
BEGIN:VEVENT
UID:6923451@ezleagues.ezfacility.com
DTSTAMP:20260421T131216Z
CREATED:20260421T131216Z
DTSTART:20140307T031500Z
DTEND:20140307T041000Z
LOCATION:Field 6
CONTACT:
SUMMARY:Emergency Services VS. Warning Track Power
DESCRIPTION:League Name: Season 2 Thursday Men's D1 - March 6th, 2014\nGame
  Type: Regular\nGame Status: Complete\nHome Team: Emergency Services\nAway
  Team: Warning Track Power\nHome Score: 7\nAway Score: 18
END:VEVENT
BEGIN:VEVENT
UID:6923452@ezleagues.ezfacility.com
DTSTAMP:20260421T131216Z
CREATED:20260421T131216Z
DTSTART:20140307T041500Z
DTEND:20140307T051000Z
LOCATION:Field 6
CONTACT:
SUMMARY:Diamondback Pools VS. Emergency Services
DESCRIPTION:League Name: Season 2 Thursday Men's D1 - March 6th, 2014\nGame
  Type: Regular\nGame Status: Complete\nHome Team: Diamondback Pools\nAway 
 Team: Emergency Services\nHome Score: 7\nAway Score: 7
END:VEVENT
BEGIN:VEVENT
UID:6942620@ezleagues.ezfacility.com
DTSTAMP:20260421T131216Z
CREATED:20260421T131216Z
DTSTART:20140314T021500Z
DTEND:20140314T031000Z
LOCATION:Field 1
CONTACT:
SUMMARY:Emergency Services VS. One Bad Inning
DESCRIPTION:League Name: Season 2 Thursday Men's D1 - March 6th, 2014\nGame
  Type: Regular\nGame Status: Complete\nHome Team: Emergency Services\nAway
  Team: One Bad Inning\nHome Score: 10\nAway Score: 10
END:VEVENT
BEGIN:VEVENT
UID:6942618@ezleagues.ezfacility.com
DTSTAMP:20260421T131216Z
CREATED:20260421T131216Z
DTSTART:20140314T031500Z
DTEND:20140314T041000Z
LOCATION:Field 1
CONTACT:
SUMMARY:Murphy's Law VS. Emergency Services
DESCRIPTION:League Name: Season 2 Thursday Men's D1 - March 6th, 2014\nGame
  Type: Regular\nGame Status: Complete\nHome Team: Murphy's Law\nAway Team:
  Emergency Services\nHome Score: 11\nAway Score: 12
END:VEVENT
BEGIN:VEVENT
UID:6942640@ezleagues.ezfacility.com
DTSTAMP:20260421T131216Z
CREATED:20260421T131216Z
DTSTART:20140321T031500Z
DTEND:20140321T041000Z
LOCATION:Field 6
CONTACT:
SUMMARY:Emergency Services VS. Runnin' Fools
DESCRIPTION:League Name: Season 2 Thursday Men's D1 - March 6th, 2014\nGame
  Type: Regular\nGame Status: Complete\nHome Team: Emergency Services\nAway
  Team: Runnin' Fools\nHome Score: 11\nAway Score: 1
END:VEVENT
BEGIN:VEVENT
UID:6942641@ezleagues.ezfacility.com
DTSTAMP:20260421T131216Z
CREATED:20260421T131216Z
DTSTART:20140321T041500Z
DTEND:20140321T051000Z
LOCATION:Field 6
CONTACT:
SUMMARY:Runnin' Fools VS. Emergency Services
DESCRIPTION:League Name: Season 2 Thursday Men's D1 - March 6th, 2014\nGame
  Type: Regular\nGame Status: Complete\nHome Team: Runnin' Fools\nAway Team
 : Emergency Services\nHome Score: 7\nAway Score: 22
END:VEVENT
BEGIN:VEVENT
UID:6942664@ezleagues.ezfacility.com
DTSTAMP:20260421T131216Z
CREATED:20260421T131216Z
DTSTART:20140328T031500Z
DTEND:20140328T041000Z
LOCATION:Field 3
CONTACT:
SUMMARY:Skeleton Crew VS. Emergency Services
DESCRIPTION:League Name: Season 2 Thursday Men's D1 - March 6th, 2014\nGame
  Type: Regular\nGame Status: Complete\nHome Team: Skeleton Crew\nAway Team
 : Emergency Services\nHome Score: 1\nAway Score: 25
END:VEVENT
BEGIN:VEVENT
UID:6942663@ezleagues.ezfacility.com
DTSTAMP:20260421T131216Z
CREATED:20260421T131216Z
DTSTART:20140328T041500Z
DTEND:20140328T051000Z
LOCATION:Field 3
CONTACT:
SUMMARY:Emergency Services VS. Skeleton Crew
DESCRIPTION:League Name: Season 2 Thursday Men's D1 - March 6th, 2014\nGame
  Type: Regular\nGame Status: Complete\nHome Team: Emergency Services\nAway
  Team: Skeleton Crew\nHome Score: 17\nAway Score: 6
END:VEVENT
BEGIN:VEVENT
UID:6942689@ezleagues.ezfacility.com
DTSTAMP:20260421T131216Z
CREATED:20260421T131216Z
DTSTART:20140404T031500Z
DTEND:20140404T041000Z
LOCATION:Field 6
CONTACT:
SUMMARY:Emergency Services VS. Sickness
DESCRIPTION:League Name: Season 2 Thursday Men's D1 - March 6th, 2014\nGame
  Type: Regular\nGame Status: Complete\nHome Team: Emergency Services\nAway
  Team: Sickness\nHome Score: 12\nAway Score: 10
END:VEVENT
BEGIN:VEVENT
UID:6942688@ezleagues.ezfacility.com
DTSTAMP:20260421T131216Z
CREATED:20260421T131216Z
DTSTART:20140404T041500Z
DTEND:20140404T051000Z
LOCATION:Field 6
CONTACT:
SUMMARY:Sickness VS. Emergency Services
DESCRIPTION:League Name: Season 2 Thursday Men's D1 - March 6th, 2014\nGame
  Type: Regular\nGame Status: Complete\nHome Team: Sickness\nAway Team: Eme
 rgency Services\nHome Score: 20\nAway Score: 5
END:VEVENT
BEGIN:VEVENT
UID:6942705@ezleagues.ezfacility.com
DTSTAMP:20260421T131216Z
CREATED:20260421T131216Z
DTSTART:20140411T011500Z
DTEND:20140411T021000Z
LOCATION:Field 4
CONTACT:
SUMMARY:Warning Track Power VS. Emergency Services
DESCRIPTION:League Name: Season 2 Thursday Men's D1 - March 6th, 2014\nGame
  Type: Regular\nGame Status: Complete\nHome Team: Warning Track Power\nAwa
 y Team: Emergency Services\nHome Score: 7\nAway Score: 22
END:VEVENT
BEGIN:VEVENT
UID:6942703@ezleagues.ezfacility.com
DTSTAMP:20260421T131216Z
CREATED:20260421T131216Z
DTSTART:20140411T031500Z
DTEND:20140411T041000Z
LOCATION:Field 4
CONTACT:
SUMMARY:Emergency Services VS. The Heights
DESCRIPTION:League Name: Season 2 Thursday Men's D1 - March 6th, 2014\nGame
  Type: Regular\nGame Status: Complete\nHome Team: Emergency Services\nAway
  Team: The Heights\nHome Score: 11\nAway Score: 17
END:VEVENT
BEGIN:VEVENT
UID:6942722@ezleagues.ezfacility.com
DTSTAMP:20260421T131216Z
CREATED:20260421T131216Z
DTSTART:20140418T021500Z
DTEND:20140418T031000Z
LOCATION:Field 5
CONTACT:
SUMMARY:Mamma's Boys VS. Emergency Services
DESCRIPTION:League Name: Season 2 Thursday Men's D1 - March 6th, 2014\nGame
  Type: Regular\nGame Status: Complete\nHome Team: Mamma's Boys\nAway Team:
  Emergency Services\nHome Score: 7\nAway Score: 16
END:VEVENT
BEGIN:VEVENT
UID:6942723@ezleagues.ezfacility.com
DTSTAMP:20260421T131216Z
CREATED:20260421T131216Z
DTSTART:20140418T031500Z
DTEND:20140418T041000Z
LOCATION:Field 5
CONTACT:
SUMMARY:Emergency Services VS. Coyote Towing
DESCRIPTION:League Name: Season 2 Thursday Men's D1 - March 6th, 2014\nGame
  Type: Regular\nGame Status: Complete\nHome Team: Emergency Services\nAway
  Team: Coyote Towing\nHome Score: 3\nAway Score: 15
END:VEVENT
BEGIN:VEVENT
UID:7054750@ezleagues.ezfacility.com
DTSTAMP:20260421T131216Z
CREATED:20260421T131216Z
DTSTART:20140425T021500Z
DTEND:20140425T031000Z
LOCATION:Field 1
CONTACT:
SUMMARY:Emergency Services VS. Murphy's Law
DESCRIPTION:League Name: Season 2 Thursday Men's D1 - March 6th, 2014\nGame
  Type: Regular\nGame Status: Pending\nHome Team: Emergency Services\nAway 
 Team: Murphy's Law\n
END:VEVENT
END:VCALENDAR
