BEGIN:VCALENDAR
VERSION:2.0
PRODID:-//EZFacility.com, Inc.//EZL 2.5.5.28621
BEGIN:VEVENT
UID:6958855@ezleagues.ezfacility.com
DTSTAMP:20260424T041408Z
CREATED:20260424T041408Z
DTSTART:20140324T231200Z
DTEND:20140325T000700Z
LOCATION:Field   ID 2
CONTACT:
SUMMARY:Galaxy VS. Crazy 8's
DESCRIPTION:League Name: Spring Indoor 2014 Women's 25+\nGame Type: Regular
 \nGame Status: Complete\nHome Team: Galaxy\nAway Team: Crazy 8's\nHome Sco
 re: 1\nAway Score: 9
END:VEVENT
BEGIN:VEVENT
UID:6977157@ezleagues.ezfacility.com
DTSTAMP:20260424T041408Z
CREATED:20260424T041408Z
DTSTART:20140408T005000Z
DTEND:20140408T014500Z
LOCATION:Field   ID 1
CONTACT:
SUMMARY:Crazy 8's VS. Baboon Butts
DESCRIPTION:League Name: Spring Indoor 2014 Women's 25+\nGame Type: Regular
 \nGame Status: Complete\nHome Team: Crazy 8's\nAway Team: Baboon Butts\nHo
 me Score: 0\nAway Score: 14
END:VEVENT
BEGIN:VEVENT
UID:6977159@ezleagues.ezfacility.com
DTSTAMP:20260424T041408Z
CREATED:20260424T041408Z
DTSTART:20140414T230000Z
DTEND:20140414T235500Z
LOCATION:Field   ID 1
CONTACT:
SUMMARY:Fighting Crabs VS. Crazy 8's
DESCRIPTION:League Name: Spring Indoor 2014 Women's 25+\nGame Type: Regular
 \nGame Status: Complete\nHome Team: Fighting Crabs\nAway Team: Crazy 8's\n
 Home Score: 2\nAway Score: 8
END:VEVENT
BEGIN:VEVENT
UID:6977164@ezleagues.ezfacility.com
DTSTAMP:20260424T041408Z
CREATED:20260424T041408Z
DTSTART:20140421T224500Z
DTEND:20140421T234000Z
LOCATION:Field   ID 2
CONTACT:
SUMMARY:Blasters VS. Crazy 8's
DESCRIPTION:League Name: Spring Indoor 2014 Women's 25+\nGame Type: Regular
 \nGame Status: Complete\nHome Team: Blasters\nAway Team: Crazy 8's\nHome S
 core: 8\nAway Score: 1
END:VEVENT
BEGIN:VEVENT
UID:6977171@ezleagues.ezfacility.com
DTSTAMP:20260424T041408Z
CREATED:20260424T041408Z
DTSTART:20140428T235500Z
DTEND:20140429T005000Z
LOCATION:Field   ID 1
CONTACT:
SUMMARY:Crazy 8's VS. Galaxy
DESCRIPTION:League Name: Spring Indoor 2014 Women's 25+\nGame Type: Regular
 \nGame Status: Complete\nHome Team: Crazy 8's\nAway Team: Galaxy\nHome Sco
 re: 7\nAway Score: 0
END:VEVENT
BEGIN:VEVENT
UID:6977179@ezleagues.ezfacility.com
DTSTAMP:20260424T041408Z
CREATED:20260424T041408Z
DTSTART:20140508T231200Z
DTEND:20140509T000700Z
LOCATION:Field   ID 2
CONTACT:
SUMMARY:Crazy 8's VS. Fighting Crabs
DESCRIPTION:League Name: Spring Indoor 2014 Women's 25+\nGame Type: Regular
 \nGame Status: Complete\nHome Team: Crazy 8's\nAway Team: Fighting Crabs\n
 Home Score: 10\nAway Score: 2
END:VEVENT
BEGIN:VEVENT
UID:6977187@ezleagues.ezfacility.com
DTSTAMP:20260424T041408Z
CREATED:20260424T041408Z
DTSTART:20140512T235500Z
DTEND:20140513T005000Z
LOCATION:Field   ID 2
CONTACT:
SUMMARY:Baboon Butts VS. Crazy 8's
DESCRIPTION:League Name: Spring Indoor 2014 Women's 25+\nGame Type: Regular
 \nGame Status: Complete\nHome Team: Baboon Butts\nAway Team: Crazy 8's\nHo
 me Score: 10\nAway Score: 3
END:VEVENT
END:VCALENDAR
