BEGIN:VCALENDAR
VERSION:2.0
PRODID:-//EZFacility.com, Inc.//EZL 2.5.5.28621
BEGIN:VEVENT
UID:8309432@ezleagues.ezfacility.com
DTSTAMP:20260424T043243Z
CREATED:20260424T043243Z
DTSTART:20150528T230000Z
DTEND:20150528T234800Z
LOCATION:Jessup Premier Field #2
CONTACT:
SUMMARY:Aston Villa  VS. Black Shirts 
DESCRIPTION:League Name: Thurs Mens Open 2nd II div \nGame Type: Regular\nG
 ame Status: Complete\nHome Team: Aston Villa \nAway Team: Black Shirts \nH
 ome Score: 5\nAway Score: 4
END:VEVENT
BEGIN:VEVENT
UID:8309438@ezleagues.ezfacility.com
DTSTAMP:20260424T043243Z
CREATED:20260424T043243Z
DTSTART:20150604T230000Z
DTEND:20150604T234800Z
LOCATION:Jessup Premier Field #1
CONTACT:
SUMMARY:Aston Villa  VS. Crianza
DESCRIPTION:League Name: Thurs Mens Open 2nd II div \nGame Type: Regular\nG
 ame Status: Complete\nHome Team: Aston Villa \nAway Team: Crianza\nHome Sc
 ore: 2\nAway Score: 1
END:VEVENT
BEGIN:VEVENT
UID:8309443@ezleagues.ezfacility.com
DTSTAMP:20260424T043243Z
CREATED:20260424T043243Z
DTSTART:20150612T003000Z
DTEND:20150612T011800Z
LOCATION:Jessup Premier Field #1
CONTACT:
SUMMARY:Real Plazuela VS. Aston Villa 
DESCRIPTION:League Name: Thurs Mens Open 2nd II div \nGame Type: Regular\nG
 ame Status: Complete\nHome Team: Real Plazuela\nAway Team: Aston Villa \nH
 ome Score: 2\nAway Score: 4
END:VEVENT
BEGIN:VEVENT
UID:8309447@ezleagues.ezfacility.com
DTSTAMP:20260424T043243Z
CREATED:20260424T043243Z
DTSTART:20150618T233000Z
DTEND:20150619T001800Z
LOCATION:Jessup Premier Field #2
CONTACT:
SUMMARY:Fusion FC VS. Aston Villa 
DESCRIPTION:League Name: Thurs Mens Open 2nd II div \nGame Type: Regular\nG
 ame Status: Complete\nHome Team: Fusion FC\nAway Team: Aston Villa \nHome 
 Score: 11\nAway Score: 5
END:VEVENT
BEGIN:VEVENT
UID:8309451@ezleagues.ezfacility.com
DTSTAMP:20260424T043243Z
CREATED:20260424T043243Z
DTSTART:20150625T233000Z
DTEND:20150626T001800Z
LOCATION:Jessup Premier Field #1
CONTACT:
SUMMARY:The Law VS. Aston Villa 
DESCRIPTION:League Name: Thurs Mens Open 2nd II div \nGame Type: Regular\nG
 ame Status: Complete\nHome Team: The Law\nAway Team: Aston Villa \nHome Sc
 ore: 3\nAway Score: 6
END:VEVENT
BEGIN:VEVENT
UID:8309455@ezleagues.ezfacility.com
DTSTAMP:20260424T043243Z
CREATED:20260424T043243Z
DTSTART:20150703T003000Z
DTEND:20150703T011800Z
LOCATION:Jessup Premier Field #2
CONTACT:
SUMMARY:Suplex City FC VS. Aston Villa 
DESCRIPTION:League Name: Thurs Mens Open 2nd II div \nGame Type: Regular\nG
 ame Status: Complete\nHome Team: Suplex City FC\nAway Team: Aston Villa \n
 Home Score: 3\nAway Score: 5
END:VEVENT
BEGIN:VEVENT
UID:8309459@ezleagues.ezfacility.com
DTSTAMP:20260424T043243Z
CREATED:20260424T043243Z
DTSTART:20150709T230000Z
DTEND:20150709T234800Z
LOCATION:Jessup Premier Field #2
CONTACT:
SUMMARY:Aston Villa  VS. Magpies
DESCRIPTION:League Name: Thurs Mens Open 2nd II div \nGame Type: Regular\nG
 ame Status: Complete\nHome Team: Aston Villa \nAway Team: Magpies\nHome Sc
 ore: 6\nAway Score: 4
END:VEVENT
BEGIN:VEVENT
UID:8395002@ezleagues.ezfacility.com
DTSTAMP:20260424T043243Z
CREATED:20260424T043243Z
DTSTART:20150717T003000Z
DTEND:20150717T011800Z
LOCATION:Jessup Premier Field #1
CONTACT:
SUMMARY:Aston Villa  VS. Real Plazuela
DESCRIPTION:League Name: Thurs Mens Open 2nd II div \nGame Type: Regular\nG
 ame Status: Complete\nHome Team: Aston Villa \nAway Team: Real Plazuela\nH
 ome Score: 0\nAway Score: 3
END:VEVENT
BEGIN:VEVENT
UID:8408687@ezleagues.ezfacility.com
DTSTAMP:20260424T043243Z
CREATED:20260424T043243Z
DTSTART:20150724T000000Z
DTEND:20150724T004800Z
LOCATION:Jessup Premier Field #2
CONTACT:
SUMMARY:Aston Villa  VS. Berkshire Hunts
DESCRIPTION:League Name: Thurs Mens Open 2nd II div \nGame Type: Regular\nG
 ame Status: Complete\nHome Team: Aston Villa \nAway Team: Berkshire Hunts\
 nHome Score: 8\nAway Score: 6
END:VEVENT
END:VCALENDAR
