BEGIN:VCALENDAR
VERSION:2.0
PRODID:-//EZFacility.com, Inc.//EZL 2.5.5.28621
BEGIN:VEVENT
UID:7295446@ezleagues.ezfacility.com
DTSTAMP:20260419T131704Z
CREATED:20260419T131704Z
DTSTART:20140810T153000Z
DTEND:20140810T170000Z
LOCATION:Field D
CONTACT:
SUMMARY:Jimmini Kick It VS. Mean Machine
DESCRIPTION:League Name: 2014 Fall Outdoor Coed 0pen 7v7 Sundays -  North\n
 Game Type: Regular\nGame Status: Complete\nHome Team: Jimmini Kick It\nAwa
 y Team: Mean Machine\nHome Score: 4\nAway Score: 14
END:VEVENT
BEGIN:VEVENT
UID:7312497@ezleagues.ezfacility.com
DTSTAMP:20260419T131704Z
CREATED:20260419T131704Z
DTSTART:20140817T200000Z
DTEND:20140817T213000Z
LOCATION:Field H
CONTACT:
SUMMARY:Mean Machine VS. Grandview FC
DESCRIPTION:League Name: 2014 Fall Outdoor Coed 0pen 7v7 Sundays -  North\n
 Game Type: Regular\nGame Status: Complete\nHome Team: Mean Machine\nAway T
 eam: Grandview FC\nHome Score: 11\nAway Score: 6
END:VEVENT
BEGIN:VEVENT
UID:7312499@ezleagues.ezfacility.com
DTSTAMP:20260419T131704Z
CREATED:20260419T131704Z
DTSTART:20140824T183000Z
DTEND:20140824T200000Z
LOCATION:Field F
CONTACT:
SUMMARY:Mean Machine VS. Real Columbus
DESCRIPTION:League Name: 2014 Fall Outdoor Coed 0pen 7v7 Sundays -  North\n
 Game Type: Regular\nGame Status: Complete\nHome Team: Mean Machine\nAway T
 eam: Real Columbus\nHome Score: 8\nAway Score: 4
END:VEVENT
BEGIN:VEVENT
UID:7312509@ezleagues.ezfacility.com
DTSTAMP:20260419T131704Z
CREATED:20260419T131704Z
DTSTART:20140907T183000Z
DTEND:20140907T200000Z
LOCATION:Field C
CONTACT:
SUMMARY:We'll Pay Next Sunday VS. Mean Machine
DESCRIPTION:League Name: 2014 Fall Outdoor Coed 0pen 7v7 Sundays -  North\n
 Game Type: Regular\nGame Status: Complete\nHome Team: We'll Pay Next Sunda
 y\nAway Team: Mean Machine\nHome Score: 6\nAway Score: 9
END:VEVENT
BEGIN:VEVENT
UID:7312512@ezleagues.ezfacility.com
DTSTAMP:20260419T131704Z
CREATED:20260419T131704Z
DTSTART:20140914T200000Z
DTEND:20140914T213000Z
LOCATION:Field   ID 1
CONTACT:
SUMMARY:Mean Machine VS. Gustopolis FC
DESCRIPTION:League Name: 2014 Fall Outdoor Coed 0pen 7v7 Sundays -  North\n
 Game Type: Regular\nGame Status: Complete\nHome Team: Mean Machine\nAway T
 eam: Gustopolis FC\nHome Score: 3\nAway Score: 0
END:VEVENT
BEGIN:VEVENT
UID:7318623@ezleagues.ezfacility.com
DTSTAMP:20260419T131704Z
CREATED:20260419T131704Z
DTSTART:20140920T163000Z
DTEND:20140920T180000Z
LOCATION:Field   ID 1
CONTACT:
SUMMARY:We'll Pay Next Sunday VS. Mean Machine
DESCRIPTION:League Name: 2014 Fall Outdoor Coed 0pen 7v7 Sundays -  North\n
 Game Type: Regular\nGame Status: Cancelled\nHome Team: We'll Pay Next Sund
 ay\nAway Team: Mean Machine\n
END:VEVENT
BEGIN:VEVENT
UID:7312516@ezleagues.ezfacility.com
DTSTAMP:20260419T131704Z
CREATED:20260419T131704Z
DTSTART:20140921T183000Z
DTEND:20140921T200000Z
LOCATION:Field F
CONTACT:
SUMMARY:Mean Machine VS. Jimmini Kick It
DESCRIPTION:League Name: 2014 Fall Outdoor Coed 0pen 7v7 Sundays -  North\n
 Game Type: Regular\nGame Status: Complete\nHome Team: Mean Machine\nAway T
 eam: Jimmini Kick It\nHome Score: 11\nAway Score: 2
END:VEVENT
BEGIN:VEVENT
UID:7312517@ezleagues.ezfacility.com
DTSTAMP:20260419T131704Z
CREATED:20260419T131704Z
DTSTART:20140928T183000Z
DTEND:20140928T200000Z
LOCATION:Field D
CONTACT:
SUMMARY:Grandview FC VS. Mean Machine
DESCRIPTION:League Name: 2014 Fall Outdoor Coed 0pen 7v7 Sundays -  North\n
 Game Type: Regular\nGame Status: Complete\nHome Team: Grandview FC\nAway T
 eam: Mean Machine\nHome Score: 6\nAway Score: 3
END:VEVENT
BEGIN:VEVENT
UID:7312522@ezleagues.ezfacility.com
DTSTAMP:20260419T131704Z
CREATED:20260419T131704Z
DTSTART:20141005T183000Z
DTEND:20141005T200000Z
LOCATION:Field E
CONTACT:
SUMMARY:Real Columbus VS. Mean Machine
DESCRIPTION:League Name: 2014 Fall Outdoor Coed 0pen 7v7 Sundays -  North\n
 Game Type: Regular\nGame Status: Complete\nHome Team: Real Columbus\nAway 
 Team: Mean Machine\nHome Score: 1\nAway Score: 3
END:VEVENT
BEGIN:VEVENT
UID:7523319@ezleagues.ezfacility.com
DTSTAMP:20260419T131704Z
CREATED:20260419T131704Z
DTSTART:20141019T205000Z
DTEND:20141019T222000Z
LOCATION:Field H
CONTACT:
SUMMARY:Mean Machine VS. Grandview FC
DESCRIPTION:League Name: 2014 Fall Outdoor Coed 0pen 7v7 Sundays -  North\n
 Game Type: Postseason\nGame Status: Complete\nHome Team: Mean Machine\nAwa
 y Team: Grandview FC\nHome Score: 6\nAway Score: 7
END:VEVENT
END:VCALENDAR
