BEGIN:VCALENDAR
VERSION:2.0
PRODID:-//EZFacility.com, Inc.//EZL 2.5.5.28621
BEGIN:VEVENT
UID:676724@ezleagues.ezfacility.com
DTSTAMP:20260424T043239Z
CREATED:20260424T043239Z
DTSTART:20070422T140000Z
DTEND:20070422T160000Z
LOCATION:McDowell Mtn (North)
CONTACT:
SUMMARY:Samba VS. Inferno
DESCRIPTION:League Name: Over 30 Playoffs - Spring 2007\nGame Type: Regular
 \nGame Status: Complete\nHome Team: Samba\nAway Team: Inferno\nHome Score:
  1\nAway Score: 2
END:VEVENT
BEGIN:VEVENT
UID:676726@ezleagues.ezfacility.com
DTSTAMP:20260424T043239Z
CREATED:20260424T043239Z
DTSTART:20070429T120000Z
DTEND:20070429T140000Z
LOCATION:McDowell Mtn (North)
CONTACT:
SUMMARY:Inferno VS. Dragons FC
DESCRIPTION:League Name: Over 30 Playoffs - Spring 2007\nGame Type: Postsea
 son\nGame Status: Complete\nHome Team: Inferno\nAway Team: Dragons FC\nHom
 e Score: 3\nAway Score: 1
END:VEVENT
END:VCALENDAR
