BEGIN:VCALENDAR
VERSION:2.0
PRODID:-//EZFacility.com, Inc.//EZL 2.5.5.28621
BEGIN:VEVENT
UID:676805@ezleagues.ezfacility.com
DTSTAMP:20260424T043305Z
CREATED:20260424T043305Z
DTSTART:20070415T120000Z
DTEND:20070415T140000Z
LOCATION:Chaparral (East)
CONTACT:
SUMMARY:Suicide Kings VS. Grande Gatos
DESCRIPTION:League Name: Div. 2B Playoffs - Spring 2007\nGame Type: Regular
 \nGame Status: Complete\nHome Team: Suicide Kings\nAway Team: Grande Gatos
 \nHome Score: 5\nAway Score: 1
END:VEVENT
BEGIN:VEVENT
UID:676809@ezleagues.ezfacility.com
DTSTAMP:20260424T043305Z
CREATED:20260424T043305Z
DTSTART:20070422T160000Z
DTEND:20070422T180000Z
LOCATION:McDowell Mtn (Back)
CONTACT:
SUMMARY:Suicide Kings VS. Arsenal
DESCRIPTION:League Name: Div. 2B Playoffs - Spring 2007\nGame Type: Postsea
 son\nGame Status: Complete\nHome Team: Suicide Kings\nAway Team: Arsenal\n
 Home Score: 1\nAway Score: 2
END:VEVENT
END:VCALENDAR
