BEGIN:VCALENDAR
VERSION:2.0
PRODID:-//EZFacility.com, Inc.//EZL 2.5.5.28621
BEGIN:VEVENT
UID:7543941@ezleagues.ezfacility.com
DTSTAMP:20260424T170813Z
CREATED:20260424T170813Z
DTSTART:20141026T181800Z
DTEND:20141026T191000Z
LOCATION:Field   ID 1
CONTACT:
SUMMARY:Ross  VS. Onyx
DESCRIPTION:League Name: Fall Indoor 2014  Coed 0pen Kelly\nGame Type: Regu
 lar\nGame Status: Complete\nHome Team: Ross \nAway Team: Onyx\nHome Score:
  8\nAway Score: 2
END:VEVENT
BEGIN:VEVENT
UID:7582269@ezleagues.ezfacility.com
DTSTAMP:20260424T170813Z
CREATED:20260424T170813Z
DTSTART:20141103T002400Z
DTEND:20141103T011600Z
LOCATION:Field   ID 1
CONTACT:
SUMMARY:Ross  VS. Grandview FC
DESCRIPTION:League Name: Fall Indoor 2014  Coed 0pen Kelly\nGame Type: Regu
 lar\nGame Status: Complete\nHome Team: Ross \nAway Team: Grandview FC\nHom
 e Score: 3\nAway Score: 3
END:VEVENT
BEGIN:VEVENT
UID:7619991@ezleagues.ezfacility.com
DTSTAMP:20260424T170813Z
CREATED:20260424T170813Z
DTSTART:20141109T231200Z
DTEND:20141110T000400Z
LOCATION:Field   ID 2
CONTACT:
SUMMARY:Jimmini Kick It VS. Ross 
DESCRIPTION:League Name: Fall Indoor 2014  Coed 0pen Kelly\nGame Type: Regu
 lar\nGame Status: Complete\nHome Team: Jimmini Kick It\nAway Team: Ross \n
 Home Score: 2\nAway Score: 9
END:VEVENT
BEGIN:VEVENT
UID:7619992@ezleagues.ezfacility.com
DTSTAMP:20260424T170813Z
CREATED:20260424T170813Z
DTSTART:20141116T185700Z
DTEND:20141116T194900Z
LOCATION:Field   ID 1
CONTACT:
SUMMARY:Just Give Em the Slip VS. Ross 
DESCRIPTION:League Name: Fall Indoor 2014  Coed 0pen Kelly\nGame Type: Regu
 lar\nGame Status: Complete\nHome Team: Just Give Em the Slip\nAway Team: R
 oss \nHome Score: 5\nAway Score: 5
END:VEVENT
BEGIN:VEVENT
UID:7617609@ezleagues.ezfacility.com
DTSTAMP:20260424T170813Z
CREATED:20260424T170813Z
DTSTART:20141123T194800Z
DTEND:20141123T204000Z
LOCATION:Field   ID 1
CONTACT:
SUMMARY:Phil's Phailures VS. Ross 
DESCRIPTION:League Name: Fall Indoor 2014  Coed 0pen Kelly\nGame Type: Regu
 lar\nGame Status: Complete\nHome Team: Phil's Phailures\nAway Team: Ross \
 nHome Score: 5\nAway Score: 7
END:VEVENT
BEGIN:VEVENT
UID:7619999@ezleagues.ezfacility.com
DTSTAMP:20260424T170813Z
CREATED:20260424T170813Z
DTSTART:20141130T194800Z
DTEND:20141130T204000Z
LOCATION:Field   ID 1
CONTACT:
SUMMARY:Ross  VS. A Bit Optimistic
DESCRIPTION:League Name: Fall Indoor 2014  Coed 0pen Kelly\nGame Type: Regu
 lar\nGame Status: Complete\nHome Team: Ross \nAway Team: A Bit Optimistic\
 nHome Score: 8\nAway Score: 2
END:VEVENT
BEGIN:VEVENT
UID:7620009@ezleagues.ezfacility.com
DTSTAMP:20260424T170813Z
CREATED:20260424T170813Z
DTSTART:20141208T002400Z
DTEND:20141208T011600Z
LOCATION:Field   ID 1
CONTACT:
SUMMARY:Ross  VS. Scrubs 
DESCRIPTION:League Name: Fall Indoor 2014  Coed 0pen Kelly\nGame Type: Regu
 lar\nGame Status: Complete\nHome Team: Ross \nAway Team: Scrubs \nHome Sco
 re: 10\nAway Score: 5
END:VEVENT
BEGIN:VEVENT
UID:7620011@ezleagues.ezfacility.com
DTSTAMP:20260424T170813Z
CREATED:20260424T170813Z
DTSTART:20141214T194800Z
DTEND:20141214T204000Z
LOCATION:Field   ID 1
CONTACT:
SUMMARY:Shootist VS. Ross 
DESCRIPTION:League Name: Fall Indoor 2014  Coed 0pen Kelly\nGame Type: Regu
 lar\nGame Status: Complete\nHome Team: Shootist\nAway Team: Ross \nHome Sc
 ore: 8\nAway Score: 7
END:VEVENT
BEGIN:VEVENT
UID:7620019@ezleagues.ezfacility.com
DTSTAMP:20260424T170813Z
CREATED:20260424T170813Z
DTSTART:20141228T182700Z
DTEND:20141228T191900Z
LOCATION:Field   ID 1
CONTACT:
SUMMARY:Ross  VS. Columbus Crusaders
DESCRIPTION:League Name: Fall Indoor 2014  Coed 0pen Kelly\nGame Type: Regu
 lar\nGame Status: Complete\nHome Team: Ross \nAway Team: Columbus Crusader
 s\nHome Score: 7\nAway Score: 6
END:VEVENT
END:VCALENDAR
