BEGIN:VCALENDAR
VERSION:2.0
PRODID:-//EZFacility.com, Inc.//EZL 2.5.5.28621
BEGIN:VEVENT
UID:7570008@ezleagues.ezfacility.com
DTSTAMP:20260426T033655Z
CREATED:20260426T033655Z
DTSTART:20141028T230000Z
DTEND:20141029T000000Z
LOCATION:Indoor Field 2
CONTACT:
SUMMARY:SC Toronto Yellow 00 VS. North York Cosmos 2000
DESCRIPTION:League Name: Boys Under 15 Small Sided\nGame Type: Regular\nGam
 e Status: Pending\nHome Team: SC Toronto Yellow 00\nAway Team: North York 
 Cosmos 2000\n
END:VEVENT
BEGIN:VEVENT
UID:7570015@ezleagues.ezfacility.com
DTSTAMP:20260426T033655Z
CREATED:20260426T033655Z
DTSTART:20141105T010000Z
DTEND:20141105T020000Z
LOCATION:Indoor Field 2
CONTACT:
SUMMARY:THPFC Reds VS. SC Toronto Yellow 00
DESCRIPTION:League Name: Boys Under 15 Small Sided\nGame Type: Regular\nGam
 e Status: Pending\nHome Team: THPFC Reds\nAway Team: SC Toronto Yellow 00\
 n
END:VEVENT
BEGIN:VEVENT
UID:7570022@ezleagues.ezfacility.com
DTSTAMP:20260426T033655Z
CREATED:20260426T033655Z
DTSTART:20141112T010000Z
DTEND:20141112T020000Z
LOCATION:Indoor Field 2
CONTACT:
SUMMARY:SC Toronto Yellow 00 VS. Peniche CC Toronto B2000
DESCRIPTION:League Name: Boys Under 15 Small Sided\nGame Type: Regular\nGam
 e Status: Pending\nHome Team: SC Toronto Yellow 00\nAway Team: Peniche CC 
 Toronto B2000\n
END:VEVENT
BEGIN:VEVENT
UID:7570029@ezleagues.ezfacility.com
DTSTAMP:20260426T033655Z
CREATED:20260426T033655Z
DTSTART:20141119T020000Z
DTEND:20141119T030000Z
LOCATION:Indoor Field 2
CONTACT:
SUMMARY:Toronto High Park FC 2000 VS. SC Toronto Yellow 00
DESCRIPTION:League Name: Boys Under 15 Small Sided\nGame Type: Regular\nGam
 e Status: Pending\nHome Team: Toronto High Park FC 2000\nAway Team: SC Tor
 onto Yellow 00\n
END:VEVENT
BEGIN:VEVENT
UID:7570035@ezleagues.ezfacility.com
DTSTAMP:20260426T033655Z
CREATED:20260426T033655Z
DTSTART:20141126T000000Z
DTEND:20141126T010000Z
LOCATION:Indoor Field 1
CONTACT:
SUMMARY:SC Toronto Navy 00 VS. SC Toronto Yellow 00
DESCRIPTION:League Name: Boys Under 15 Small Sided\nGame Type: Regular\nGam
 e Status: Pending\nHome Team: SC Toronto Navy 00\nAway Team: SC Toronto Ye
 llow 00\n
END:VEVENT
BEGIN:VEVENT
UID:7570040@ezleagues.ezfacility.com
DTSTAMP:20260426T033655Z
CREATED:20260426T033655Z
DTSTART:20141203T010000Z
DTEND:20141203T020000Z
LOCATION:Indoor Field 2
CONTACT:
SUMMARY:SC Toronto Yellow 00 VS. Armour Heights B2000
DESCRIPTION:League Name: Boys Under 15 Small Sided\nGame Type: Regular\nGam
 e Status: Pending\nHome Team: SC Toronto Yellow 00\nAway Team: Armour Heig
 hts B2000\n
END:VEVENT
BEGIN:VEVENT
UID:7570045@ezleagues.ezfacility.com
DTSTAMP:20260426T033655Z
CREATED:20260426T033655Z
DTSTART:20141209T230000Z
DTEND:20141210T000000Z
LOCATION:Indoor Field 2
CONTACT:
SUMMARY:NT Nitros 2000 Boys VS. SC Toronto Yellow 00
DESCRIPTION:League Name: Boys Under 15 Small Sided\nGame Type: Regular\nGam
 e Status: Pending\nHome Team: NT Nitros 2000 Boys\nAway Team: SC Toronto Y
 ellow 00\n
END:VEVENT
BEGIN:VEVENT
UID:7570067@ezleagues.ezfacility.com
DTSTAMP:20260426T033655Z
CREATED:20260426T033655Z
DTSTART:20150106T230000Z
DTEND:20150107T000000Z
LOCATION:Indoor Field 2
CONTACT:
SUMMARY:SC Toronto Yellow 00 VS. Benfica BU15
DESCRIPTION:League Name: Boys Under 15 Small Sided\nGame Type: Regular\nGam
 e Status: Pending\nHome Team: SC Toronto Yellow 00\nAway Team: Benfica BU1
 5\n
END:VEVENT
BEGIN:VEVENT
UID:7570074@ezleagues.ezfacility.com
DTSTAMP:20260426T033655Z
CREATED:20260426T033655Z
DTSTART:20150114T000000Z
DTEND:20150114T010000Z
LOCATION:Indoor Field 2
CONTACT:
SUMMARY:North York Cosmos 2000 VS. SC Toronto Yellow 00
DESCRIPTION:League Name: Boys Under 15 Small Sided\nGame Type: Regular\nGam
 e Status: Pending\nHome Team: North York Cosmos 2000\nAway Team: SC Toront
 o Yellow 00\n
END:VEVENT
BEGIN:VEVENT
UID:7570081@ezleagues.ezfacility.com
DTSTAMP:20260426T033655Z
CREATED:20260426T033655Z
DTSTART:20150120T230000Z
DTEND:20150121T000000Z
LOCATION:Indoor Field 2
CONTACT:
SUMMARY:SC Toronto Yellow 00 VS. THPFC Reds
DESCRIPTION:League Name: Boys Under 15 Small Sided\nGame Type: Regular\nGam
 e Status: Pending\nHome Team: SC Toronto Yellow 00\nAway Team: THPFC Reds\
 n
END:VEVENT
BEGIN:VEVENT
UID:7570088@ezleagues.ezfacility.com
DTSTAMP:20260426T033655Z
CREATED:20260426T033655Z
DTSTART:20150127T230000Z
DTEND:20150128T000000Z
LOCATION:Indoor Field 2
CONTACT:
SUMMARY:Peniche CC Toronto B2000 VS. SC Toronto Yellow 00
DESCRIPTION:League Name: Boys Under 15 Small Sided\nGame Type: Regular\nGam
 e Status: Pending\nHome Team: Peniche CC Toronto B2000\nAway Team: SC Toro
 nto Yellow 00\n
END:VEVENT
BEGIN:VEVENT
UID:7570095@ezleagues.ezfacility.com
DTSTAMP:20260426T033655Z
CREATED:20260426T033655Z
DTSTART:20150203T230000Z
DTEND:20150204T000000Z
LOCATION:Indoor Field 4
CONTACT:
SUMMARY:SC Toronto Yellow 00 VS. Toronto High Park FC 2000
DESCRIPTION:League Name: Boys Under 15 Small Sided\nGame Type: Regular\nGam
 e Status: Pending\nHome Team: SC Toronto Yellow 00\nAway Team: Toronto Hig
 h Park FC 2000\n
END:VEVENT
BEGIN:VEVENT
UID:7570101@ezleagues.ezfacility.com
DTSTAMP:20260426T033655Z
CREATED:20260426T033655Z
DTSTART:20150211T020000Z
DTEND:20150211T030000Z
LOCATION:Indoor Field 2
CONTACT:
SUMMARY:SC Toronto Yellow 00 VS. SC Toronto Navy 00
DESCRIPTION:League Name: Boys Under 15 Small Sided\nGame Type: Regular\nGam
 e Status: Pending\nHome Team: SC Toronto Yellow 00\nAway Team: SC Toronto 
 Navy 00\n
END:VEVENT
BEGIN:VEVENT
UID:7570106@ezleagues.ezfacility.com
DTSTAMP:20260426T033655Z
CREATED:20260426T033655Z
DTSTART:20150218T000000Z
DTEND:20150218T010000Z
LOCATION:Indoor Field 4
CONTACT:
SUMMARY:Armour Heights B2000 VS. SC Toronto Yellow 00
DESCRIPTION:League Name: Boys Under 15 Small Sided\nGame Type: Regular\nGam
 e Status: Pending\nHome Team: Armour Heights B2000\nAway Team: SC Toronto 
 Yellow 00\n
END:VEVENT
BEGIN:VEVENT
UID:7570111@ezleagues.ezfacility.com
DTSTAMP:20260426T033655Z
CREATED:20260426T033655Z
DTSTART:20150224T230000Z
DTEND:20150225T000000Z
LOCATION:Indoor Field 4
CONTACT:
SUMMARY:SC Toronto Yellow 00 VS. NT Nitros 2000 Boys
DESCRIPTION:League Name: Boys Under 15 Small Sided\nGame Type: Regular\nGam
 e Status: Pending\nHome Team: SC Toronto Yellow 00\nAway Team: NT Nitros 2
 000 Boys\n
END:VEVENT
BEGIN:VEVENT
UID:7570121@ezleagues.ezfacility.com
DTSTAMP:20260426T033655Z
CREATED:20260426T033655Z
DTSTART:20150310T230000Z
DTEND:20150311T000000Z
LOCATION:Indoor Field 2
CONTACT:
SUMMARY:SC Toronto Yellow 00 VS. Ajax FC 00B White
DESCRIPTION:League Name: Boys Under 15 Small Sided\nGame Type: Regular\nGam
 e Status: Pending\nHome Team: SC Toronto Yellow 00\nAway Team: Ajax FC 00B
  White\n
END:VEVENT
BEGIN:VEVENT
UID:7570060@ezleagues.ezfacility.com
DTSTAMP:20260426T033655Z
CREATED:20260426T033655Z
DTSTART:20150324T230000Z
DTEND:20150325T000000Z
LOCATION:Indoor Field 2
CONTACT:
SUMMARY:Scarboro FC VS. SC Toronto Yellow 00
DESCRIPTION:League Name: Boys Under 15 Small Sided\nGame Type: Regular\nGam
 e Status: Pending\nHome Team: Scarboro FC\nAway Team: SC Toronto Yellow 00
 \n
END:VEVENT
BEGIN:VEVENT
UID:7573839@ezleagues.ezfacility.com
DTSTAMP:20260426T033655Z
CREATED:20260426T033655Z
DTSTART:20150325T010000Z
DTEND:20150325T020000Z
LOCATION:Indoor Field 1
CONTACT:
SUMMARY:Ajax FC 00B White VS. SC Toronto Yellow 00
DESCRIPTION:League Name: Boys Under 15 Small Sided\nGame Type: Regular\nGam
 e Status: Pending\nHome Team: Ajax FC 00B White\nAway Team: SC Toronto Yel
 low 00\n
END:VEVENT
END:VCALENDAR
